{"text_format":"1","workbook":"xlsx","n_sheets":3,"sheets":["Summary","Tables","Tenant Information"],"not_rendered":{"charts":0,"images":1,"macros":0,"external_links":1,"defined_names":13,"comments":0,"pivot_tables":0},"unopened":[],"bounds":{"document_bytes":16777216,"sheet_cells":100000,"rows_first":2000,"rows_last":500,"rows_between":2000,"halvings":0,"cell_chars":16384,"cell_head_chars":4096},"cells_cut":0,"cells_raw":0,"read":"whole","date_system":"1900"}

{"sheet":"Summary","index":0,"n_rows":54,"n_cols":19,"rows_kept":54,"cut":false,"hidden":false,"merged":[[53,1,53,8],[42,1,42,8],[43,1,43,8],[44,1,44,8],[45,1,45,8],[46,1,46,8],[47,1,47,8],[48,1,48,8],[49,1,49,8],[50,1,50,8],[51,1,51,8],[52,1,52,8],[41,1,41,8],[30,1,30,8],[31,1,31,8],[32,1,32,8],[33,1,33,8],[34,1,34,8],[35,1,35,8],[36,1,36,8],[37,1,37,8],[38,1,38,8],[39,1,39,8],[40,1,40,8],[29,1,29,8],[3,8,4,9],[25,1,25,8],[26,1,26,8],[27,1,27,8],[28,1,28,8]]}
[]
[null,null,null,"L5 - Rental Unit Information (RUI)"]
[]
[null,null,null,null,null,null,"Case Number:"]
[null,null,null,null,null,null,"(office use only)"]
[]
[]
[]
[]
[]
[]
[]
[]
[]
[]
[]
[]
[]
[]
[]
[]
[]
[]
[null,"Street Address(es)",null,null,null,null,null,null,null,"Total Unit(s)"]
[null,null,null,null,null,null,null,null,null,null,null,null,null,null,null,null," "]
[1,{"$f":"(IF(ISBLANK(Tables!E2),\"\",Tables!E2))","v":""},null,null,null,null,null,null,null,{"$f":"IF(SUM(--(LEN(_xlfn.UNIQUE(_xlfn._xlws.FILTER('Tenant Information'!$B$8:$B$10000,'Tenant Information'!$E$8:$E$10000=B26,\"\")))>0))=0,\"\",SUM(--(LEN(_xlfn.UNIQUE(_xlfn._xlws.FILTER('Tenant Information'!$B$8:$B$10000,'Tenant Information'!$E$8:$E$10000=$B26,\"\")))>0)))","v":""},null,"Number of Individual Addresses",null,null,null,null,null,null,{"$f":"SUM(--(LEN(_xlfn.UNIQUE('Tenant Information'!$A$8:$A$10000))>0))","v":0}]
[2,{"$f":"(IF(ISBLANK(Tables!E3),\"\",Tables!E3))","v":""},null,null,null,null,null,null,null,{"$f":"IF(SUM(--(LEN(_xlfn.UNIQUE(_xlfn._xlws.FILTER('Tenant Information'!$B$8:$B$10000,'Tenant Information'!$E$8:$E$10000=B27,\"\")))>0))=0,\"\",SUM(--(LEN(_xlfn.UNIQUE(_xlfn._xlws.FILTER('Tenant Information'!$B$8:$B$10000,'Tenant Information'!$E$8:$E$10000=$B27,\"\")))>0)))","v":""},null,"The Number of Units in the Complex",null,null,null,null,null,null,{"$f":"SUM(--(LEN(_xlfn.UNIQUE('Tenant Information'!$B$8:$B$10000))>0))","v":0}]
[3,{"$f":"(IF(ISBLANK(Tables!E4),\"\",Tables!E4))","v":""},null,null,null,null,null,null,null,{"$f":"IF(SUM(--(LEN(_xlfn.UNIQUE(_xlfn._xlws.FILTER('Tenant Information'!$B$8:$B$10000,'Tenant Information'!$E$8:$E$10000=B28,\"\")))>0))=0,\"\",SUM(--(LEN(_xlfn.UNIQUE(_xlfn._xlws.FILTER('Tenant Information'!$B$8:$B$10000,'Tenant Information'!$E$8:$E$10000=$B28,\"\")))>0)))","v":""},null,"The Number of Units covered by the application",null,null,null,null,null,null,{"$f":"SUM(--(LEN(_xlfn.UNIQUE('Tenant Information'!$C$8:$C$10000))>0))","v":0}]
[4,{"$f":"(IF(ISBLANK(Tables!E5),\"\",Tables!E5))","v":""},null,null,null,null,null,null,null,{"$f":"IF(SUM(--(LEN(_xlfn.UNIQUE(_xlfn._xlws.FILTER('Tenant Information'!$B$8:$B$10000,'Tenant Information'!$E$8:$E$10000=B29,\"\")))>0))=0,\"\",SUM(--(LEN(_xlfn.UNIQUE(_xlfn._xlws.FILTER('Tenant Information'!$B$8:$B$10000,'Tenant Information'!$E$8:$E$10000=$B29,\"\")))>0)))","v":""},null,"Number of individual tenants who are party to the application",null,null,null,null,null,null,{"$f":"SUM('Tenant Information'!$F$8:$F$10000)","v":0}]
[5,{"$f":"(IF(ISBLANK(Tables!E6),\"\",Tables!E6))","v":""},null,null,null,null,null,null,null,{"$f":"IF(SUM(--(LEN(_xlfn.UNIQUE(_xlfn._xlws.FILTER('Tenant Information'!$B$8:$B$10000,'Tenant Information'!$E$8:$E$10000=B30,\"\")))>0))=0,\"\",SUM(--(LEN(_xlfn.UNIQUE(_xlfn._xlws.FILTER('Tenant Information'!$B$8:$B$10000,'Tenant Information'!$E$8:$E$10000=$B30,\"\")))>0)))","v":""}]
[6,{"$f":"(IF(ISBLANK(Tables!E7),\"\",Tables!E7))","v":""},null,null,null,null,null,null,null,{"$f":"IF(SUM(--(LEN(_xlfn.UNIQUE(_xlfn._xlws.FILTER('Tenant Information'!$B$8:$B$10000,'Tenant Information'!$E$8:$E$10000=B31,\"\")))>0))=0,\"\",SUM(--(LEN(_xlfn.UNIQUE(_xlfn._xlws.FILTER('Tenant Information'!$B$8:$B$10000,'Tenant Information'!$E$8:$E$10000=$B31,\"\")))>0)))","v":""}]
[7,{"$f":"(IF(ISBLANK(Tables!E8),\"\",Tables!E8))","v":""},null,null,null,null,null,null,null,{"$f":"IF(SUM(--(LEN(_xlfn.UNIQUE(_xlfn._xlws.FILTER('Tenant Information'!$B$8:$B$10000,'Tenant Information'!$E$8:$E$10000=B32,\"\")))>0))=0,\"\",SUM(--(LEN(_xlfn.UNIQUE(_xlfn._xlws.FILTER('Tenant Information'!$B$8:$B$10000,'Tenant Information'!$E$8:$E$10000=$B32,\"\")))>0)))","v":""}]
[8,{"$f":"(IF(ISBLANK(Tables!E9),\"\",Tables!E9))","v":""},null,null,null,null,null,null,null,{"$f":"IF(SUM(--(LEN(_xlfn.UNIQUE(_xlfn._xlws.FILTER('Tenant Information'!$B$8:$B$10000,'Tenant Information'!$E$8:$E$10000=B33,\"\")))>0))=0,\"\",SUM(--(LEN(_xlfn.UNIQUE(_xlfn._xlws.FILTER('Tenant Information'!$B$8:$B$10000,'Tenant Information'!$E$8:$E$10000=$B33,\"\")))>0)))","v":""}]
[9,{"$f":"(IF(ISBLANK(Tables!E10),\"\",Tables!E10))","v":""},null,null,null,null,null,null,null,{"$f":"IF(SUM(--(LEN(_xlfn.UNIQUE(_xlfn._xlws.FILTER('Tenant Information'!$B$8:$B$10000,'Tenant Information'!$E$8:$E$10000=B34,\"\")))>0))=0,\"\",SUM(--(LEN(_xlfn.UNIQUE(_xlfn._xlws.FILTER('Tenant Information'!$B$8:$B$10000,'Tenant Information'!$E$8:$E$10000=$B34,\"\")))>0)))","v":""}]
[10,{"$f":"(IF(ISBLANK(Tables!E11),\"\",Tables!E11))","v":""},null,null,null,null,null,null,null,{"$f":"IF(SUM(--(LEN(_xlfn.UNIQUE(_xlfn._xlws.FILTER('Tenant Information'!$B$8:$B$10000,'Tenant Information'!$E$8:$E$10000=B35,\"\")))>0))=0,\"\",SUM(--(LEN(_xlfn.UNIQUE(_xlfn._xlws.FILTER('Tenant Information'!$B$8:$B$10000,'Tenant Information'!$E$8:$E$10000=$B35,\"\")))>0)))","v":""}]
[11,{"$f":"(IF(ISBLANK(Tables!E12),\"\",Tables!E12))","v":""},null,null,null,null,null,null,null,{"$f":"IF(SUM(--(LEN(_xlfn.UNIQUE(_xlfn._xlws.FILTER('Tenant Information'!$B$8:$B$10000,'Tenant Information'!$E$8:$E$10000=B36,\"\")))>0))=0,\"\",SUM(--(LEN(_xlfn.UNIQUE(_xlfn._xlws.FILTER('Tenant Information'!$B$8:$B$10000,'Tenant Information'!$E$8:$E$10000=$B36,\"\")))>0)))","v":""}]
[12,{"$f":"(IF(ISBLANK(Tables!E13),\"\",Tables!E13))","v":""},null,null,null,null,null,null,null,{"$f":"IF(SUM(--(LEN(_xlfn.UNIQUE(_xlfn._xlws.FILTER('Tenant Information'!$B$8:$B$10000,'Tenant Information'!$E$8:$E$10000=B37,\"\")))>0))=0,\"\",SUM(--(LEN(_xlfn.UNIQUE(_xlfn._xlws.FILTER('Tenant Information'!$B$8:$B$10000,'Tenant Information'!$E$8:$E$10000=$B37,\"\")))>0)))","v":""}]
[13,{"$f":"(IF(ISBLANK(Tables!E14),\"\",Tables!E14))","v":""},null,null,null,null,null,null,null,{"$f":"IF(SUM(--(LEN(_xlfn.UNIQUE(_xlfn._xlws.FILTER('Tenant Information'!$B$8:$B$10000,'Tenant Information'!$E$8:$E$10000=B38,\"\")))>0))=0,\"\",SUM(--(LEN(_xlfn.UNIQUE(_xlfn._xlws.FILTER('Tenant Information'!$B$8:$B$10000,'Tenant Information'!$E$8:$E$10000=$B38,\"\")))>0)))","v":""}]
[14,{"$f":"(IF(ISBLANK(Tables!E15),\"\",Tables!E15))","v":""},null,null,null,null,null,null,null,{"$f":"IF(SUM(--(LEN(_xlfn.UNIQUE(_xlfn._xlws.FILTER('Tenant Information'!$B$8:$B$10000,'Tenant Information'!$E$8:$E$10000=B39,\"\")))>0))=0,\"\",SUM(--(LEN(_xlfn.UNIQUE(_xlfn._xlws.FILTER('Tenant Information'!$B$8:$B$10000,'Tenant Information'!$E$8:$E$10000=$B39,\"\")))>0)))","v":""}]
[15,{"$f":"(IF(ISBLANK(Tables!E16),\"\",Tables!E16))","v":""},null,null,null,null,null,null,null,{"$f":"IF(SUM(--(LEN(_xlfn.UNIQUE(_xlfn._xlws.FILTER('Tenant Information'!$B$8:$B$10000,'Tenant Information'!$E$8:$E$10000=B40,\"\")))>0))=0,\"\",SUM(--(LEN(_xlfn.UNIQUE(_xlfn._xlws.FILTER('Tenant Information'!$B$8:$B$10000,'Tenant Information'!$E$8:$E$10000=$B40,\"\")))>0)))","v":""}]
[16,{"$f":"(IF(ISBLANK(Tables!E17),\"\",Tables!E17))","v":""},null,null,null,null,null,null,null,{"$f":"IF(SUM(--(LEN(_xlfn.UNIQUE(_xlfn._xlws.FILTER('Tenant Information'!$B$8:$B$10000,'Tenant Information'!$E$8:$E$10000=B41,\"\")))>0))=0,\"\",SUM(--(LEN(_xlfn.UNIQUE(_xlfn._xlws.FILTER('Tenant Information'!$B$8:$B$10000,'Tenant Information'!$E$8:$E$10000=$B41,\"\")))>0)))","v":""}]
[17,{"$f":"(IF(ISBLANK(Tables!E18),\"\",Tables!E18))","v":""},null,null,null,null,null,null,null,{"$f":"IF(SUM(--(LEN(_xlfn.UNIQUE(_xlfn._xlws.FILTER('Tenant Information'!$B$8:$B$10000,'Tenant Information'!$E$8:$E$10000=B42,\"\")))>0))=0,\"\",SUM(--(LEN(_xlfn.UNIQUE(_xlfn._xlws.FILTER('Tenant Information'!$B$8:$B$10000,'Tenant Information'!$E$8:$E$10000=$B42,\"\")))>0)))","v":""}]
[18,{"$f":"(IF(ISBLANK(Tables!E19),\"\",Tables!E19))","v":""},null,null,null,null,null,null,null,{"$f":"IF(SUM(--(LEN(_xlfn.UNIQUE(_xlfn._xlws.FILTER('Tenant Information'!$B$8:$B$10000,'Tenant Information'!$E$8:$E$10000=B43,\"\")))>0))=0,\"\",SUM(--(LEN(_xlfn.UNIQUE(_xlfn._xlws.FILTER('Tenant Information'!$B$8:$B$10000,'Tenant Information'!$E$8:$E$10000=$B43,\"\")))>0)))","v":""}]
[19,{"$f":"(IF(ISBLANK(Tables!E20),\"\",Tables!E20))","v":""},null,null,null,null,null,null,null,{"$f":"IF(SUM(--(LEN(_xlfn.UNIQUE(_xlfn._xlws.FILTER('Tenant Information'!$B$8:$B$10000,'Tenant Information'!$E$8:$E$10000=B44,\"\")))>0))=0,\"\",SUM(--(LEN(_xlfn.UNIQUE(_xlfn._xlws.FILTER('Tenant Information'!$B$8:$B$10000,'Tenant Information'!$E$8:$E$10000=$B44,\"\")))>0)))","v":""}]
[20,{"$f":"(IF(ISBLANK(Tables!E21),\"\",Tables!E21))","v":""},null,null,null,null,null,null,null,{"$f":"IF(SUM(--(LEN(_xlfn.UNIQUE(_xlfn._xlws.FILTER('Tenant Information'!$B$8:$B$10000,'Tenant Information'!$E$8:$E$10000=B45,\"\")))>0))=0,\"\",SUM(--(LEN(_xlfn.UNIQUE(_xlfn._xlws.FILTER('Tenant Information'!$B$8:$B$10000,'Tenant Information'!$E$8:$E$10000=$B45,\"\")))>0)))","v":""}]
[21,{"$f":"(IF(ISBLANK(Tables!E22),\"\",Tables!E22))","v":""},null,null,null,null,null,null,null,{"$f":"IF(SUM(--(LEN(_xlfn.UNIQUE(_xlfn._xlws.FILTER('Tenant Information'!$B$8:$B$10000,'Tenant Information'!$E$8:$E$10000=B46,\"\")))>0))=0,\"\",SUM(--(LEN(_xlfn.UNIQUE(_xlfn._xlws.FILTER('Tenant Information'!$B$8:$B$10000,'Tenant Information'!$E$8:$E$10000=$B46,\"\")))>0)))","v":""}]
[22,{"$f":"(IF(ISBLANK(Tables!E23),\"\",Tables!E23))","v":""},null,null,null,null,null,null,null,{"$f":"IF(SUM(--(LEN(_xlfn.UNIQUE(_xlfn._xlws.FILTER('Tenant Information'!$B$8:$B$10000,'Tenant Information'!$E$8:$E$10000=B47,\"\")))>0))=0,\"\",SUM(--(LEN(_xlfn.UNIQUE(_xlfn._xlws.FILTER('Tenant Information'!$B$8:$B$10000,'Tenant Information'!$E$8:$E$10000=$B47,\"\")))>0)))","v":""}]
[23,{"$f":"(IF(ISBLANK(Tables!E24),\"\",Tables!E24))","v":""},null,null,null,null,null,null,null,{"$f":"IF(SUM(--(LEN(_xlfn.UNIQUE(_xlfn._xlws.FILTER('Tenant Information'!$B$8:$B$10000,'Tenant Information'!$E$8:$E$10000=B48,\"\")))>0))=0,\"\",SUM(--(LEN(_xlfn.UNIQUE(_xlfn._xlws.FILTER('Tenant Information'!$B$8:$B$10000,'Tenant Information'!$E$8:$E$10000=$B48,\"\")))>0)))","v":""}]
[24,{"$f":"(IF(ISBLANK(Tables!E25),\"\",Tables!E25))","v":""},null,null,null,null,null,null,null,{"$f":"IF(SUM(--(LEN(_xlfn.UNIQUE(_xlfn._xlws.FILTER('Tenant Information'!$B$8:$B$10000,'Tenant Information'!$E$8:$E$10000=B49,\"\")))>0))=0,\"\",SUM(--(LEN(_xlfn.UNIQUE(_xlfn._xlws.FILTER('Tenant Information'!$B$8:$B$10000,'Tenant Information'!$E$8:$E$10000=$B49,\"\")))>0)))","v":""}]
[25,{"$f":"(IF(ISBLANK(Tables!E26),\"\",Tables!E26))","v":""},null,null,null,null,null,null,null,{"$f":"IF(SUM(--(LEN(_xlfn.UNIQUE(_xlfn._xlws.FILTER('Tenant Information'!$B$8:$B$10000,'Tenant Information'!$E$8:$E$10000=B50,\"\")))>0))=0,\"\",SUM(--(LEN(_xlfn.UNIQUE(_xlfn._xlws.FILTER('Tenant Information'!$B$8:$B$10000,'Tenant Information'!$E$8:$E$10000=$B50,\"\")))>0)))","v":""}]
[26,{"$f":"(IF(ISBLANK(Tables!E27),\"\",Tables!E27))","v":""},null,null,null,null,null,null,null,{"$f":"IF(SUM(--(LEN(_xlfn.UNIQUE(_xlfn._xlws.FILTER('Tenant Information'!$B$8:$B$10000,'Tenant Information'!$E$8:$E$10000=B51,\"\")))>0))=0,\"\",SUM(--(LEN(_xlfn.UNIQUE(_xlfn._xlws.FILTER('Tenant Information'!$B$8:$B$10000,'Tenant Information'!$E$8:$E$10000=$B51,\"\")))>0)))","v":""}]
[27,{"$f":"(IF(ISBLANK(Tables!E28),\"\",Tables!E28))","v":""},null,null,null,null,null,null,null,{"$f":"IF(SUM(--(LEN(_xlfn.UNIQUE(_xlfn._xlws.FILTER('Tenant Information'!$B$8:$B$10000,'Tenant Information'!$E$8:$E$10000=B52,\"\")))>0))=0,\"\",SUM(--(LEN(_xlfn.UNIQUE(_xlfn._xlws.FILTER('Tenant Information'!$B$8:$B$10000,'Tenant Information'!$E$8:$E$10000=$B52,\"\")))>0)))","v":""}]
[28,{"$f":"(IF(ISBLANK(Tables!E29),\"\",Tables!E29))","v":""},null,null,null,null,null,null,null,{"$f":"IF(SUM(--(LEN(_xlfn.UNIQUE(_xlfn._xlws.FILTER('Tenant Information'!$B$8:$B$10000,'Tenant Information'!$E$8:$E$10000=B53,\"\")))>0))=0,\"\",SUM(--(LEN(_xlfn.UNIQUE(_xlfn._xlws.FILTER('Tenant Information'!$B$8:$B$10000,'Tenant Information'!$E$8:$E$10000=$B53,\"\")))>0)))","v":""}]
[29,{"$f":"(IF(ISBLANK(Tables!E30),\"\",Tables!E30))","v":""},null,null,null,null,null,null,null,{"$f":"IF(SUM(--(LEN(_xlfn.UNIQUE(_xlfn._xlws.FILTER('Tenant Information'!$B$8:$B$10000,'Tenant Information'!$E$8:$E$10000=B54,\"\")))>0))=0,\"\",SUM(--(LEN(_xlfn.UNIQUE(_xlfn._xlws.FILTER('Tenant Information'!$B$8:$B$10000,'Tenant Information'!$E$8:$E$10000=$B54,\"\")))>0)))","v":""}]

{"sheet":"Tables","index":1,"n_rows":5000,"n_cols":5,"rows_kept":5000,"cut":false,"hidden":true,"merged":[]}
["Rent Frequency Picklist","Unit Covered by Application","Provinces","Street Address","Unique Array Street Address"]
["Biweekly","Yes","Alberta",{"$f":"IF(ISBLANK('Tenant Information'!$E8),\"\",'Tenant Information'!$E8)","v":""},{"$f":"_xlfn.UNIQUE(_xlfn._xlws.FILTER($D$2:$D$5000,$D$2:$D$5000<>\" \"))","v":""}]
["Weekly","No","British Columbia",{"$f":"IF(ISBLANK('Tenant Information'!E9),\"\",'Tenant Information'!E9)","v":""}]
["Monthly",null,"Manitoba",{"$f":"IF(ISBLANK('Tenant Information'!E10),\"\",'Tenant Information'!E10)","v":""}]
[null,null,"New Brunswick",{"$f":"IF(ISBLANK('Tenant Information'!E11),\"\",'Tenant Information'!E11)","v":""}]
[null,null,"Newfoundland and Labrador",{"$f":"IF(ISBLANK('Tenant Information'!E12),\"\",'Tenant Information'!E12)","v":""}]
[null,null,"Northwest Territories",{"$f":"IF(ISBLANK('Tenant Information'!E13),\"\",'Tenant Information'!E13)","v":""}]
[null,null,"Nova Scotia",{"$f":"IF(ISBLANK('Tenant Information'!E14),\"\",'Tenant Information'!E14)","v":""}]
[null,null,"Nunavut",{"$f":"IF(ISBLANK('Tenant Information'!E15),\"\",'Tenant Information'!E15)","v":""}]
[null,null,"Ontario",{"$f":"IF(ISBLANK('Tenant Information'!E16),\"\",'Tenant Information'!E16)","v":""}]
[null,null,"Prince Edward Island",{"$f":"IF(ISBLANK('Tenant Information'!E17),\"\",'Tenant Information'!E17)","v":""}]
[null,null,"Quebec",{"$f":"IF(ISBLANK('Tenant Information'!E18),\"\",'Tenant Information'!E18)","v":""}]
[null,null,"Saskatchewan",{"$f":"IF(ISBLANK('Tenant Information'!E19),\"\",'Tenant Information'!E19)","v":""}]
[null,null,"Yukon",{"$f":"IF(ISBLANK('Tenant Information'!E20),\"\",'Tenant Information'!E20)","v":""}]
[null,null,null,{"$f":"IF(ISBLANK('Tenant Information'!E21),\"\",'Tenant Information'!E21)","v":""}]
[null,null,null,{"$f":"IF(ISBLANK('Tenant Information'!E22),\"\",'Tenant Information'!E22)","v":""}]
[null,null,null,{"$f":"IF(ISBLANK('Tenant Information'!E23),\"\",'Tenant Information'!E23)","v":""}]
[null,null,null,{"$f":"IF(ISBLANK('Tenant Information'!E24),\"\",'Tenant Information'!E24)","v":""}]
[null,null,null,{"$f":"IF(ISBLANK('Tenant Information'!E25),\"\",'Tenant Information'!E25)","v":""}]
[null,null,null,{"$f":"IF(ISBLANK('Tenant Information'!E26),\"\",'Tenant Information'!E26)","v":""}]
[null,null,null,{"$f":"IF(ISBLANK('Tenant Information'!E27),\"\",'Tenant Information'!E27)","v":""}]
[null,null,null,{"$f":"IF(ISBLANK('Tenant Information'!E28),\"\",'Tenant Information'!E28)","v":""}]
[null,null,null,{"$f":"IF(ISBLANK('Tenant Information'!E29),\"\",'Tenant Information'!E29)","v":""}]
[null,null,null,{"$f":"IF(ISBLANK('Tenant Information'!E30),\"\",'Tenant Information'!E30)","v":""}]
[null,null,null,{"$f":"IF(ISBLANK('Tenant Information'!E31),\"\",'Tenant Information'!E31)","v":""}]
[null,null,null,{"$f":"IF(ISBLANK('Tenant Information'!E32),\"\",'Tenant Information'!E32)","v":""}]
[null,null,null,{"$f":"IF(ISBLANK('Tenant Information'!E33),\"\",'Tenant Information'!E33)","v":""}]
[null,null,null,{"$f":"IF(ISBLANK('Tenant Information'!E34),\"\",'Tenant Information'!E34)","v":""}]
[null,null,null,{"$f":"IF(ISBLANK('Tenant Information'!E35),\"\",'Tenant Information'!E35)","v":""}]
[null,null,null,{"$f":"IF(ISBLANK('Tenant Information'!E36),\"\",'Tenant Information'!E36)","v":""}]
[null,null,null,{"$f":"IF(ISBLANK('Tenant Information'!E37),\"\",'Tenant Information'!E37)","v":""}]
[null,null,null,{"$f":"IF(ISBLANK('Tenant Information'!E38),\"\",'Tenant Information'!E38)","v":""}]
[null,null,null,{"$f":"IF(ISBLANK('Tenant Information'!E39),\"\",'Tenant Information'!E39)","v":""}]
[null,null,null,{"$f":"IF(ISBLANK('Tenant Information'!E40),\"\",'Tenant Information'!E40)","v":""}]
[null,null,null,{"$f":"IF(ISBLANK('Tenant Information'!E41),\"\",'Tenant Information'!E41)","v":""}]
[null,null,null,{"$f":"IF(ISBLANK('Tenant Information'!E42),\"\",'Tenant Information'!E42)","v":""}]
[null,null,null,{"$f":"IF(ISBLANK('Tenant Information'!E43),\"\",'Tenant Information'!E43)","v":""}]
[null,null,null,{"$f":"IF(ISBLANK('Tenant Information'!E44),\"\",'Tenant Information'!E44)","v":""}]
[null,null,null,{"$f":"IF(ISBLANK('Tenant Information'!E45),\"\",'Tenant Information'!E45)","v":""}]
[null,null,null,{"$f":"IF(ISBLANK('Tenant Information'!E46),\"\",'Tenant Information'!E46)","v":""}]
[null,null,null,{"$f":"IF(ISBLANK('Tenant Information'!E47),\"\",'Tenant Information'!E47)","v":""}]
[null,null,null,{"$f":"IF(ISBLANK('Tenant Information'!E48),\"\",'Tenant Information'!E48)","v":""}]
[null,null,null,{"$f":"IF(ISBLANK('Tenant Information'!E49),\"\",'Tenant Information'!E49)","v":""}]
[null,null,null,{"$f":"IF(ISBLANK('Tenant Information'!E50),\"\",'Tenant Information'!E50)","v":""}]
[null,null,null,{"$f":"IF(ISBLANK('Tenant Information'!E51),\"\",'Tenant Information'!E51)","v":""}]
[null,null,null,{"$f":"IF(ISBLANK('Tenant Information'!E52),\"\",'Tenant Information'!E52)","v":""}]
[null,null,null,{"$f":"IF(ISBLANK('Tenant Information'!E53),\"\",'Tenant Information'!E53)","v":""}]
[null,null,null,{"$f":"IF(ISBLANK('Tenant Information'!E54),\"\",'Tenant Information'!E54)","v":""}]
[null,null,null,{"$f":"IF(ISBLANK('Tenant Information'!E55),\"\",'Tenant Information'!E55)","v":""}]
[null,null,null,{"$f":"IF(ISBLANK('Tenant Information'!E56),\"\",'Tenant Information'!E56)","v":""}]
[null,null,null,{"$f":"IF(ISBLANK('Tenant Information'!E57),\"\",'Tenant Information'!E57)","v":""}]
[null,null,null,{"$f":"IF(ISBLANK('Tenant Information'!E58),\"\",'Tenant Information'!E58)","v":""}]
[null,null,null,{"$f":"IF(ISBLANK('Tenant Information'!E59),\"\",'Tenant Information'!E59)","v":""}]
[null,null,null,{"$f":"IF(ISBLANK('Tenant Information'!E60),\"\",'Tenant Information'!E60)","v":""}]
[null,null,null,{"$f":"IF(ISBLANK('Tenant Information'!E61),\"\",'Tenant Information'!E61)","v":""}]
[null,null,null,{"$f":"IF(ISBLANK('Tenant Information'!E62),\"\",'Tenant Information'!E62)","v":""}]
[null,null,null,{"$f":"IF(ISBLANK('Tenant Information'!E63),\"\",'Tenant Information'!E63)","v":""}]
[null,null,null,{"$f":"IF(ISBLANK('Tenant Information'!E64),\"\",'Tenant Information'!E64)","v":""}]
[null,null,null,{"$f":"IF(ISBLANK('Tenant Information'!E65),\"\",'Tenant Information'!E65)","v":""}]
[null,null,null,{"$f":"IF(ISBLANK('Tenant Information'!E66),\"\",'Tenant Information'!E66)","v":""}]
[null,null,null,{"$f":"IF(ISBLANK('Tenant Information'!E67),\"\",'Tenant Information'!E67)","v":""}]
[null,null,null,{"$f":"IF(ISBLANK('Tenant Information'!E68),\"\",'Tenant Information'!E68)","v":""}]
[null,null,null,{"$f":"IF(ISBLANK('Tenant Information'!E69),\"\",'Tenant Information'!E69)","v":""}]
[null,null,null,{"$f":"IF(ISBLANK('Tenant Information'!E70),\"\",'Tenant Information'!E70)","v":""}]
[null,null,null,{"$f":"IF(ISBLANK('Tenant Information'!E71),\"\",'Tenant Information'!E71)","v":""}]
[null,null,null,{"$f":"IF(ISBLANK('Tenant Information'!E72),\"\",'Tenant Information'!E72)","v":""}]
[null,null,null,{"$f":"IF(ISBLANK('Tenant Information'!E73),\"\",'Tenant Information'!E73)","v":""}]
[null,null,null,{"$f":"IF(ISBLANK('Tenant Information'!E74),\"\",'Tenant Information'!E74)","v":""}]
[null,null,null,{"$f":"IF(ISBLANK('Tenant Information'!E75),\"\",'Tenant Information'!E75)","v":""}]
[null,null,null,{"$f":"IF(ISBLANK('Tenant Information'!E76),\"\",'Tenant Information'!E76)","v":""}]
[null,null,null,{"$f":"IF(ISBLANK('Tenant Information'!E77),\"\",'Tenant Information'!E77)","v":""}]
[null,null,null,{"$f":"IF(ISBLANK('Tenant Information'!E78),\"\",'Tenant Information'!E78)","v":""}]
[null,null,null,{"$f":"IF(ISBLANK('Tenant Information'!E79),\"\",'Tenant Information'!E79)","v":""}]
[null,null,null,{"$f":"IF(ISBLANK('Tenant Information'!E80),\"\",'Tenant Information'!E80)","v":""}]
[null,null,null,{"$f":"IF(ISBLANK('Tenant Information'!E81),\"\",'Tenant Information'!E81)","v":""}]
[null,null,null,{"$f":"IF(ISBLANK('Tenant Information'!E82),\"\",'Tenant Information'!E82)","v":""}]
[null,null,null,{"$f":"IF(ISBLANK('Tenant Information'!E83),\"\",'Tenant Information'!E83)","v":""}]
[null,null,null,{"$f":"IF(ISBLANK('Tenant Information'!E84),\"\",'Tenant Information'!E84)","v":""}]
[null,null,null,{"$f":"IF(ISBLANK('Tenant Information'!E85),\"\",'Tenant Information'!E85)","v":""}]
[null,null,null,{"$f":"IF(ISBLANK('Tenant Information'!E86),\"\",'Tenant Information'!E86)","v":""}]
[null,null,null,{"$f":"IF(ISBLANK('Tenant Information'!E87),\"\",'Tenant Information'!E87)","v":""}]
[null,null,null,{"$f":"IF(ISBLANK('Tenant Information'!E88),\"\",'Tenant Information'!E88)","v":""}]
[null,null,null,{"$f":"IF(ISBLANK('Tenant Information'!E89),\"\",'Tenant Information'!E89)","v":""}]
[null,null,null,{"$f":"IF(ISBLANK('Tenant Information'!E90),\"\",'Tenant Information'!E90)","v":""}]
[null,null,null,{"$f":"IF(ISBLANK('Tenant Information'!E91),\"\",'Tenant Information'!E91)","v":""}]
[null,null,null,{"$f":"IF(ISBLANK('Tenant Information'!E92),\"\",'Tenant Information'!E92)","v":""}]
[null,null,null,{"$f":"IF(ISBLANK('Tenant Information'!E93),\"\",'Tenant Information'!E93)","v":""}]
[null,null,null,{"$f":"IF(ISBLANK('Tenant Information'!E94),\"\",'Tenant Information'!E94)","v":""}]
[null,null,null,{"$f":"IF(ISBLANK('Tenant Information'!E95),\"\",'Tenant Information'!E95)","v":""}]
[null,null,null,{"$f":"IF(ISBLANK('Tenant Information'!E96),\"\",'Tenant Information'!E96)","v":""}]
[null,null,null,{"$f":"IF(ISBLANK('Tenant Information'!E97),\"\",'Tenant Information'!E97)","v":""}]
[null,null,null,{"$f":"IF(ISBLANK('Tenant Information'!E98),\"\",'Tenant Information'!E98)","v":""}]
[null,null,null,{"$f":"IF(ISBLANK('Tenant Information'!E99),\"\",'Tenant Information'!E99)","v":""}]
[null,null,null,{"$f":"IF(ISBLANK('Tenant Information'!E100),\"\",'Tenant Information'!E100)","v":""}]
[null,null,null,{"$f":"IF(ISBLANK('Tenant Information'!E101),\"\",'Tenant Information'!E101)","v":""}]
[null,null,null,{"$f":"IF(ISBLANK('Tenant Information'!E102),\"\",'Tenant Information'!E102)","v":""}]
[null,null,null,{"$f":"IF(ISBLANK('Tenant Information'!E103),\"\",'Tenant Information'!E103)","v":""}]
[null,null,null,{"$f":"IF(ISBLANK('Tenant Information'!E104),\"\",'Tenant Information'!E104)","v":""}]
[null,null,null,{"$f":"IF(ISBLANK('Tenant Information'!E105),\"\",'Tenant Information'!E105)","v":""}]
[null,null,null,{"$f":"IF(ISBLANK('Tenant Information'!E106),\"\",'Tenant Information'!E106)","v":""}]
[null,null,null,{"$f":"IF(ISBLANK('Tenant Information'!E107),\"\",'Tenant Information'!E107)","v":""}]
[null,null,null,{"$f":"IF(ISBLANK('Tenant Information'!E108),\"\",'Tenant Information'!E108)","v":""}]
[null,null,null,{"$f":"IF(ISBLANK('Tenant Information'!E109),\"\",'Tenant Information'!E109)","v":""}]
[null,null,null,{"$f":"IF(ISBLANK('Tenant Information'!E110),\"\",'Tenant Information'!E110)","v":""}]
[null,null,null,{"$f":"IF(ISBLANK('Tenant Information'!E111),\"\",'Tenant Information'!E111)","v":""}]
[null,null,null,{"$f":"IF(ISBLANK('Tenant Information'!E112),\"\",'Tenant Information'!E112)","v":""}]
[null,null,null,{"$f":"IF(ISBLANK('Tenant Information'!E113),\"\",'Tenant Information'!E113)","v":""}]
[null,null,null,{"$f":"IF(ISBLANK('Tenant Information'!E114),\"\",'Tenant Information'!E114)","v":""}]
[null,null,null,{"$f":"IF(ISBLANK('Tenant Information'!E115),\"\",'Tenant Information'!E115)","v":""}]
[null,null,null,{"$f":"IF(ISBLANK('Tenant Information'!E116),\"\",'Tenant Information'!E116)","v":""}]
[null,null,null,{"$f":"IF(ISBLANK('Tenant Information'!E117),\"\",'Tenant Information'!E117)","v":""}]
[null,null,null,{"$f":"IF(ISBLANK('Tenant Information'!E118),\"\",'Tenant Information'!E118)","v":""}]
[null,null,null,{"$f":"IF(ISBLANK('Tenant Information'!E119),\"\",'Tenant Information'!E119)","v":""}]
[null,null,null,{"$f":"IF(ISBLANK('Tenant Information'!E120),\"\",'Tenant Information'!E120)","v":""}]
[null,null,null,{"$f":"IF(ISBLANK('Tenant Information'!E121),\"\",'Tenant Information'!E121)","v":""}]
[null,null,null,{"$f":"IF(ISBLANK('Tenant Information'!E122),\"\",'Tenant Information'!E122)","v":""}]
[null,null,null,{"$f":"IF(ISBLANK('Tenant Information'!E123),\"\",'Tenant Information'!E123)","v":""}]
[null,null,null,{"$f":"IF(ISBLANK('Tenant Information'!E124),\"\",'Tenant Information'!E124)","v":""}]
[null,null,null,{"$f":"IF(ISBLANK('Tenant Information'!E125),\"\",'Tenant Information'!E125)","v":""}]
[null,null,null,{"$f":"IF(ISBLANK('Tenant Information'!E126),\"\",'Tenant Information'!E126)","v":""}]
[null,null,null,{"$f":"IF(ISBLANK('Tenant Information'!E127),\"\",'Tenant Information'!E127)","v":""}]
[null,null,null,{"$f":"IF(ISBLANK('Tenant Information'!E128),\"\",'Tenant Information'!E128)","v":""}]
[null,null,null,{"$f":"IF(ISBLANK('Tenant Information'!E129),\"\",'Tenant Information'!E129)","v":""}]
[null,null,null,{"$f":"IF(ISBLANK('Tenant Information'!E130),\"\",'Tenant Information'!E130)","v":""}]
[null,null,null,{"$f":"IF(ISBLANK('Tenant Information'!E131),\"\",'Tenant Information'!E131)","v":""}]
[null,null,null,{"$f":"IF(ISBLANK('Tenant Information'!E132),\"\",'Tenant Information'!E132)","v":""}]
[null,null,null,{"$f":"IF(ISBLANK('Tenant Information'!E133),\"\",'Tenant Information'!E133)","v":""}]
[null,null,null,{"$f":"IF(ISBLANK('Tenant Information'!E134),\"\",'Tenant Information'!E134)","v":""}]
[null,null,null,{"$f":"IF(ISBLANK('Tenant Information'!E135),\"\",'Tenant Information'!E135)","v":""}]
[null,null,null,{"$f":"IF(ISBLANK('Tenant Information'!E136),\"\",'Tenant Information'!E136)","v":""}]
[null,null,null,{"$f":"IF(ISBLANK('Tenant Information'!E137),\"\",'Tenant Information'!E137)","v":""}]
[null,null,null,{"$f":"IF(ISBLANK('Tenant Information'!E138),\"\",'Tenant Information'!E138)","v":""}]
[null,null,null,{"$f":"IF(ISBLANK('Tenant Information'!E139),\"\",'Tenant Information'!E139)","v":""}]
[null,null,null,{"$f":"IF(ISBLANK('Tenant Information'!E140),\"\",'Tenant Information'!E140)","v":""}]
[null,null,null,{"$f":"IF(ISBLANK('Tenant Information'!E141),\"\",'Tenant Information'!E141)","v":""}]
[null,null,null,{"$f":"IF(ISBLANK('Tenant Information'!E142),\"\",'Tenant Information'!E142)","v":""}]
[null,null,null,{"$f":"IF(ISBLANK('Tenant Information'!E143),\"\",'Tenant Information'!E143)","v":""}]
[null,null,null,{"$f":"IF(ISBLANK('Tenant Information'!E144),\"\",'Tenant Information'!E144)","v":""}]
[null,null,null,{"$f":"IF(ISBLANK('Tenant Information'!E145),\"\",'Tenant Information'!E145)","v":""}]
[null,null,null,{"$f":"IF(ISBLANK('Tenant Information'!E146),\"\",'Tenant Information'!E146)","v":""}]
[null,null,null,{"$f":"IF(ISBLANK('Tenant Information'!E147),\"\",'Tenant Information'!E147)","v":""}]
[null,null,null,{"$f":"IF(ISBLANK('Tenant Information'!E148),\"\",'Tenant Information'!E148)","v":""}]
[null,null,null,{"$f":"IF(ISBLANK('Tenant Information'!E149),\"\",'Tenant Information'!E149)","v":""}]
[null,null,null,{"$f":"IF(ISBLANK('Tenant Information'!E150),\"\",'Tenant Information'!E150)","v":""}]
[null,null,null,{"$f":"IF(ISBLANK('Tenant Information'!E151),\"\",'Tenant Information'!E151)","v":""}]
[null,null,null,{"$f":"IF(ISBLANK('Tenant Information'!E152),\"\",'Tenant Information'!E152)","v":""}]
[null,null,null,{"$f":"IF(ISBLANK('Tenant Information'!E153),\"\",'Tenant Information'!E153)","v":""}]
[null,null,null,{"$f":"IF(ISBLANK('Tenant Information'!E154),\"\",'Tenant Information'!E154)","v":""}]
[null,null,null,{"$f":"IF(ISBLANK('Tenant Information'!E155),\"\",'Tenant Information'!E155)","v":""}]
[null,null,null,{"$f":"IF(ISBLANK('Tenant Information'!E156),\"\",'Tenant Information'!E156)","v":""}]
[null,null,null,{"$f":"IF(ISBLANK('Tenant Information'!E157),\"\",'Tenant Information'!E157)","v":""}]
[null,null,null,{"$f":"IF(ISBLANK('Tenant Information'!E158),\"\",'Tenant Information'!E158)","v":""}]
[null,null,null,{"$f":"IF(ISBLANK('Tenant Information'!E159),\"\",'Tenant Information'!E159)","v":""}]
[null,null,null,{"$f":"IF(ISBLANK('Tenant Information'!E160),\"\",'Tenant Information'!E160)","v":""}]
[null,null,null,{"$f":"IF(ISBLANK('Tenant Information'!E161),\"\",'Tenant Information'!E161)","v":""}]
[null,null,null,{"$f":"IF(ISBLANK('Tenant Information'!E162),\"\",'Tenant Information'!E162)","v":""}]
[null,null,null,{"$f":"IF(ISBLANK('Tenant Information'!E163),\"\",'Tenant Information'!E163)","v":""}]
[null,null,null,{"$f":"IF(ISBLANK('Tenant Information'!E164),\"\",'Tenant Information'!E164)","v":""}]
[null,null,null,{"$f":"IF(ISBLANK('Tenant Information'!E165),\"\",'Tenant Information'!E165)","v":""}]
[null,null,null,{"$f":"IF(ISBLANK('Tenant Information'!E166),\"\",'Tenant Information'!E166)","v":""}]
[null,null,null,{"$f":"IF(ISBLANK('Tenant Information'!E167),\"\",'Tenant Information'!E167)","v":""}]
[null,null,null,{"$f":"IF(ISBLANK('Tenant Information'!E168),\"\",'Tenant Information'!E168)","v":""}]
[null,null,null,{"$f":"IF(ISBLANK('Tenant Information'!E169),\"\",'Tenant Information'!E169)","v":""}]
[null,null,null,{"$f":"IF(ISBLANK('Tenant Information'!E170),\"\",'Tenant Information'!E170)","v":""}]
[null,null,null,{"$f":"IF(ISBLANK('Tenant Information'!E171),\"\",'Tenant Information'!E171)","v":""}]
[null,null,null,{"$f":"IF(ISBLANK('Tenant Information'!E172),\"\",'Tenant Information'!E172)","v":""}]
[null,null,null,{"$f":"IF(ISBLANK('Tenant Information'!E173),\"\",'Tenant Information'!E173)","v":""}]
[null,null,null,{"$f":"IF(ISBLANK('Tenant Information'!E174),\"\",'Tenant Information'!E174)","v":""}]
[null,null,null,{"$f":"IF(ISBLANK('Tenant Information'!E175),\"\",'Tenant Information'!E175)","v":""}]
[null,null,null,{"$f":"IF(ISBLANK('Tenant Information'!E176),\"\",'Tenant Information'!E176)","v":""}]
[null,null,null,{"$f":"IF(ISBLANK('Tenant Information'!E177),\"\",'Tenant Information'!E177)","v":""}]
[null,null,null,{"$f":"IF(ISBLANK('Tenant Information'!E178),\"\",'Tenant Information'!E178)","v":""}]
[null,null,null,{"$f":"IF(ISBLANK('Tenant Information'!E179),\"\",'Tenant Information'!E179)","v":""}]
[null,null,null,{"$f":"IF(ISBLANK('Tenant Information'!E180),\"\",'Tenant Information'!E180)","v":""}]
[null,null,null,{"$f":"IF(ISBLANK('Tenant Information'!E181),\"\",'Tenant Information'!E181)","v":""}]
[null,null,null,{"$f":"IF(ISBLANK('Tenant Information'!E182),\"\",'Tenant Information'!E182)","v":""}]
[null,null,null,{"$f":"IF(ISBLANK('Tenant Information'!E183),\"\",'Tenant Information'!E183)","v":""}]
[null,null,null,{"$f":"IF(ISBLANK('Tenant Information'!E184),\"\",'Tenant Information'!E184)","v":""}]
[null,null,null,{"$f":"IF(ISBLANK('Tenant Information'!E185),\"\",'Tenant Information'!E185)","v":""}]
[null,null,null,{"$f":"IF(ISBLANK('Tenant Information'!E186),\"\",'Tenant Information'!E186)","v":""}]
[null,null,null,{"$f":"IF(ISBLANK('Tenant Information'!E187),\"\",'Tenant Information'!E187)","v":""}]
[null,null,null,{"$f":"IF(ISBLANK('Tenant Information'!E188),\"\",'Tenant Information'!E188)","v":""}]
[null,null,null,{"$f":"IF(ISBLANK('Tenant Information'!E189),\"\",'Tenant Information'!E189)","v":""}]
[null,null,null,{"$f":"IF(ISBLANK('Tenant Information'!E190),\"\",'Tenant Information'!E190)","v":""}]
[null,null,null,{"$f":"IF(ISBLANK('Tenant Information'!E191),\"\",'Tenant Information'!E191)","v":""}]
[null,null,null,{"$f":"IF(ISBLANK('Tenant Information'!E192),\"\",'Tenant Information'!E192)","v":""}]
[null,null,null,{"$f":"IF(ISBLANK('Tenant Information'!E193),\"\",'Tenant Information'!E193)","v":""}]
[null,null,null,{"$f":"IF(ISBLANK('Tenant Information'!E194),\"\",'Tenant Information'!E194)","v":""}]
[null,null,null,{"$f":"IF(ISBLANK('Tenant Information'!E195),\"\",'Tenant Information'!E195)","v":""}]
[null,null,null,{"$f":"IF(ISBLANK('Tenant Information'!E196),\"\",'Tenant Information'!E196)","v":""}]
[null,null,null,{"$f":"IF(ISBLANK('Tenant Information'!E197),\"\",'Tenant Information'!E197)","v":""}]
[null,null,null,{"$f":"IF(ISBLANK('Tenant Information'!E198),\"\",'Tenant Information'!E198)","v":""}]
[null,null,null,{"$f":"IF(ISBLANK('Tenant Information'!E199),\"\",'Tenant Information'!E199)","v":""}]
[null,null,null,{"$f":"IF(ISBLANK('Tenant Information'!E200),\"\",'Tenant Information'!E200)","v":""}]
[null,null,null,{"$f":"IF(ISBLANK('Tenant Information'!E201),\"\",'Tenant Information'!E201)","v":""}]
[null,null,null,{"$f":"IF(ISBLANK('Tenant Information'!E202),\"\",'Tenant Information'!E202)","v":""}]
[null,null,null,{"$f":"IF(ISBLANK('Tenant Information'!E203),\"\",'Tenant Information'!E203)","v":""}]
[null,null,null,{"$f":"IF(ISBLANK('Tenant Information'!E204),\"\",'Tenant Information'!E204)","v":""}]
[null,null,null,{"$f":"IF(ISBLANK('Tenant Information'!E205),\"\",'Tenant Information'!E205)","v":""}]
[null,null,null,{"$f":"IF(ISBLANK('Tenant Information'!E206),\"\",'Tenant Information'!E206)","v":""}]
[null,null,null,{"$f":"IF(ISBLANK('Tenant Information'!E207),\"\",'Tenant Information'!E207)","v":""}]
[null,null,null,{"$f":"IF(ISBLANK('Tenant Information'!E208),\"\",'Tenant Information'!E208)","v":""}]
[null,null,null,{"$f":"IF(ISBLANK('Tenant Information'!E209),\"\",'Tenant Information'!E209)","v":""}]
[null,null,null,{"$f":"IF(ISBLANK('Tenant Information'!E210),\"\",'Tenant Information'!E210)","v":""}]
[null,null,null,{"$f":"IF(ISBLANK('Tenant Information'!E211),\"\",'Tenant Information'!E211)","v":""}]
[null,null,null,{"$f":"IF(ISBLANK('Tenant Information'!E212),\"\",'Tenant Information'!E212)","v":""}]
[null,null,null,{"$f":"IF(ISBLANK('Tenant Information'!E213),\"\",'Tenant Information'!E213)","v":""}]
[null,null,null,{"$f":"IF(ISBLANK('Tenant Information'!E214),\"\",'Tenant Information'!E214)","v":""}]
[null,null,null,{"$f":"IF(ISBLANK('Tenant Information'!E215),\"\",'Tenant Information'!E215)","v":""}]
[null,null,null,{"$f":"IF(ISBLANK('Tenant Information'!E216),\"\",'Tenant Information'!E216)","v":""}]
[null,null,null,{"$f":"IF(ISBLANK('Tenant Information'!E217),\"\",'Tenant Information'!E217)","v":""}]
[null,null,null,{"$f":"IF(ISBLANK('Tenant Information'!E218),\"\",'Tenant Information'!E218)","v":""}]
[null,null,null,{"$f":"IF(ISBLANK('Tenant Information'!E219),\"\",'Tenant Information'!E219)","v":""}]
[null,null,null,{"$f":"IF(ISBLANK('Tenant Information'!E220),\"\",'Tenant Information'!E220)","v":""}]
[null,null,null,{"$f":"IF(ISBLANK('Tenant Information'!E221),\"\",'Tenant Information'!E221)","v":""}]
[null,null,null,{"$f":"IF(ISBLANK('Tenant Information'!E222),\"\",'Tenant Information'!E222)","v":""}]
[null,null,null,{"$f":"IF(ISBLANK('Tenant Information'!E223),\"\",'Tenant Information'!E223)","v":""}]
[null,null,null,{"$f":"IF(ISBLANK('Tenant Information'!E224),\"\",'Tenant Information'!E224)","v":""}]
[null,null,null,{"$f":"IF(ISBLANK('Tenant Information'!E225),\"\",'Tenant Information'!E225)","v":""}]
[null,null,null,{"$f":"IF(ISBLANK('Tenant Information'!E226),\"\",'Tenant Information'!E226)","v":""}]
[null,null,null,{"$f":"IF(ISBLANK('Tenant Information'!E227),\"\",'Tenant Information'!E227)","v":""}]
[null,null,null,{"$f":"IF(ISBLANK('Tenant Information'!E228),\"\",'Tenant Information'!E228)","v":""}]
[null,null,null,{"$f":"IF(ISBLANK('Tenant Information'!E229),\"\",'Tenant Information'!E229)","v":""}]
[null,null,null,{"$f":"IF(ISBLANK('Tenant Information'!E230),\"\",'Tenant Information'!E230)","v":""}]
[null,null,null,{"$f":"IF(ISBLANK('Tenant Information'!E231),\"\",'Tenant Information'!E231)","v":""}]
[null,null,null,{"$f":"IF(ISBLANK('Tenant Information'!E232),\"\",'Tenant Information'!E232)","v":""}]
[null,null,null,{"$f":"IF(ISBLANK('Tenant Information'!E233),\"\",'Tenant Information'!E233)","v":""}]
[null,null,null,{"$f":"IF(ISBLANK('Tenant Information'!E234),\"\",'Tenant Information'!E234)","v":""}]
[null,null,null,{"$f":"IF(ISBLANK('Tenant Information'!E235),\"\",'Tenant Information'!E235)","v":""}]
[null,null,null,{"$f":"IF(ISBLANK('Tenant Information'!E236),\"\",'Tenant Information'!E236)","v":""}]
[null,null,null,{"$f":"IF(ISBLANK('Tenant Information'!E237),\"\",'Tenant Information'!E237)","v":""}]
[null,null,null,{"$f":"IF(ISBLANK('Tenant Information'!E238),\"\",'Tenant Information'!E238)","v":""}]
[null,null,null,{"$f":"IF(ISBLANK('Tenant Information'!E239),\"\",'Tenant Information'!E239)","v":""}]
[null,null,null,{"$f":"IF(ISBLANK('Tenant Information'!E240),\"\",'Tenant Information'!E240)","v":""}]
[null,null,null,{"$f":"IF(ISBLANK('Tenant Information'!E241),\"\",'Tenant Information'!E241)","v":""}]
[null,null,null,{"$f":"IF(ISBLANK('Tenant Information'!E242),\"\",'Tenant Information'!E242)","v":""}]
[null,null,null,{"$f":"IF(ISBLANK('Tenant Information'!E243),\"\",'Tenant Information'!E243)","v":""}]
[null,null,null,{"$f":"IF(ISBLANK('Tenant Information'!E244),\"\",'Tenant Information'!E244)","v":""}]
[null,null,null,{"$f":"IF(ISBLANK('Tenant Information'!E245),\"\",'Tenant Information'!E245)","v":""}]
[null,null,null,{"$f":"IF(ISBLANK('Tenant Information'!E246),\"\",'Tenant Information'!E246)","v":""}]
[null,null,null,{"$f":"IF(ISBLANK('Tenant Information'!E247),\"\",'Tenant Information'!E247)","v":""}]
[null,null,null,{"$f":"IF(ISBLANK('Tenant Information'!E248),\"\",'Tenant Information'!E248)","v":""}]
[null,null,null,{"$f":"IF(ISBLANK('Tenant Information'!E249),\"\",'Tenant Information'!E249)","v":""}]
[null,null,null,{"$f":"IF(ISBLANK('Tenant Information'!E250),\"\",'Tenant Information'!E250)","v":""}]
[null,null,null,{"$f":"IF(ISBLANK('Tenant Information'!E251),\"\",'Tenant Information'!E251)","v":""}]
[null,null,null,{"$f":"IF(ISBLANK('Tenant Information'!E252),\"\",'Tenant Information'!E252)","v":""}]
[null,null,null,{"$f":"IF(ISBLANK('Tenant Information'!E253),\"\",'Tenant Information'!E253)","v":""}]
[null,null,null,{"$f":"IF(ISBLANK('Tenant Information'!E254),\"\",'Tenant Information'!E254)","v":""}]
[null,null,null,{"$f":"IF(ISBLANK('Tenant Information'!E255),\"\",'Tenant Information'!E255)","v":""}]
[null,null,null,{"$f":"IF(ISBLANK('Tenant Information'!E256),\"\",'Tenant Information'!E256)","v":""}]
[null,null,null,{"$f":"IF(ISBLANK('Tenant Information'!E257),\"\",'Tenant Information'!E257)","v":""}]
[null,null,null,{"$f":"IF(ISBLANK('Tenant Information'!E258),\"\",'Tenant Information'!E258)","v":""}]
[null,null,null,{"$f":"IF(ISBLANK('Tenant Information'!E259),\"\",'Tenant Information'!E259)","v":""}]
[null,null,null,{"$f":"IF(ISBLANK('Tenant Information'!E260),\"\",'Tenant Information'!E260)","v":""}]
[null,null,null,{"$f":"IF(ISBLANK('Tenant Information'!E261),\"\",'Tenant Information'!E261)","v":""}]
[null,null,null,{"$f":"IF(ISBLANK('Tenant Information'!E262),\"\",'Tenant Information'!E262)","v":""}]
[null,null,null,{"$f":"IF(ISBLANK('Tenant Information'!E263),\"\",'Tenant Information'!E263)","v":""}]
[null,null,null,{"$f":"IF(ISBLANK('Tenant Information'!E264),\"\",'Tenant Information'!E264)","v":""}]
[null,null,null,{"$f":"IF(ISBLANK('Tenant Information'!E265),\"\",'Tenant Information'!E265)","v":""}]
[null,null,null,{"$f":"IF(ISBLANK('Tenant Information'!E266),\"\",'Tenant Information'!E266)","v":""}]
[null,null,null,{"$f":"IF(ISBLANK('Tenant Information'!E267),\"\",'Tenant Information'!E267)","v":""}]
[null,null,null,{"$f":"IF(ISBLANK('Tenant Information'!E268),\"\",'Tenant Information'!E268)","v":""}]
[null,null,null,{"$f":"IF(ISBLANK('Tenant Information'!E269),\"\",'Tenant Information'!E269)","v":""}]
[null,null,null,{"$f":"IF(ISBLANK('Tenant Information'!E270),\"\",'Tenant Information'!E270)","v":""}]
[null,null,null,{"$f":"IF(ISBLANK('Tenant Information'!E271),\"\",'Tenant Information'!E271)","v":""}]
[null,null,null,{"$f":"IF(ISBLANK('Tenant Information'!E272),\"\",'Tenant Information'!E272)","v":""}]
[null,null,null,{"$f":"IF(ISBLANK('Tenant Information'!E273),\"\",'Tenant Information'!E273)","v":""}]
[null,null,null,{"$f":"IF(ISBLANK('Tenant Information'!E274),\"\",'Tenant Information'!E274)","v":""}]
[null,null,null,{"$f":"IF(ISBLANK('Tenant Information'!E275),\"\",'Tenant Information'!E275)","v":""}]
[null,null,null,{"$f":"IF(ISBLANK('Tenant Information'!E276),\"\",'Tenant Information'!E276)","v":""}]
[null,null,null,{"$f":"IF(ISBLANK('Tenant Information'!E277),\"\",'Tenant Information'!E277)","v":""}]
[null,null,null,{"$f":"IF(ISBLANK('Tenant Information'!E278),\"\",'Tenant Information'!E278)","v":""}]
[null,null,null,{"$f":"IF(ISBLANK('Tenant Information'!E279),\"\",'Tenant Information'!E279)","v":""}]
[null,null,null,{"$f":"IF(ISBLANK('Tenant Information'!E280),\"\",'Tenant Information'!E280)","v":""}]
[null,null,null,{"$f":"IF(ISBLANK('Tenant Information'!E281),\"\",'Tenant Information'!E281)","v":""}]
[null,null,null,{"$f":"IF(ISBLANK('Tenant Information'!E282),\"\",'Tenant Information'!E282)","v":""}]
[null,null,null,{"$f":"IF(ISBLANK('Tenant Information'!E283),\"\",'Tenant Information'!E283)","v":""}]
[null,null,null,{"$f":"IF(ISBLANK('Tenant Information'!E284),\"\",'Tenant Information'!E284)","v":""}]
[null,null,null,{"$f":"IF(ISBLANK('Tenant Information'!E285),\"\",'Tenant Information'!E285)","v":""}]
[null,null,null,{"$f":"IF(ISBLANK('Tenant Information'!E286),\"\",'Tenant Information'!E286)","v":""}]
[null,null,null,{"$f":"IF(ISBLANK('Tenant Information'!E287),\"\",'Tenant Information'!E287)","v":""}]
[null,null,null,{"$f":"IF(ISBLANK('Tenant Information'!E288),\"\",'Tenant Information'!E288)","v":""}]
[null,null,null,{"$f":"IF(ISBLANK('Tenant Information'!E289),\"\",'Tenant Information'!E289)","v":""}]
[null,null,null,{"$f":"IF(ISBLANK('Tenant Information'!E290),\"\",'Tenant Information'!E290)","v":""}]
[null,null,null,{"$f":"IF(ISBLANK('Tenant Information'!E291),\"\",'Tenant Information'!E291)","v":""}]
[null,null,null,{"$f":"IF(ISBLANK('Tenant Information'!E292),\"\",'Tenant Information'!E292)","v":""}]
[null,null,null,{"$f":"IF(ISBLANK('Tenant Information'!E293),\"\",'Tenant Information'!E293)","v":""}]
[null,null,null,{"$f":"IF(ISBLANK('Tenant Information'!E294),\"\",'Tenant Information'!E294)","v":""}]
[null,null,null,{"$f":"IF(ISBLANK('Tenant Information'!E295),\"\",'Tenant Information'!E295)","v":""}]
[null,null,null,{"$f":"IF(ISBLANK('Tenant Information'!E296),\"\",'Tenant Information'!E296)","v":""}]
[null,null,null,{"$f":"IF(ISBLANK('Tenant Information'!E297),\"\",'Tenant Information'!E297)","v":""}]
[null,null,null,{"$f":"IF(ISBLANK('Tenant Information'!E298),\"\",'Tenant Information'!E298)","v":""}]
[null,null,null,{"$f":"IF(ISBLANK('Tenant Information'!E299),\"\",'Tenant Information'!E299)","v":""}]
[null,null,null,{"$f":"IF(ISBLANK('Tenant Information'!E300),\"\",'Tenant Information'!E300)","v":""}]
[null,null,null,{"$f":"IF(ISBLANK('Tenant Information'!E301),\"\",'Tenant Information'!E301)","v":""}]
[null,null,null,{"$f":"IF(ISBLANK('Tenant Information'!E302),\"\",'Tenant Information'!E302)","v":""}]
[null,null,null,{"$f":"IF(ISBLANK('Tenant Information'!E303),\"\",'Tenant Information'!E303)","v":""}]
[null,null,null,{"$f":"IF(ISBLANK('Tenant Information'!E304),\"\",'Tenant Information'!E304)","v":""}]
[null,null,null,{"$f":"IF(ISBLANK('Tenant Information'!E305),\"\",'Tenant Information'!E305)","v":""}]
[null,null,null,{"$f":"IF(ISBLANK('Tenant Information'!E306),\"\",'Tenant Information'!E306)","v":""}]
[null,null,null,{"$f":"IF(ISBLANK('Tenant Information'!E307),\"\",'Tenant Information'!E307)","v":""}]
[null,null,null,{"$f":"IF(ISBLANK('Tenant Information'!E308),\"\",'Tenant Information'!E308)","v":""}]
[null,null,null,{"$f":"IF(ISBLANK('Tenant Information'!E309),\"\",'Tenant Information'!E309)","v":""}]
[null,null,null,{"$f":"IF(ISBLANK('Tenant Information'!E310),\"\",'Tenant Information'!E310)","v":""}]
[null,null,null,{"$f":"IF(ISBLANK('Tenant Information'!E311),\"\",'Tenant Information'!E311)","v":""}]
[null,null,null,{"$f":"IF(ISBLANK('Tenant Information'!E312),\"\",'Tenant Information'!E312)","v":""}]
[null,null,null,{"$f":"IF(ISBLANK('Tenant Information'!E313),\"\",'Tenant Information'!E313)","v":""}]
[null,null,null,{"$f":"IF(ISBLANK('Tenant Information'!E314),\"\",'Tenant Information'!E314)","v":""}]
[null,null,null,{"$f":"IF(ISBLANK('Tenant Information'!E315),\"\",'Tenant Information'!E315)","v":""}]
[null,null,null,{"$f":"IF(ISBLANK('Tenant Information'!E316),\"\",'Tenant Information'!E316)","v":""}]
[null,null,null,{"$f":"IF(ISBLANK('Tenant Information'!E317),\"\",'Tenant Information'!E317)","v":""}]
[null,null,null,{"$f":"IF(ISBLANK('Tenant Information'!E318),\"\",'Tenant Information'!E318)","v":""}]
[null,null,null,{"$f":"IF(ISBLANK('Tenant Information'!E319),\"\",'Tenant Information'!E319)","v":""}]
[null,null,null,{"$f":"IF(ISBLANK('Tenant Information'!E320),\"\",'Tenant Information'!E320)","v":""}]
[null,null,null,{"$f":"IF(ISBLANK('Tenant Information'!E321),\"\",'Tenant Information'!E321)","v":""}]
[null,null,null,{"$f":"IF(ISBLANK('Tenant Information'!E322),\"\",'Tenant Information'!E322)","v":""}]
[null,null,null,{"$f":"IF(ISBLANK('Tenant Information'!E323),\"\",'Tenant Information'!E323)","v":""}]
[null,null,null,{"$f":"IF(ISBLANK('Tenant Information'!E324),\"\",'Tenant Information'!E324)","v":""}]
[null,null,null,{"$f":"IF(ISBLANK('Tenant Information'!E325),\"\",'Tenant Information'!E325)","v":""}]
[null,null,null,{"$f":"IF(ISBLANK('Tenant Information'!E326),\"\",'Tenant Information'!E326)","v":""}]
[null,null,null,{"$f":"IF(ISBLANK('Tenant Information'!E327),\"\",'Tenant Information'!E327)","v":""}]
[null,null,null,{"$f":"IF(ISBLANK('Tenant Information'!E328),\"\",'Tenant Information'!E328)","v":""}]
[null,null,null,{"$f":"IF(ISBLANK('Tenant Information'!E329),\"\",'Tenant Information'!E329)","v":""}]
[null,null,null,{"$f":"IF(ISBLANK('Tenant Information'!E330),\"\",'Tenant Information'!E330)","v":""}]
[null,null,null,{"$f":"IF(ISBLANK('Tenant Information'!E331),\"\",'Tenant Information'!E331)","v":""}]
[null,null,null,{"$f":"IF(ISBLANK('Tenant Information'!E332),\"\",'Tenant Information'!E332)","v":""}]
[null,null,null,{"$f":"IF(ISBLANK('Tenant Information'!E333),\"\",'Tenant Information'!E333)","v":""}]
[null,null,null,{"$f":"IF(ISBLANK('Tenant Information'!E334),\"\",'Tenant Information'!E334)","v":""}]
[null,null,null,{"$f":"IF(ISBLANK('Tenant Information'!E335),\"\",'Tenant Information'!E335)","v":""}]
[null,null,null,{"$f":"IF(ISBLANK('Tenant Information'!E336),\"\",'Tenant Information'!E336)","v":""}]
[null,null,null,{"$f":"IF(ISBLANK('Tenant Information'!E337),\"\",'Tenant Information'!E337)","v":""}]
[null,null,null,{"$f":"IF(ISBLANK('Tenant Information'!E338),\"\",'Tenant Information'!E338)","v":""}]
[null,null,null,{"$f":"IF(ISBLANK('Tenant Information'!E339),\"\",'Tenant Information'!E339)","v":""}]
[null,null,null,{"$f":"IF(ISBLANK('Tenant Information'!E340),\"\",'Tenant Information'!E340)","v":""}]
[null,null,null,{"$f":"IF(ISBLANK('Tenant Information'!E341),\"\",'Tenant Information'!E341)","v":""}]
[null,null,null,{"$f":"IF(ISBLANK('Tenant Information'!E342),\"\",'Tenant Information'!E342)","v":""}]
[null,null,null,{"$f":"IF(ISBLANK('Tenant Information'!E343),\"\",'Tenant Information'!E343)","v":""}]
[null,null,null,{"$f":"IF(ISBLANK('Tenant Information'!E344),\"\",'Tenant Information'!E344)","v":""}]
[null,null,null,{"$f":"IF(ISBLANK('Tenant Information'!E345),\"\",'Tenant Information'!E345)","v":""}]
[null,null,null,{"$f":"IF(ISBLANK('Tenant Information'!E346),\"\",'Tenant Information'!E346)","v":""}]
[null,null,null,{"$f":"IF(ISBLANK('Tenant Information'!E347),\"\",'Tenant Information'!E347)","v":""}]
[null,null,null,{"$f":"IF(ISBLANK('Tenant Information'!E348),\"\",'Tenant Information'!E348)","v":""}]
[null,null,null,{"$f":"IF(ISBLANK('Tenant Information'!E349),\"\",'Tenant Information'!E349)","v":""}]
[null,null,null,{"$f":"IF(ISBLANK('Tenant Information'!E350),\"\",'Tenant Information'!E350)","v":""}]
[null,null,null,{"$f":"IF(ISBLANK('Tenant Information'!E351),\"\",'Tenant Information'!E351)","v":""}]
[null,null,null,{"$f":"IF(ISBLANK('Tenant Information'!E352),\"\",'Tenant Information'!E352)","v":""}]
[null,null,null,{"$f":"IF(ISBLANK('Tenant Information'!E353),\"\",'Tenant Information'!E353)","v":""}]
[null,null,null,{"$f":"IF(ISBLANK('Tenant Information'!E354),\"\",'Tenant Information'!E354)","v":""}]
[null,null,null,{"$f":"IF(ISBLANK('Tenant Information'!E355),\"\",'Tenant Information'!E355)","v":""}]
[null,null,null,{"$f":"IF(ISBLANK('Tenant Information'!E356),\"\",'Tenant Information'!E356)","v":""}]
[null,null,null,{"$f":"IF(ISBLANK('Tenant Information'!E357),\"\",'Tenant Information'!E357)","v":""}]
[null,null,null,{"$f":"IF(ISBLANK('Tenant Information'!E358),\"\",'Tenant Information'!E358)","v":""}]
[null,null,null,{"$f":"IF(ISBLANK('Tenant Information'!E359),\"\",'Tenant Information'!E359)","v":""}]
[null,null,null,{"$f":"IF(ISBLANK('Tenant Information'!E360),\"\",'Tenant Information'!E360)","v":""}]
[null,null,null,{"$f":"IF(ISBLANK('Tenant Information'!E361),\"\",'Tenant Information'!E361)","v":""}]
[null,null,null,{"$f":"IF(ISBLANK('Tenant Information'!E362),\"\",'Tenant Information'!E362)","v":""}]
[null,null,null,{"$f":"IF(ISBLANK('Tenant Information'!E363),\"\",'Tenant Information'!E363)","v":""}]
[null,null,null,{"$f":"IF(ISBLANK('Tenant Information'!E364),\"\",'Tenant Information'!E364)","v":""}]
[null,null,null,{"$f":"IF(ISBLANK('Tenant Information'!E365),\"\",'Tenant Information'!E365)","v":""}]
[null,null,null,{"$f":"IF(ISBLANK('Tenant Information'!E366),\"\",'Tenant Information'!E366)","v":""}]
[null,null,null,{"$f":"IF(ISBLANK('Tenant Information'!E367),\"\",'Tenant Information'!E367)","v":""}]
[null,null,null,{"$f":"IF(ISBLANK('Tenant Information'!E368),\"\",'Tenant Information'!E368)","v":""}]
[null,null,null,{"$f":"IF(ISBLANK('Tenant Information'!E369),\"\",'Tenant Information'!E369)","v":""}]
[null,null,null,{"$f":"IF(ISBLANK('Tenant Information'!E370),\"\",'Tenant Information'!E370)","v":""}]
[null,null,null,{"$f":"IF(ISBLANK('Tenant Information'!E371),\"\",'Tenant Information'!E371)","v":""}]
[null,null,null,{"$f":"IF(ISBLANK('Tenant Information'!E372),\"\",'Tenant Information'!E372)","v":""}]
[null,null,null,{"$f":"IF(ISBLANK('Tenant Information'!E373),\"\",'Tenant Information'!E373)","v":""}]
[null,null,null,{"$f":"IF(ISBLANK('Tenant Information'!E374),\"\",'Tenant Information'!E374)","v":""}]
[null,null,null,{"$f":"IF(ISBLANK('Tenant Information'!E375),\"\",'Tenant Information'!E375)","v":""}]
[null,null,null,{"$f":"IF(ISBLANK('Tenant Information'!E376),\"\",'Tenant Information'!E376)","v":""}]
[null,null,null,{"$f":"IF(ISBLANK('Tenant Information'!E377),\"\",'Tenant Information'!E377)","v":""}]
[null,null,null,{"$f":"IF(ISBLANK('Tenant Information'!E378),\"\",'Tenant Information'!E378)","v":""}]
[null,null,null,{"$f":"IF(ISBLANK('Tenant Information'!E379),\"\",'Tenant Information'!E379)","v":""}]
[null,null,null,{"$f":"IF(ISBLANK('Tenant Information'!E380),\"\",'Tenant Information'!E380)","v":""}]
[null,null,null,{"$f":"IF(ISBLANK('Tenant Information'!E381),\"\",'Tenant Information'!E381)","v":""}]
[null,null,null,{"$f":"IF(ISBLANK('Tenant Information'!E382),\"\",'Tenant Information'!E382)","v":""}]
[null,null,null,{"$f":"IF(ISBLANK('Tenant Information'!E383),\"\",'Tenant Information'!E383)","v":""}]
[null,null,null,{"$f":"IF(ISBLANK('Tenant Information'!E384),\"\",'Tenant Information'!E384)","v":""}]
[null,null,null,{"$f":"IF(ISBLANK('Tenant Information'!E385),\"\",'Tenant Information'!E385)","v":""}]
[null,null,null,{"$f":"IF(ISBLANK('Tenant Information'!E386),\"\",'Tenant Information'!E386)","v":""}]
[null,null,null,{"$f":"IF(ISBLANK('Tenant Information'!E387),\"\",'Tenant Information'!E387)","v":""}]
[null,null,null,{"$f":"IF(ISBLANK('Tenant Information'!E388),\"\",'Tenant Information'!E388)","v":""}]
[null,null,null,{"$f":"IF(ISBLANK('Tenant Information'!E389),\"\",'Tenant Information'!E389)","v":""}]
[null,null,null,{"$f":"IF(ISBLANK('Tenant Information'!E390),\"\",'Tenant Information'!E390)","v":""}]
[null,null,null,{"$f":"IF(ISBLANK('Tenant Information'!E391),\"\",'Tenant Information'!E391)","v":""}]
[null,null,null,{"$f":"IF(ISBLANK('Tenant Information'!E392),\"\",'Tenant Information'!E392)","v":""}]
[null,null,null,{"$f":"IF(ISBLANK('Tenant Information'!E393),\"\",'Tenant Information'!E393)","v":""}]
[null,null,null,{"$f":"IF(ISBLANK('Tenant Information'!E394),\"\",'Tenant Information'!E394)","v":""}]
[null,null,null,{"$f":"IF(ISBLANK('Tenant Information'!E395),\"\",'Tenant Information'!E395)","v":""}]
[null,null,null,{"$f":"IF(ISBLANK('Tenant Information'!E396),\"\",'Tenant Information'!E396)","v":""}]
[null,null,null,{"$f":"IF(ISBLANK('Tenant Information'!E397),\"\",'Tenant Information'!E397)","v":""}]
[null,null,null,{"$f":"IF(ISBLANK('Tenant Information'!E398),\"\",'Tenant Information'!E398)","v":""}]
[null,null,null,{"$f":"IF(ISBLANK('Tenant Information'!E399),\"\",'Tenant Information'!E399)","v":""}]
[null,null,null,{"$f":"IF(ISBLANK('Tenant Information'!E400),\"\",'Tenant Information'!E400)","v":""}]
[null,null,null,{"$f":"IF(ISBLANK('Tenant Information'!E401),\"\",'Tenant Information'!E401)","v":""}]
[null,null,null,{"$f":"IF(ISBLANK('Tenant Information'!E402),\"\",'Tenant Information'!E402)","v":""}]
[null,null,null,{"$f":"IF(ISBLANK('Tenant Information'!E403),\"\",'Tenant Information'!E403)","v":""}]
[null,null,null,{"$f":"IF(ISBLANK('Tenant Information'!E404),\"\",'Tenant Information'!E404)","v":""}]
[null,null,null,{"$f":"IF(ISBLANK('Tenant Information'!E405),\"\",'Tenant Information'!E405)","v":""}]
[null,null,null,{"$f":"IF(ISBLANK('Tenant Information'!E406),\"\",'Tenant Information'!E406)","v":""}]
[null,null,null,{"$f":"IF(ISBLANK('Tenant Information'!E407),\"\",'Tenant Information'!E407)","v":""}]
[null,null,null,{"$f":"IF(ISBLANK('Tenant Information'!E408),\"\",'Tenant Information'!E408)","v":""}]
[null,null,null,{"$f":"IF(ISBLANK('Tenant Information'!E409),\"\",'Tenant Information'!E409)","v":""}]
[null,null,null,{"$f":"IF(ISBLANK('Tenant Information'!E410),\"\",'Tenant Information'!E410)","v":""}]
[null,null,null,{"$f":"IF(ISBLANK('Tenant Information'!E411),\"\",'Tenant Information'!E411)","v":""}]
[null,null,null,{"$f":"IF(ISBLANK('Tenant Information'!E412),\"\",'Tenant Information'!E412)","v":""}]
[null,null,null,{"$f":"IF(ISBLANK('Tenant Information'!E413),\"\",'Tenant Information'!E413)","v":""}]
[null,null,null,{"$f":"IF(ISBLANK('Tenant Information'!E414),\"\",'Tenant Information'!E414)","v":""}]
[null,null,null,{"$f":"IF(ISBLANK('Tenant Information'!E415),\"\",'Tenant Information'!E415)","v":""}]
[null,null,null,{"$f":"IF(ISBLANK('Tenant Information'!E416),\"\",'Tenant Information'!E416)","v":""}]
[null,null,null,{"$f":"IF(ISBLANK('Tenant Information'!E417),\"\",'Tenant Information'!E417)","v":""}]
[null,null,null,{"$f":"IF(ISBLANK('Tenant Information'!E418),\"\",'Tenant Information'!E418)","v":""}]
[null,null,null,{"$f":"IF(ISBLANK('Tenant Information'!E419),\"\",'Tenant Information'!E419)","v":""}]
[null,null,null,{"$f":"IF(ISBLANK('Tenant Information'!E420),\"\",'Tenant Information'!E420)","v":""}]
[null,null,null,{"$f":"IF(ISBLANK('Tenant Information'!E421),\"\",'Tenant Information'!E421)","v":""}]
[null,null,null,{"$f":"IF(ISBLANK('Tenant Information'!E422),\"\",'Tenant Information'!E422)","v":""}]
[null,null,null,{"$f":"IF(ISBLANK('Tenant Information'!E423),\"\",'Tenant Information'!E423)","v":""}]
[null,null,null,{"$f":"IF(ISBLANK('Tenant Information'!E424),\"\",'Tenant Information'!E424)","v":""}]
[null,null,null,{"$f":"IF(ISBLANK('Tenant Information'!E425),\"\",'Tenant Information'!E425)","v":""}]
[null,null,null,{"$f":"IF(ISBLANK('Tenant Information'!E426),\"\",'Tenant Information'!E426)","v":""}]
[null,null,null,{"$f":"IF(ISBLANK('Tenant Information'!E427),\"\",'Tenant Information'!E427)","v":""}]
[null,null,null,{"$f":"IF(ISBLANK('Tenant Information'!E428),\"\",'Tenant Information'!E428)","v":""}]
[null,null,null,{"$f":"IF(ISBLANK('Tenant Information'!E429),\"\",'Tenant Information'!E429)","v":""}]
[null,null,null,{"$f":"IF(ISBLANK('Tenant Information'!E430),\"\",'Tenant Information'!E430)","v":""}]
[null,null,null,{"$f":"IF(ISBLANK('Tenant Information'!E431),\"\",'Tenant Information'!E431)","v":""}]
[null,null,null,{"$f":"IF(ISBLANK('Tenant Information'!E432),\"\",'Tenant Information'!E432)","v":""}]
[null,null,null,{"$f":"IF(ISBLANK('Tenant Information'!E433),\"\",'Tenant Information'!E433)","v":""}]
[null,null,null,{"$f":"IF(ISBLANK('Tenant Information'!E434),\"\",'Tenant Information'!E434)","v":""}]
[null,null,null,{"$f":"IF(ISBLANK('Tenant Information'!E435),\"\",'Tenant Information'!E435)","v":""}]
[null,null,null,{"$f":"IF(ISBLANK('Tenant Information'!E436),\"\",'Tenant Information'!E436)","v":""}]
[null,null,null,{"$f":"IF(ISBLANK('Tenant Information'!E437),\"\",'Tenant Information'!E437)","v":""}]
[null,null,null,{"$f":"IF(ISBLANK('Tenant Information'!E438),\"\",'Tenant Information'!E438)","v":""}]
[null,null,null,{"$f":"IF(ISBLANK('Tenant Information'!E439),\"\",'Tenant Information'!E439)","v":""}]
[null,null,null,{"$f":"IF(ISBLANK('Tenant Information'!E440),\"\",'Tenant Information'!E440)","v":""}]
[null,null,null,{"$f":"IF(ISBLANK('Tenant Information'!E441),\"\",'Tenant Information'!E441)","v":""}]
[null,null,null,{"$f":"IF(ISBLANK('Tenant Information'!E442),\"\",'Tenant Information'!E442)","v":""}]
[null,null,null,{"$f":"IF(ISBLANK('Tenant Information'!E443),\"\",'Tenant Information'!E443)","v":""}]
[null,null,null,{"$f":"IF(ISBLANK('Tenant Information'!E444),\"\",'Tenant Information'!E444)","v":""}]
[null,null,null,{"$f":"IF(ISBLANK('Tenant Information'!E445),\"\",'Tenant Information'!E445)","v":""}]
[null,null,null,{"$f":"IF(ISBLANK('Tenant Information'!E446),\"\",'Tenant Information'!E446)","v":""}]
[null,null,null,{"$f":"IF(ISBLANK('Tenant Information'!E447),\"\",'Tenant Information'!E447)","v":""}]
[null,null,null,{"$f":"IF(ISBLANK('Tenant Information'!E448),\"\",'Tenant Information'!E448)","v":""}]
[null,null,null,{"$f":"IF(ISBLANK('Tenant Information'!E449),\"\",'Tenant Information'!E449)","v":""}]
[null,null,null,{"$f":"IF(ISBLANK('Tenant Information'!E450),\"\",'Tenant Information'!E450)","v":""}]
[null,null,null,{"$f":"IF(ISBLANK('Tenant Information'!E451),\"\",'Tenant Information'!E451)","v":""}]
[null,null,null,{"$f":"IF(ISBLANK('Tenant Information'!E452),\"\",'Tenant Information'!E452)","v":""}]
[null,null,null,{"$f":"IF(ISBLANK('Tenant Information'!E453),\"\",'Tenant Information'!E453)","v":""}]
[null,null,null,{"$f":"IF(ISBLANK('Tenant Information'!E454),\"\",'Tenant Information'!E454)","v":""}]
[null,null,null,{"$f":"IF(ISBLANK('Tenant Information'!E455),\"\",'Tenant Information'!E455)","v":""}]
[null,null,null,{"$f":"IF(ISBLANK('Tenant Information'!E456),\"\",'Tenant Information'!E456)","v":""}]
[null,null,null,{"$f":"IF(ISBLANK('Tenant Information'!E457),\"\",'Tenant Information'!E457)","v":""}]
[null,null,null,{"$f":"IF(ISBLANK('Tenant Information'!E458),\"\",'Tenant Information'!E458)","v":""}]
[null,null,null,{"$f":"IF(ISBLANK('Tenant Information'!E459),\"\",'Tenant Information'!E459)","v":""}]
[null,null,null,{"$f":"IF(ISBLANK('Tenant Information'!E460),\"\",'Tenant Information'!E460)","v":""}]
[null,null,null,{"$f":"IF(ISBLANK('Tenant Information'!E461),\"\",'Tenant Information'!E461)","v":""}]
[null,null,null,{"$f":"IF(ISBLANK('Tenant Information'!E462),\"\",'Tenant Information'!E462)","v":""}]
[null,null,null,{"$f":"IF(ISBLANK('Tenant Information'!E463),\"\",'Tenant Information'!E463)","v":""}]
[null,null,null,{"$f":"IF(ISBLANK('Tenant Information'!E464),\"\",'Tenant Information'!E464)","v":""}]
[null,null,null,{"$f":"IF(ISBLANK('Tenant Information'!E465),\"\",'Tenant Information'!E465)","v":""}]
[null,null,null,{"$f":"IF(ISBLANK('Tenant Information'!E466),\"\",'Tenant Information'!E466)","v":""}]
[null,null,null,{"$f":"IF(ISBLANK('Tenant Information'!E467),\"\",'Tenant Information'!E467)","v":""}]
[null,null,null,{"$f":"IF(ISBLANK('Tenant Information'!E468),\"\",'Tenant Information'!E468)","v":""}]
[null,null,null,{"$f":"IF(ISBLANK('Tenant Information'!E469),\"\",'Tenant Information'!E469)","v":""}]
[null,null,null,{"$f":"IF(ISBLANK('Tenant Information'!E470),\"\",'Tenant Information'!E470)","v":""}]
[null,null,null,{"$f":"IF(ISBLANK('Tenant Information'!E471),\"\",'Tenant Information'!E471)","v":""}]
[null,null,null,{"$f":"IF(ISBLANK('Tenant Information'!E472),\"\",'Tenant Information'!E472)","v":""}]
[null,null,null,{"$f":"IF(ISBLANK('Tenant Information'!E473),\"\",'Tenant Information'!E473)","v":""}]
[null,null,null,{"$f":"IF(ISBLANK('Tenant Information'!E474),\"\",'Tenant Information'!E474)","v":""}]
[null,null,null,{"$f":"IF(ISBLANK('Tenant Information'!E475),\"\",'Tenant Information'!E475)","v":""}]
[null,null,null,{"$f":"IF(ISBLANK('Tenant Information'!E476),\"\",'Tenant Information'!E476)","v":""}]
[null,null,null,{"$f":"IF(ISBLANK('Tenant Information'!E477),\"\",'Tenant Information'!E477)","v":""}]
[null,null,null,{"$f":"IF(ISBLANK('Tenant Information'!E478),\"\",'Tenant Information'!E478)","v":""}]
[null,null,null,{"$f":"IF(ISBLANK('Tenant Information'!E479),\"\",'Tenant Information'!E479)","v":""}]
[null,null,null,{"$f":"IF(ISBLANK('Tenant Information'!E480),\"\",'Tenant Information'!E480)","v":""}]
[null,null,null,{"$f":"IF(ISBLANK('Tenant Information'!E481),\"\",'Tenant Information'!E481)","v":""}]
[null,null,null,{"$f":"IF(ISBLANK('Tenant Information'!E482),\"\",'Tenant Information'!E482)","v":""}]
[null,null,null,{"$f":"IF(ISBLANK('Tenant Information'!E483),\"\",'Tenant Information'!E483)","v":""}]
[null,null,null,{"$f":"IF(ISBLANK('Tenant Information'!E484),\"\",'Tenant Information'!E484)","v":""}]
[null,null,null,{"$f":"IF(ISBLANK('Tenant Information'!E485),\"\",'Tenant Information'!E485)","v":""}]
[null,null,null,{"$f":"IF(ISBLANK('Tenant Information'!E486),\"\",'Tenant Information'!E486)","v":""}]
[null,null,null,{"$f":"IF(ISBLANK('Tenant Information'!E487),\"\",'Tenant Information'!E487)","v":""}]
[null,null,null,{"$f":"IF(ISBLANK('Tenant Information'!E488),\"\",'Tenant Information'!E488)","v":""}]
[null,null,null,{"$f":"IF(ISBLANK('Tenant Information'!E489),\"\",'Tenant Information'!E489)","v":""}]
[null,null,null,{"$f":"IF(ISBLANK('Tenant Information'!E490),\"\",'Tenant Information'!E490)","v":""}]
[null,null,null,{"$f":"IF(ISBLANK('Tenant Information'!E491),\"\",'Tenant Information'!E491)","v":""}]
[null,null,null,{"$f":"IF(ISBLANK('Tenant Information'!E492),\"\",'Tenant Information'!E492)","v":""}]
[null,null,null,{"$f":"IF(ISBLANK('Tenant Information'!E493),\"\",'Tenant Information'!E493)","v":""}]
[null,null,null,{"$f":"IF(ISBLANK('Tenant Information'!E494),\"\",'Tenant Information'!E494)","v":""}]
[null,null,null,{"$f":"IF(ISBLANK('Tenant Information'!E495),\"\",'Tenant Information'!E495)","v":""}]
[null,null,null,{"$f":"IF(ISBLANK('Tenant Information'!E496),\"\",'Tenant Information'!E496)","v":""}]
[null,null,null,{"$f":"IF(ISBLANK('Tenant Information'!E497),\"\",'Tenant Information'!E497)","v":""}]
[null,null,null,{"$f":"IF(ISBLANK('Tenant Information'!E498),\"\",'Tenant Information'!E498)","v":""}]
[null,null,null,{"$f":"IF(ISBLANK('Tenant Information'!E499),\"\",'Tenant Information'!E499)","v":""}]
[null,null,null,{"$f":"IF(ISBLANK('Tenant Information'!E500),\"\",'Tenant Information'!E500)","v":""}]
[null,null,null,{"$f":"IF(ISBLANK('Tenant Information'!E501),\"\",'Tenant Information'!E501)","v":""}]
[null,null,null,{"$f":"IF(ISBLANK('Tenant Information'!E502),\"\",'Tenant Information'!E502)","v":""}]
[null,null,null,{"$f":"IF(ISBLANK('Tenant Information'!E503),\"\",'Tenant Information'!E503)","v":""}]
[null,null,null,{"$f":"IF(ISBLANK('Tenant Information'!E504),\"\",'Tenant Information'!E504)","v":""}]
[null,null,null,{"$f":"IF(ISBLANK('Tenant Information'!E505),\"\",'Tenant Information'!E505)","v":""}]
[null,null,null,{"$f":"IF(ISBLANK('Tenant Information'!E506),\"\",'Tenant Information'!E506)","v":""}]
[null,null,null,{"$f":"IF(ISBLANK('Tenant Information'!E507),\"\",'Tenant Information'!E507)","v":""}]
[null,null,null,{"$f":"IF(ISBLANK('Tenant Information'!E508),\"\",'Tenant Information'!E508)","v":""}]
[null,null,null,{"$f":"IF(ISBLANK('Tenant Information'!E509),\"\",'Tenant Information'!E509)","v":""}]
[null,null,null,{"$f":"IF(ISBLANK('Tenant Information'!E510),\"\",'Tenant Information'!E510)","v":""}]
[null,null,null,{"$f":"IF(ISBLANK('Tenant Information'!E511),\"\",'Tenant Information'!E511)","v":""}]
[null,null,null,{"$f":"IF(ISBLANK('Tenant Information'!E512),\"\",'Tenant Information'!E512)","v":""}]
[null,null,null,{"$f":"IF(ISBLANK('Tenant Information'!E513),\"\",'Tenant Information'!E513)","v":""}]
[null,null,null,{"$f":"IF(ISBLANK('Tenant Information'!E514),\"\",'Tenant Information'!E514)","v":""}]
[null,null,null,{"$f":"IF(ISBLANK('Tenant Information'!E515),\"\",'Tenant Information'!E515)","v":""}]
[null,null,null,{"$f":"IF(ISBLANK('Tenant Information'!E516),\"\",'Tenant Information'!E516)","v":""}]
[null,null,null,{"$f":"IF(ISBLANK('Tenant Information'!E517),\"\",'Tenant Information'!E517)","v":""}]
[null,null,null,{"$f":"IF(ISBLANK('Tenant Information'!E518),\"\",'Tenant Information'!E518)","v":""}]
[null,null,null,{"$f":"IF(ISBLANK('Tenant Information'!E519),\"\",'Tenant Information'!E519)","v":""}]
[null,null,null,{"$f":"IF(ISBLANK('Tenant Information'!E520),\"\",'Tenant Information'!E520)","v":""}]
[null,null,null,{"$f":"IF(ISBLANK('Tenant Information'!E521),\"\",'Tenant Information'!E521)","v":""}]
[null,null,null,{"$f":"IF(ISBLANK('Tenant Information'!E522),\"\",'Tenant Information'!E522)","v":""}]
[null,null,null,{"$f":"IF(ISBLANK('Tenant Information'!E523),\"\",'Tenant Information'!E523)","v":""}]
[null,null,null,{"$f":"IF(ISBLANK('Tenant Information'!E524),\"\",'Tenant Information'!E524)","v":""}]
[null,null,null,{"$f":"IF(ISBLANK('Tenant Information'!E525),\"\",'Tenant Information'!E525)","v":""}]
[null,null,null,{"$f":"IF(ISBLANK('Tenant Information'!E526),\"\",'Tenant Information'!E526)","v":""}]
[null,null,null,{"$f":"IF(ISBLANK('Tenant Information'!E527),\"\",'Tenant Information'!E527)","v":""}]
[null,null,null,{"$f":"IF(ISBLANK('Tenant Information'!E528),\"\",'Tenant Information'!E528)","v":""}]
[null,null,null,{"$f":"IF(ISBLANK('Tenant Information'!E529),\"\",'Tenant Information'!E529)","v":""}]
[null,null,null,{"$f":"IF(ISBLANK('Tenant Information'!E530),\"\",'Tenant Information'!E530)","v":""}]
[null,null,null,{"$f":"IF(ISBLANK('Tenant Information'!E531),\"\",'Tenant Information'!E531)","v":""}]
[null,null,null,{"$f":"IF(ISBLANK('Tenant Information'!E532),\"\",'Tenant Information'!E532)","v":""}]
[null,null,null,{"$f":"IF(ISBLANK('Tenant Information'!E533),\"\",'Tenant Information'!E533)","v":""}]
[null,null,null,{"$f":"IF(ISBLANK('Tenant Information'!E534),\"\",'Tenant Information'!E534)","v":""}]
[null,null,null,{"$f":"IF(ISBLANK('Tenant Information'!E535),\"\",'Tenant Information'!E535)","v":""}]
[null,null,null,{"$f":"IF(ISBLANK('Tenant Information'!E536),\"\",'Tenant Information'!E536)","v":""}]
[null,null,null,{"$f":"IF(ISBLANK('Tenant Information'!E537),\"\",'Tenant Information'!E537)","v":""}]
[null,null,null,{"$f":"IF(ISBLANK('Tenant Information'!E538),\"\",'Tenant Information'!E538)","v":""}]
[null,null,null,{"$f":"IF(ISBLANK('Tenant Information'!E539),\"\",'Tenant Information'!E539)","v":""}]
[null,null,null,{"$f":"IF(ISBLANK('Tenant Information'!E540),\"\",'Tenant Information'!E540)","v":""}]
[null,null,null,{"$f":"IF(ISBLANK('Tenant Information'!E541),\"\",'Tenant Information'!E541)","v":""}]
[null,null,null,{"$f":"IF(ISBLANK('Tenant Information'!E542),\"\",'Tenant Information'!E542)","v":""}]
[null,null,null,{"$f":"IF(ISBLANK('Tenant Information'!E543),\"\",'Tenant Information'!E543)","v":""}]
[null,null,null,{"$f":"IF(ISBLANK('Tenant Information'!E544),\"\",'Tenant Information'!E544)","v":""}]
[null,null,null,{"$f":"IF(ISBLANK('Tenant Information'!E545),\"\",'Tenant Information'!E545)","v":""}]
[null,null,null,{"$f":"IF(ISBLANK('Tenant Information'!E546),\"\",'Tenant Information'!E546)","v":""}]
[null,null,null,{"$f":"IF(ISBLANK('Tenant Information'!E547),\"\",'Tenant Information'!E547)","v":""}]
[null,null,null,{"$f":"IF(ISBLANK('Tenant Information'!E548),\"\",'Tenant Information'!E548)","v":""}]
[null,null,null,{"$f":"IF(ISBLANK('Tenant Information'!E549),\"\",'Tenant Information'!E549)","v":""}]
[null,null,null,{"$f":"IF(ISBLANK('Tenant Information'!E550),\"\",'Tenant Information'!E550)","v":""}]
[null,null,null,{"$f":"IF(ISBLANK('Tenant Information'!E551),\"\",'Tenant Information'!E551)","v":""}]
[null,null,null,{"$f":"IF(ISBLANK('Tenant Information'!E552),\"\",'Tenant Information'!E552)","v":""}]
[null,null,null,{"$f":"IF(ISBLANK('Tenant Information'!E553),\"\",'Tenant Information'!E553)","v":""}]
[null,null,null,{"$f":"IF(ISBLANK('Tenant Information'!E554),\"\",'Tenant Information'!E554)","v":""}]
[null,null,null,{"$f":"IF(ISBLANK('Tenant Information'!E555),\"\",'Tenant Information'!E555)","v":""}]
[null,null,null,{"$f":"IF(ISBLANK('Tenant Information'!E556),\"\",'Tenant Information'!E556)","v":""}]
[null,null,null,{"$f":"IF(ISBLANK('Tenant Information'!E557),\"\",'Tenant Information'!E557)","v":""}]
[null,null,null,{"$f":"IF(ISBLANK('Tenant Information'!E558),\"\",'Tenant Information'!E558)","v":""}]
[null,null,null,{"$f":"IF(ISBLANK('Tenant Information'!E559),\"\",'Tenant Information'!E559)","v":""}]
[null,null,null,{"$f":"IF(ISBLANK('Tenant Information'!E560),\"\",'Tenant Information'!E560)","v":""}]
[null,null,null,{"$f":"IF(ISBLANK('Tenant Information'!E561),\"\",'Tenant Information'!E561)","v":""}]
[null,null,null,{"$f":"IF(ISBLANK('Tenant Information'!E562),\"\",'Tenant Information'!E562)","v":""}]
[null,null,null,{"$f":"IF(ISBLANK('Tenant Information'!E563),\"\",'Tenant Information'!E563)","v":""}]
[null,null,null,{"$f":"IF(ISBLANK('Tenant Information'!E564),\"\",'Tenant Information'!E564)","v":""}]
[null,null,null,{"$f":"IF(ISBLANK('Tenant Information'!E565),\"\",'Tenant Information'!E565)","v":""}]
[null,null,null,{"$f":"IF(ISBLANK('Tenant Information'!E566),\"\",'Tenant Information'!E566)","v":""}]
[null,null,null,{"$f":"IF(ISBLANK('Tenant Information'!E567),\"\",'Tenant Information'!E567)","v":""}]
[null,null,null,{"$f":"IF(ISBLANK('Tenant Information'!E568),\"\",'Tenant Information'!E568)","v":""}]
[null,null,null,{"$f":"IF(ISBLANK('Tenant Information'!E569),\"\",'Tenant Information'!E569)","v":""}]
[null,null,null,{"$f":"IF(ISBLANK('Tenant Information'!E570),\"\",'Tenant Information'!E570)","v":""}]
[null,null,null,{"$f":"IF(ISBLANK('Tenant Information'!E571),\"\",'Tenant Information'!E571)","v":""}]
[null,null,null,{"$f":"IF(ISBLANK('Tenant Information'!E572),\"\",'Tenant Information'!E572)","v":""}]
[null,null,null,{"$f":"IF(ISBLANK('Tenant Information'!E573),\"\",'Tenant Information'!E573)","v":""}]
[null,null,null,{"$f":"IF(ISBLANK('Tenant Information'!E574),\"\",'Tenant Information'!E574)","v":""}]
[null,null,null,{"$f":"IF(ISBLANK('Tenant Information'!E575),\"\",'Tenant Information'!E575)","v":""}]
[null,null,null,{"$f":"IF(ISBLANK('Tenant Information'!E576),\"\",'Tenant Information'!E576)","v":""}]
[null,null,null,{"$f":"IF(ISBLANK('Tenant Information'!E577),\"\",'Tenant Information'!E577)","v":""}]
[null,null,null,{"$f":"IF(ISBLANK('Tenant Information'!E578),\"\",'Tenant Information'!E578)","v":""}]
[null,null,null,{"$f":"IF(ISBLANK('Tenant Information'!E579),\"\",'Tenant Information'!E579)","v":""}]
[null,null,null,{"$f":"IF(ISBLANK('Tenant Information'!E580),\"\",'Tenant Information'!E580)","v":""}]
[null,null,null,{"$f":"IF(ISBLANK('Tenant Information'!E581),\"\",'Tenant Information'!E581)","v":""}]
[null,null,null,{"$f":"IF(ISBLANK('Tenant Information'!E582),\"\",'Tenant Information'!E582)","v":""}]
[null,null,null,{"$f":"IF(ISBLANK('Tenant Information'!E583),\"\",'Tenant Information'!E583)","v":""}]
[null,null,null,{"$f":"IF(ISBLANK('Tenant Information'!E584),\"\",'Tenant Information'!E584)","v":""}]
[null,null,null,{"$f":"IF(ISBLANK('Tenant Information'!E585),\"\",'Tenant Information'!E585)","v":""}]
[null,null,null,{"$f":"IF(ISBLANK('Tenant Information'!E586),\"\",'Tenant Information'!E586)","v":""}]
[null,null,null,{"$f":"IF(ISBLANK('Tenant Information'!E587),\"\",'Tenant Information'!E587)","v":""}]
[null,null,null,{"$f":"IF(ISBLANK('Tenant Information'!E588),\"\",'Tenant Information'!E588)","v":""}]
[null,null,null,{"$f":"IF(ISBLANK('Tenant Information'!E589),\"\",'Tenant Information'!E589)","v":""}]
[null,null,null,{"$f":"IF(ISBLANK('Tenant Information'!E590),\"\",'Tenant Information'!E590)","v":""}]
[null,null,null,{"$f":"IF(ISBLANK('Tenant Information'!E591),\"\",'Tenant Information'!E591)","v":""}]
[null,null,null,{"$f":"IF(ISBLANK('Tenant Information'!E592),\"\",'Tenant Information'!E592)","v":""}]
[null,null,null,{"$f":"IF(ISBLANK('Tenant Information'!E593),\"\",'Tenant Information'!E593)","v":""}]
[null,null,null,{"$f":"IF(ISBLANK('Tenant Information'!E594),\"\",'Tenant Information'!E594)","v":""}]
[null,null,null,{"$f":"IF(ISBLANK('Tenant Information'!E595),\"\",'Tenant Information'!E595)","v":""}]
[null,null,null,{"$f":"IF(ISBLANK('Tenant Information'!E596),\"\",'Tenant Information'!E596)","v":""}]
[null,null,null,{"$f":"IF(ISBLANK('Tenant Information'!E597),\"\",'Tenant Information'!E597)","v":""}]
[null,null,null,{"$f":"IF(ISBLANK('Tenant Information'!E598),\"\",'Tenant Information'!E598)","v":""}]
[null,null,null,{"$f":"IF(ISBLANK('Tenant Information'!E599),\"\",'Tenant Information'!E599)","v":""}]
[null,null,null,{"$f":"IF(ISBLANK('Tenant Information'!E600),\"\",'Tenant Information'!E600)","v":""}]
[null,null,null,{"$f":"IF(ISBLANK('Tenant Information'!E601),\"\",'Tenant Information'!E601)","v":""}]
[null,null,null,{"$f":"IF(ISBLANK('Tenant Information'!E602),\"\",'Tenant Information'!E602)","v":""}]
[null,null,null,{"$f":"IF(ISBLANK('Tenant Information'!E603),\"\",'Tenant Information'!E603)","v":""}]
[null,null,null,{"$f":"IF(ISBLANK('Tenant Information'!E604),\"\",'Tenant Information'!E604)","v":""}]
[null,null,null,{"$f":"IF(ISBLANK('Tenant Information'!E605),\"\",'Tenant Information'!E605)","v":""}]
[null,null,null,{"$f":"IF(ISBLANK('Tenant Information'!E606),\"\",'Tenant Information'!E606)","v":""}]
[null,null,null,{"$f":"IF(ISBLANK('Tenant Information'!E607),\"\",'Tenant Information'!E607)","v":""}]
[null,null,null,{"$f":"IF(ISBLANK('Tenant Information'!E608),\"\",'Tenant Information'!E608)","v":""}]
[null,null,null,{"$f":"IF(ISBLANK('Tenant Information'!E609),\"\",'Tenant Information'!E609)","v":""}]
[null,null,null,{"$f":"IF(ISBLANK('Tenant Information'!E610),\"\",'Tenant Information'!E610)","v":""}]
[null,null,null,{"$f":"IF(ISBLANK('Tenant Information'!E611),\"\",'Tenant Information'!E611)","v":""}]
[null,null,null,{"$f":"IF(ISBLANK('Tenant Information'!E612),\"\",'Tenant Information'!E612)","v":""}]
[null,null,null,{"$f":"IF(ISBLANK('Tenant Information'!E613),\"\",'Tenant Information'!E613)","v":""}]
[null,null,null,{"$f":"IF(ISBLANK('Tenant Information'!E614),\"\",'Tenant Information'!E614)","v":""}]
[null,null,null,{"$f":"IF(ISBLANK('Tenant Information'!E615),\"\",'Tenant Information'!E615)","v":""}]
[null,null,null,{"$f":"IF(ISBLANK('Tenant Information'!E616),\"\",'Tenant Information'!E616)","v":""}]
[null,null,null,{"$f":"IF(ISBLANK('Tenant Information'!E617),\"\",'Tenant Information'!E617)","v":""}]
[null,null,null,{"$f":"IF(ISBLANK('Tenant Information'!E618),\"\",'Tenant Information'!E618)","v":""}]
[null,null,null,{"$f":"IF(ISBLANK('Tenant Information'!E619),\"\",'Tenant Information'!E619)","v":""}]
[null,null,null,{"$f":"IF(ISBLANK('Tenant Information'!E620),\"\",'Tenant Information'!E620)","v":""}]
[null,null,null,{"$f":"IF(ISBLANK('Tenant Information'!E621),\"\",'Tenant Information'!E621)","v":""}]
[null,null,null,{"$f":"IF(ISBLANK('Tenant Information'!E622),\"\",'Tenant Information'!E622)","v":""}]
[null,null,null,{"$f":"IF(ISBLANK('Tenant Information'!E623),\"\",'Tenant Information'!E623)","v":""}]
[null,null,null,{"$f":"IF(ISBLANK('Tenant Information'!E624),\"\",'Tenant Information'!E624)","v":""}]
[null,null,null,{"$f":"IF(ISBLANK('Tenant Information'!E625),\"\",'Tenant Information'!E625)","v":""}]
[null,null,null,{"$f":"IF(ISBLANK('Tenant Information'!E626),\"\",'Tenant Information'!E626)","v":""}]
[null,null,null,{"$f":"IF(ISBLANK('Tenant Information'!E627),\"\",'Tenant Information'!E627)","v":""}]
[null,null,null,{"$f":"IF(ISBLANK('Tenant Information'!E628),\"\",'Tenant Information'!E628)","v":""}]
[null,null,null,{"$f":"IF(ISBLANK('Tenant Information'!E629),\"\",'Tenant Information'!E629)","v":""}]
[null,null,null,{"$f":"IF(ISBLANK('Tenant Information'!E630),\"\",'Tenant Information'!E630)","v":""}]
[null,null,null,{"$f":"IF(ISBLANK('Tenant Information'!E631),\"\",'Tenant Information'!E631)","v":""}]
[null,null,null,{"$f":"IF(ISBLANK('Tenant Information'!E632),\"\",'Tenant Information'!E632)","v":""}]
[null,null,null,{"$f":"IF(ISBLANK('Tenant Information'!E633),\"\",'Tenant Information'!E633)","v":""}]
[null,null,null,{"$f":"IF(ISBLANK('Tenant Information'!E634),\"\",'Tenant Information'!E634)","v":""}]
[null,null,null,{"$f":"IF(ISBLANK('Tenant Information'!E635),\"\",'Tenant Information'!E635)","v":""}]
[null,null,null,{"$f":"IF(ISBLANK('Tenant Information'!E636),\"\",'Tenant Information'!E636)","v":""}]
[null,null,null,{"$f":"IF(ISBLANK('Tenant Information'!E637),\"\",'Tenant Information'!E637)","v":""}]
[null,null,null,{"$f":"IF(ISBLANK('Tenant Information'!E638),\"\",'Tenant Information'!E638)","v":""}]
[null,null,null,{"$f":"IF(ISBLANK('Tenant Information'!E639),\"\",'Tenant Information'!E639)","v":""}]
[null,null,null,{"$f":"IF(ISBLANK('Tenant Information'!E640),\"\",'Tenant Information'!E640)","v":""}]
[null,null,null,{"$f":"IF(ISBLANK('Tenant Information'!E641),\"\",'Tenant Information'!E641)","v":""}]
[null,null,null,{"$f":"IF(ISBLANK('Tenant Information'!E642),\"\",'Tenant Information'!E642)","v":""}]
[null,null,null,{"$f":"IF(ISBLANK('Tenant Information'!E643),\"\",'Tenant Information'!E643)","v":""}]
[null,null,null,{"$f":"IF(ISBLANK('Tenant Information'!E644),\"\",'Tenant Information'!E644)","v":""}]
[null,null,null,{"$f":"IF(ISBLANK('Tenant Information'!E645),\"\",'Tenant Information'!E645)","v":""}]
[null,null,null,{"$f":"IF(ISBLANK('Tenant Information'!E646),\"\",'Tenant Information'!E646)","v":""}]
[null,null,null,{"$f":"IF(ISBLANK('Tenant Information'!E647),\"\",'Tenant Information'!E647)","v":""}]
[null,null,null,{"$f":"IF(ISBLANK('Tenant Information'!E648),\"\",'Tenant Information'!E648)","v":""}]
[null,null,null,{"$f":"IF(ISBLANK('Tenant Information'!E649),\"\",'Tenant Information'!E649)","v":""}]
[null,null,null,{"$f":"IF(ISBLANK('Tenant Information'!E650),\"\",'Tenant Information'!E650)","v":""}]
[null,null,null,{"$f":"IF(ISBLANK('Tenant Information'!E651),\"\",'Tenant Information'!E651)","v":""}]
[null,null,null,{"$f":"IF(ISBLANK('Tenant Information'!E652),\"\",'Tenant Information'!E652)","v":""}]
[null,null,null,{"$f":"IF(ISBLANK('Tenant Information'!E653),\"\",'Tenant Information'!E653)","v":""}]
[null,null,null,{"$f":"IF(ISBLANK('Tenant Information'!E654),\"\",'Tenant Information'!E654)","v":""}]
[null,null,null,{"$f":"IF(ISBLANK('Tenant Information'!E655),\"\",'Tenant Information'!E655)","v":""}]
[null,null,null,{"$f":"IF(ISBLANK('Tenant Information'!E656),\"\",'Tenant Information'!E656)","v":""}]
[null,null,null,{"$f":"IF(ISBLANK('Tenant Information'!E657),\"\",'Tenant Information'!E657)","v":""}]
[null,null,null,{"$f":"IF(ISBLANK('Tenant Information'!E658),\"\",'Tenant Information'!E658)","v":""}]
[null,null,null,{"$f":"IF(ISBLANK('Tenant Information'!E659),\"\",'Tenant Information'!E659)","v":""}]
[null,null,null,{"$f":"IF(ISBLANK('Tenant Information'!E660),\"\",'Tenant Information'!E660)","v":""}]
[null,null,null,{"$f":"IF(ISBLANK('Tenant Information'!E661),\"\",'Tenant Information'!E661)","v":""}]
[null,null,null,{"$f":"IF(ISBLANK('Tenant Information'!E662),\"\",'Tenant Information'!E662)","v":""}]
[null,null,null,{"$f":"IF(ISBLANK('Tenant Information'!E663),\"\",'Tenant Information'!E663)","v":""}]
[null,null,null,{"$f":"IF(ISBLANK('Tenant Information'!E664),\"\",'Tenant Information'!E664)","v":""}]
[null,null,null,{"$f":"IF(ISBLANK('Tenant Information'!E665),\"\",'Tenant Information'!E665)","v":""}]
[null,null,null,{"$f":"IF(ISBLANK('Tenant Information'!E666),\"\",'Tenant Information'!E666)","v":""}]
[null,null,null,{"$f":"IF(ISBLANK('Tenant Information'!E667),\"\",'Tenant Information'!E667)","v":""}]
[null,null,null,{"$f":"IF(ISBLANK('Tenant Information'!E668),\"\",'Tenant Information'!E668)","v":""}]
[null,null,null,{"$f":"IF(ISBLANK('Tenant Information'!E669),\"\",'Tenant Information'!E669)","v":""}]
[null,null,null,{"$f":"IF(ISBLANK('Tenant Information'!E670),\"\",'Tenant Information'!E670)","v":""}]
[null,null,null,{"$f":"IF(ISBLANK('Tenant Information'!E671),\"\",'Tenant Information'!E671)","v":""}]
[null,null,null,{"$f":"IF(ISBLANK('Tenant Information'!E672),\"\",'Tenant Information'!E672)","v":""}]
[null,null,null,{"$f":"IF(ISBLANK('Tenant Information'!E673),\"\",'Tenant Information'!E673)","v":""}]
[null,null,null,{"$f":"IF(ISBLANK('Tenant Information'!E674),\"\",'Tenant Information'!E674)","v":""}]
[null,null,null,{"$f":"IF(ISBLANK('Tenant Information'!E675),\"\",'Tenant Information'!E675)","v":""}]
[null,null,null,{"$f":"IF(ISBLANK('Tenant Information'!E676),\"\",'Tenant Information'!E676)","v":""}]
[null,null,null,{"$f":"IF(ISBLANK('Tenant Information'!E677),\"\",'Tenant Information'!E677)","v":""}]
[null,null,null,{"$f":"IF(ISBLANK('Tenant Information'!E678),\"\",'Tenant Information'!E678)","v":""}]
[null,null,null,{"$f":"IF(ISBLANK('Tenant Information'!E679),\"\",'Tenant Information'!E679)","v":""}]
[null,null,null,{"$f":"IF(ISBLANK('Tenant Information'!E680),\"\",'Tenant Information'!E680)","v":""}]
[null,null,null,{"$f":"IF(ISBLANK('Tenant Information'!E681),\"\",'Tenant Information'!E681)","v":""}]
[null,null,null,{"$f":"IF(ISBLANK('Tenant Information'!E682),\"\",'Tenant Information'!E682)","v":""}]
[null,null,null,{"$f":"IF(ISBLANK('Tenant Information'!E683),\"\",'Tenant Information'!E683)","v":""}]
[null,null,null,{"$f":"IF(ISBLANK('Tenant Information'!E684),\"\",'Tenant Information'!E684)","v":""}]
[null,null,null,{"$f":"IF(ISBLANK('Tenant Information'!E685),\"\",'Tenant Information'!E685)","v":""}]
[null,null,null,{"$f":"IF(ISBLANK('Tenant Information'!E686),\"\",'Tenant Information'!E686)","v":""}]
[null,null,null,{"$f":"IF(ISBLANK('Tenant Information'!E687),\"\",'Tenant Information'!E687)","v":""}]
[null,null,null,{"$f":"IF(ISBLANK('Tenant Information'!E688),\"\",'Tenant Information'!E688)","v":""}]
[null,null,null,{"$f":"IF(ISBLANK('Tenant Information'!E689),\"\",'Tenant Information'!E689)","v":""}]
[null,null,null,{"$f":"IF(ISBLANK('Tenant Information'!E690),\"\",'Tenant Information'!E690)","v":""}]
[null,null,null,{"$f":"IF(ISBLANK('Tenant Information'!E691),\"\",'Tenant Information'!E691)","v":""}]
[null,null,null,{"$f":"IF(ISBLANK('Tenant Information'!E692),\"\",'Tenant Information'!E692)","v":""}]
[null,null,null,{"$f":"IF(ISBLANK('Tenant Information'!E693),\"\",'Tenant Information'!E693)","v":""}]
[null,null,null,{"$f":"IF(ISBLANK('Tenant Information'!E694),\"\",'Tenant Information'!E694)","v":""}]
[null,null,null,{"$f":"IF(ISBLANK('Tenant Information'!E695),\"\",'Tenant Information'!E695)","v":""}]
[null,null,null,{"$f":"IF(ISBLANK('Tenant Information'!E696),\"\",'Tenant Information'!E696)","v":""}]
[null,null,null,{"$f":"IF(ISBLANK('Tenant Information'!E697),\"\",'Tenant Information'!E697)","v":""}]
[null,null,null,{"$f":"IF(ISBLANK('Tenant Information'!E698),\"\",'Tenant Information'!E698)","v":""}]
[null,null,null,{"$f":"IF(ISBLANK('Tenant Information'!E699),\"\",'Tenant Information'!E699)","v":""}]
[null,null,null,{"$f":"IF(ISBLANK('Tenant Information'!E700),\"\",'Tenant Information'!E700)","v":""}]
[null,null,null,{"$f":"IF(ISBLANK('Tenant Information'!E701),\"\",'Tenant Information'!E701)","v":""}]
[null,null,null,{"$f":"IF(ISBLANK('Tenant Information'!E702),\"\",'Tenant Information'!E702)","v":""}]
[null,null,null,{"$f":"IF(ISBLANK('Tenant Information'!E703),\"\",'Tenant Information'!E703)","v":""}]
[null,null,null,{"$f":"IF(ISBLANK('Tenant Information'!E704),\"\",'Tenant Information'!E704)","v":""}]
[null,null,null,{"$f":"IF(ISBLANK('Tenant Information'!E705),\"\",'Tenant Information'!E705)","v":""}]
[null,null,null,{"$f":"IF(ISBLANK('Tenant Information'!E706),\"\",'Tenant Information'!E706)","v":""}]
[null,null,null,{"$f":"IF(ISBLANK('Tenant Information'!E707),\"\",'Tenant Information'!E707)","v":""}]
[null,null,null,{"$f":"IF(ISBLANK('Tenant Information'!E708),\"\",'Tenant Information'!E708)","v":""}]
[null,null,null,{"$f":"IF(ISBLANK('Tenant Information'!E709),\"\",'Tenant Information'!E709)","v":""}]
[null,null,null,{"$f":"IF(ISBLANK('Tenant Information'!E710),\"\",'Tenant Information'!E710)","v":""}]
[null,null,null,{"$f":"IF(ISBLANK('Tenant Information'!E711),\"\",'Tenant Information'!E711)","v":""}]
[null,null,null,{"$f":"IF(ISBLANK('Tenant Information'!E712),\"\",'Tenant Information'!E712)","v":""}]
[null,null,null,{"$f":"IF(ISBLANK('Tenant Information'!E713),\"\",'Tenant Information'!E713)","v":""}]
[null,null,null,{"$f":"IF(ISBLANK('Tenant Information'!E714),\"\",'Tenant Information'!E714)","v":""}]
[null,null,null,{"$f":"IF(ISBLANK('Tenant Information'!E715),\"\",'Tenant Information'!E715)","v":""}]
[null,null,null,{"$f":"IF(ISBLANK('Tenant Information'!E716),\"\",'Tenant Information'!E716)","v":""}]
[null,null,null,{"$f":"IF(ISBLANK('Tenant Information'!E717),\"\",'Tenant Information'!E717)","v":""}]
[null,null,null,{"$f":"IF(ISBLANK('Tenant Information'!E718),\"\",'Tenant Information'!E718)","v":""}]
[null,null,null,{"$f":"IF(ISBLANK('Tenant Information'!E719),\"\",'Tenant Information'!E719)","v":""}]
[null,null,null,{"$f":"IF(ISBLANK('Tenant Information'!E720),\"\",'Tenant Information'!E720)","v":""}]
[null,null,null,{"$f":"IF(ISBLANK('Tenant Information'!E721),\"\",'Tenant Information'!E721)","v":""}]
[null,null,null,{"$f":"IF(ISBLANK('Tenant Information'!E722),\"\",'Tenant Information'!E722)","v":""}]
[null,null,null,{"$f":"IF(ISBLANK('Tenant Information'!E723),\"\",'Tenant Information'!E723)","v":""}]
[null,null,null,{"$f":"IF(ISBLANK('Tenant Information'!E724),\"\",'Tenant Information'!E724)","v":""}]
[null,null,null,{"$f":"IF(ISBLANK('Tenant Information'!E725),\"\",'Tenant Information'!E725)","v":""}]
[null,null,null,{"$f":"IF(ISBLANK('Tenant Information'!E726),\"\",'Tenant Information'!E726)","v":""}]
[null,null,null,{"$f":"IF(ISBLANK('Tenant Information'!E727),\"\",'Tenant Information'!E727)","v":""}]
[null,null,null,{"$f":"IF(ISBLANK('Tenant Information'!E728),\"\",'Tenant Information'!E728)","v":""}]
[null,null,null,{"$f":"IF(ISBLANK('Tenant Information'!E729),\"\",'Tenant Information'!E729)","v":""}]
[null,null,null,{"$f":"IF(ISBLANK('Tenant Information'!E730),\"\",'Tenant Information'!E730)","v":""}]
[null,null,null,{"$f":"IF(ISBLANK('Tenant Information'!E731),\"\",'Tenant Information'!E731)","v":""}]
[null,null,null,{"$f":"IF(ISBLANK('Tenant Information'!E732),\"\",'Tenant Information'!E732)","v":""}]
[null,null,null,{"$f":"IF(ISBLANK('Tenant Information'!E733),\"\",'Tenant Information'!E733)","v":""}]
[null,null,null,{"$f":"IF(ISBLANK('Tenant Information'!E734),\"\",'Tenant Information'!E734)","v":""}]
[null,null,null,{"$f":"IF(ISBLANK('Tenant Information'!E735),\"\",'Tenant Information'!E735)","v":""}]
[null,null,null,{"$f":"IF(ISBLANK('Tenant Information'!E736),\"\",'Tenant Information'!E736)","v":""}]
[null,null,null,{"$f":"IF(ISBLANK('Tenant Information'!E737),\"\",'Tenant Information'!E737)","v":""}]
[null,null,null,{"$f":"IF(ISBLANK('Tenant Information'!E738),\"\",'Tenant Information'!E738)","v":""}]
[null,null,null,{"$f":"IF(ISBLANK('Tenant Information'!E739),\"\",'Tenant Information'!E739)","v":""}]
[null,null,null,{"$f":"IF(ISBLANK('Tenant Information'!E740),\"\",'Tenant Information'!E740)","v":""}]
[null,null,null,{"$f":"IF(ISBLANK('Tenant Information'!E741),\"\",'Tenant Information'!E741)","v":""}]
[null,null,null,{"$f":"IF(ISBLANK('Tenant Information'!E742),\"\",'Tenant Information'!E742)","v":""}]
[null,null,null,{"$f":"IF(ISBLANK('Tenant Information'!E743),\"\",'Tenant Information'!E743)","v":""}]
[null,null,null,{"$f":"IF(ISBLANK('Tenant Information'!E744),\"\",'Tenant Information'!E744)","v":""}]
[null,null,null,{"$f":"IF(ISBLANK('Tenant Information'!E745),\"\",'Tenant Information'!E745)","v":""}]
[null,null,null,{"$f":"IF(ISBLANK('Tenant Information'!E746),\"\",'Tenant Information'!E746)","v":""}]
[null,null,null,{"$f":"IF(ISBLANK('Tenant Information'!E747),\"\",'Tenant Information'!E747)","v":""}]
[null,null,null,{"$f":"IF(ISBLANK('Tenant Information'!E748),\"\",'Tenant Information'!E748)","v":""}]
[null,null,null,{"$f":"IF(ISBLANK('Tenant Information'!E749),\"\",'Tenant Information'!E749)","v":""}]
[null,null,null,{"$f":"IF(ISBLANK('Tenant Information'!E750),\"\",'Tenant Information'!E750)","v":""}]
[null,null,null,{"$f":"IF(ISBLANK('Tenant Information'!E751),\"\",'Tenant Information'!E751)","v":""}]
[null,null,null,{"$f":"IF(ISBLANK('Tenant Information'!E752),\"\",'Tenant Information'!E752)","v":""}]
[null,null,null,{"$f":"IF(ISBLANK('Tenant Information'!E753),\"\",'Tenant Information'!E753)","v":""}]
[null,null,null,{"$f":"IF(ISBLANK('Tenant Information'!E754),\"\",'Tenant Information'!E754)","v":""}]
[null,null,null,{"$f":"IF(ISBLANK('Tenant Information'!E755),\"\",'Tenant Information'!E755)","v":""}]
[null,null,null,{"$f":"IF(ISBLANK('Tenant Information'!E756),\"\",'Tenant Information'!E756)","v":""}]
[null,null,null,{"$f":"IF(ISBLANK('Tenant Information'!E757),\"\",'Tenant Information'!E757)","v":""}]
[null,null,null,{"$f":"IF(ISBLANK('Tenant Information'!E758),\"\",'Tenant Information'!E758)","v":""}]
[null,null,null,{"$f":"IF(ISBLANK('Tenant Information'!E759),\"\",'Tenant Information'!E759)","v":""}]
[null,null,null,{"$f":"IF(ISBLANK('Tenant Information'!E760),\"\",'Tenant Information'!E760)","v":""}]
[null,null,null,{"$f":"IF(ISBLANK('Tenant Information'!E761),\"\",'Tenant Information'!E761)","v":""}]
[null,null,null,{"$f":"IF(ISBLANK('Tenant Information'!E762),\"\",'Tenant Information'!E762)","v":""}]
[null,null,null,{"$f":"IF(ISBLANK('Tenant Information'!E763),\"\",'Tenant Information'!E763)","v":""}]
[null,null,null,{"$f":"IF(ISBLANK('Tenant Information'!E764),\"\",'Tenant Information'!E764)","v":""}]
[null,null,null,{"$f":"IF(ISBLANK('Tenant Information'!E765),\"\",'Tenant Information'!E765)","v":""}]
[null,null,null,{"$f":"IF(ISBLANK('Tenant Information'!E766),\"\",'Tenant Information'!E766)","v":""}]
[null,null,null,{"$f":"IF(ISBLANK('Tenant Information'!E767),\"\",'Tenant Information'!E767)","v":""}]
[null,null,null,{"$f":"IF(ISBLANK('Tenant Information'!E768),\"\",'Tenant Information'!E768)","v":""}]
[null,null,null,{"$f":"IF(ISBLANK('Tenant Information'!E769),\"\",'Tenant Information'!E769)","v":""}]
[null,null,null,{"$f":"IF(ISBLANK('Tenant Information'!E770),\"\",'Tenant Information'!E770)","v":""}]
[null,null,null,{"$f":"IF(ISBLANK('Tenant Information'!E771),\"\",'Tenant Information'!E771)","v":""}]
[null,null,null,{"$f":"IF(ISBLANK('Tenant Information'!E772),\"\",'Tenant Information'!E772)","v":""}]
[null,null,null,{"$f":"IF(ISBLANK('Tenant Information'!E773),\"\",'Tenant Information'!E773)","v":""}]
[null,null,null,{"$f":"IF(ISBLANK('Tenant Information'!E774),\"\",'Tenant Information'!E774)","v":""}]
[null,null,null,{"$f":"IF(ISBLANK('Tenant Information'!E775),\"\",'Tenant Information'!E775)","v":""}]
[null,null,null,{"$f":"IF(ISBLANK('Tenant Information'!E776),\"\",'Tenant Information'!E776)","v":""}]
[null,null,null,{"$f":"IF(ISBLANK('Tenant Information'!E777),\"\",'Tenant Information'!E777)","v":""}]
[null,null,null,{"$f":"IF(ISBLANK('Tenant Information'!E778),\"\",'Tenant Information'!E778)","v":""}]
[null,null,null,{"$f":"IF(ISBLANK('Tenant Information'!E779),\"\",'Tenant Information'!E779)","v":""}]
[null,null,null,{"$f":"IF(ISBLANK('Tenant Information'!E780),\"\",'Tenant Information'!E780)","v":""}]
[null,null,null,{"$f":"IF(ISBLANK('Tenant Information'!E781),\"\",'Tenant Information'!E781)","v":""}]
[null,null,null,{"$f":"IF(ISBLANK('Tenant Information'!E782),\"\",'Tenant Information'!E782)","v":""}]
[null,null,null,{"$f":"IF(ISBLANK('Tenant Information'!E783),\"\",'Tenant Information'!E783)","v":""}]
[null,null,null,{"$f":"IF(ISBLANK('Tenant Information'!E784),\"\",'Tenant Information'!E784)","v":""}]
[null,null,null,{"$f":"IF(ISBLANK('Tenant Information'!E785),\"\",'Tenant Information'!E785)","v":""}]
[null,null,null,{"$f":"IF(ISBLANK('Tenant Information'!E786),\"\",'Tenant Information'!E786)","v":""}]
[null,null,null,{"$f":"IF(ISBLANK('Tenant Information'!E787),\"\",'Tenant Information'!E787)","v":""}]
[null,null,null,{"$f":"IF(ISBLANK('Tenant Information'!E788),\"\",'Tenant Information'!E788)","v":""}]
[null,null,null,{"$f":"IF(ISBLANK('Tenant Information'!E789),\"\",'Tenant Information'!E789)","v":""}]
[null,null,null,{"$f":"IF(ISBLANK('Tenant Information'!E790),\"\",'Tenant Information'!E790)","v":""}]
[null,null,null,{"$f":"IF(ISBLANK('Tenant Information'!E791),\"\",'Tenant Information'!E791)","v":""}]
[null,null,null,{"$f":"IF(ISBLANK('Tenant Information'!E792),\"\",'Tenant Information'!E792)","v":""}]
[null,null,null,{"$f":"IF(ISBLANK('Tenant Information'!E793),\"\",'Tenant Information'!E793)","v":""}]
[null,null,null,{"$f":"IF(ISBLANK('Tenant Information'!E794),\"\",'Tenant Information'!E794)","v":""}]
[null,null,null,{"$f":"IF(ISBLANK('Tenant Information'!E795),\"\",'Tenant Information'!E795)","v":""}]
[null,null,null,{"$f":"IF(ISBLANK('Tenant Information'!E796),\"\",'Tenant Information'!E796)","v":""}]
[null,null,null,{"$f":"IF(ISBLANK('Tenant Information'!E797),\"\",'Tenant Information'!E797)","v":""}]
[null,null,null,{"$f":"IF(ISBLANK('Tenant Information'!E798),\"\",'Tenant Information'!E798)","v":""}]
[null,null,null,{"$f":"IF(ISBLANK('Tenant Information'!E799),\"\",'Tenant Information'!E799)","v":""}]
[null,null,null,{"$f":"IF(ISBLANK('Tenant Information'!E800),\"\",'Tenant Information'!E800)","v":""}]
[null,null,null,{"$f":"IF(ISBLANK('Tenant Information'!E801),\"\",'Tenant Information'!E801)","v":""}]
[null,null,null,{"$f":"IF(ISBLANK('Tenant Information'!E802),\"\",'Tenant Information'!E802)","v":""}]
[null,null,null,{"$f":"IF(ISBLANK('Tenant Information'!E803),\"\",'Tenant Information'!E803)","v":""}]
[null,null,null,{"$f":"IF(ISBLANK('Tenant Information'!E804),\"\",'Tenant Information'!E804)","v":""}]
[null,null,null,{"$f":"IF(ISBLANK('Tenant Information'!E805),\"\",'Tenant Information'!E805)","v":""}]
[null,null,null,{"$f":"IF(ISBLANK('Tenant Information'!E806),\"\",'Tenant Information'!E806)","v":""}]
[null,null,null,{"$f":"IF(ISBLANK('Tenant Information'!E807),\"\",'Tenant Information'!E807)","v":""}]
[null,null,null,{"$f":"IF(ISBLANK('Tenant Information'!E808),\"\",'Tenant Information'!E808)","v":""}]
[null,null,null,{"$f":"IF(ISBLANK('Tenant Information'!E809),\"\",'Tenant Information'!E809)","v":""}]
[null,null,null,{"$f":"IF(ISBLANK('Tenant Information'!E810),\"\",'Tenant Information'!E810)","v":""}]
[null,null,null,{"$f":"IF(ISBLANK('Tenant Information'!E811),\"\",'Tenant Information'!E811)","v":""}]
[null,null,null,{"$f":"IF(ISBLANK('Tenant Information'!E812),\"\",'Tenant Information'!E812)","v":""}]
[null,null,null,{"$f":"IF(ISBLANK('Tenant Information'!E813),\"\",'Tenant Information'!E813)","v":""}]
[null,null,null,{"$f":"IF(ISBLANK('Tenant Information'!E814),\"\",'Tenant Information'!E814)","v":""}]
[null,null,null,{"$f":"IF(ISBLANK('Tenant Information'!E815),\"\",'Tenant Information'!E815)","v":""}]
[null,null,null,{"$f":"IF(ISBLANK('Tenant Information'!E816),\"\",'Tenant Information'!E816)","v":""}]
[null,null,null,{"$f":"IF(ISBLANK('Tenant Information'!E817),\"\",'Tenant Information'!E817)","v":""}]
[null,null,null,{"$f":"IF(ISBLANK('Tenant Information'!E818),\"\",'Tenant Information'!E818)","v":""}]
[null,null,null,{"$f":"IF(ISBLANK('Tenant Information'!E819),\"\",'Tenant Information'!E819)","v":""}]
[null,null,null,{"$f":"IF(ISBLANK('Tenant Information'!E820),\"\",'Tenant Information'!E820)","v":""}]
[null,null,null,{"$f":"IF(ISBLANK('Tenant Information'!E821),\"\",'Tenant Information'!E821)","v":""}]
[null,null,null,{"$f":"IF(ISBLANK('Tenant Information'!E822),\"\",'Tenant Information'!E822)","v":""}]
[null,null,null,{"$f":"IF(ISBLANK('Tenant Information'!E823),\"\",'Tenant Information'!E823)","v":""}]
[null,null,null,{"$f":"IF(ISBLANK('Tenant Information'!E824),\"\",'Tenant Information'!E824)","v":""}]
[null,null,null,{"$f":"IF(ISBLANK('Tenant Information'!E825),\"\",'Tenant Information'!E825)","v":""}]
[null,null,null,{"$f":"IF(ISBLANK('Tenant Information'!E826),\"\",'Tenant Information'!E826)","v":""}]
[null,null,null,{"$f":"IF(ISBLANK('Tenant Information'!E827),\"\",'Tenant Information'!E827)","v":""}]
[null,null,null,{"$f":"IF(ISBLANK('Tenant Information'!E828),\"\",'Tenant Information'!E828)","v":""}]
[null,null,null,{"$f":"IF(ISBLANK('Tenant Information'!E829),\"\",'Tenant Information'!E829)","v":""}]
[null,null,null,{"$f":"IF(ISBLANK('Tenant Information'!E830),\"\",'Tenant Information'!E830)","v":""}]
[null,null,null,{"$f":"IF(ISBLANK('Tenant Information'!E831),\"\",'Tenant Information'!E831)","v":""}]
[null,null,null,{"$f":"IF(ISBLANK('Tenant Information'!E832),\"\",'Tenant Information'!E832)","v":""}]
[null,null,null,{"$f":"IF(ISBLANK('Tenant Information'!E833),\"\",'Tenant Information'!E833)","v":""}]
[null,null,null,{"$f":"IF(ISBLANK('Tenant Information'!E834),\"\",'Tenant Information'!E834)","v":""}]
[null,null,null,{"$f":"IF(ISBLANK('Tenant Information'!E835),\"\",'Tenant Information'!E835)","v":""}]
[null,null,null,{"$f":"IF(ISBLANK('Tenant Information'!E836),\"\",'Tenant Information'!E836)","v":""}]
[null,null,null,{"$f":"IF(ISBLANK('Tenant Information'!E837),\"\",'Tenant Information'!E837)","v":""}]
[null,null,null,{"$f":"IF(ISBLANK('Tenant Information'!E838),\"\",'Tenant Information'!E838)","v":""}]
[null,null,null,{"$f":"IF(ISBLANK('Tenant Information'!E839),\"\",'Tenant Information'!E839)","v":""}]
[null,null,null,{"$f":"IF(ISBLANK('Tenant Information'!E840),\"\",'Tenant Information'!E840)","v":""}]
[null,null,null,{"$f":"IF(ISBLANK('Tenant Information'!E841),\"\",'Tenant Information'!E841)","v":""}]
[null,null,null,{"$f":"IF(ISBLANK('Tenant Information'!E842),\"\",'Tenant Information'!E842)","v":""}]
[null,null,null,{"$f":"IF(ISBLANK('Tenant Information'!E843),\"\",'Tenant Information'!E843)","v":""}]
[null,null,null,{"$f":"IF(ISBLANK('Tenant Information'!E844),\"\",'Tenant Information'!E844)","v":""}]
[null,null,null,{"$f":"IF(ISBLANK('Tenant Information'!E845),\"\",'Tenant Information'!E845)","v":""}]
[null,null,null,{"$f":"IF(ISBLANK('Tenant Information'!E846),\"\",'Tenant Information'!E846)","v":""}]
[null,null,null,{"$f":"IF(ISBLANK('Tenant Information'!E847),\"\",'Tenant Information'!E847)","v":""}]
[null,null,null,{"$f":"IF(ISBLANK('Tenant Information'!E848),\"\",'Tenant Information'!E848)","v":""}]
[null,null,null,{"$f":"IF(ISBLANK('Tenant Information'!E849),\"\",'Tenant Information'!E849)","v":""}]
[null,null,null,{"$f":"IF(ISBLANK('Tenant Information'!E850),\"\",'Tenant Information'!E850)","v":""}]
[null,null,null,{"$f":"IF(ISBLANK('Tenant Information'!E851),\"\",'Tenant Information'!E851)","v":""}]
[null,null,null,{"$f":"IF(ISBLANK('Tenant Information'!E852),\"\",'Tenant Information'!E852)","v":""}]
[null,null,null,{"$f":"IF(ISBLANK('Tenant Information'!E853),\"\",'Tenant Information'!E853)","v":""}]
[null,null,null,{"$f":"IF(ISBLANK('Tenant Information'!E854),\"\",'Tenant Information'!E854)","v":""}]
[null,null,null,{"$f":"IF(ISBLANK('Tenant Information'!E855),\"\",'Tenant Information'!E855)","v":""}]
[null,null,null,{"$f":"IF(ISBLANK('Tenant Information'!E856),\"\",'Tenant Information'!E856)","v":""}]
[null,null,null,{"$f":"IF(ISBLANK('Tenant Information'!E857),\"\",'Tenant Information'!E857)","v":""}]
[null,null,null,{"$f":"IF(ISBLANK('Tenant Information'!E858),\"\",'Tenant Information'!E858)","v":""}]
[null,null,null,{"$f":"IF(ISBLANK('Tenant Information'!E859),\"\",'Tenant Information'!E859)","v":""}]
[null,null,null,{"$f":"IF(ISBLANK('Tenant Information'!E860),\"\",'Tenant Information'!E860)","v":""}]
[null,null,null,{"$f":"IF(ISBLANK('Tenant Information'!E861),\"\",'Tenant Information'!E861)","v":""}]
[null,null,null,{"$f":"IF(ISBLANK('Tenant Information'!E862),\"\",'Tenant Information'!E862)","v":""}]
[null,null,null,{"$f":"IF(ISBLANK('Tenant Information'!E863),\"\",'Tenant Information'!E863)","v":""}]
[null,null,null,{"$f":"IF(ISBLANK('Tenant Information'!E864),\"\",'Tenant Information'!E864)","v":""}]
[null,null,null,{"$f":"IF(ISBLANK('Tenant Information'!E865),\"\",'Tenant Information'!E865)","v":""}]
[null,null,null,{"$f":"IF(ISBLANK('Tenant Information'!E866),\"\",'Tenant Information'!E866)","v":""}]
[null,null,null,{"$f":"IF(ISBLANK('Tenant Information'!E867),\"\",'Tenant Information'!E867)","v":""}]
[null,null,null,{"$f":"IF(ISBLANK('Tenant Information'!E868),\"\",'Tenant Information'!E868)","v":""}]
[null,null,null,{"$f":"IF(ISBLANK('Tenant Information'!E869),\"\",'Tenant Information'!E869)","v":""}]
[null,null,null,{"$f":"IF(ISBLANK('Tenant Information'!E870),\"\",'Tenant Information'!E870)","v":""}]
[null,null,null,{"$f":"IF(ISBLANK('Tenant Information'!E871),\"\",'Tenant Information'!E871)","v":""}]
[null,null,null,{"$f":"IF(ISBLANK('Tenant Information'!E872),\"\",'Tenant Information'!E872)","v":""}]
[null,null,null,{"$f":"IF(ISBLANK('Tenant Information'!E873),\"\",'Tenant Information'!E873)","v":""}]
[null,null,null,{"$f":"IF(ISBLANK('Tenant Information'!E874),\"\",'Tenant Information'!E874)","v":""}]
[null,null,null,{"$f":"IF(ISBLANK('Tenant Information'!E875),\"\",'Tenant Information'!E875)","v":""}]
[null,null,null,{"$f":"IF(ISBLANK('Tenant Information'!E876),\"\",'Tenant Information'!E876)","v":""}]
[null,null,null,{"$f":"IF(ISBLANK('Tenant Information'!E877),\"\",'Tenant Information'!E877)","v":""}]
[null,null,null,{"$f":"IF(ISBLANK('Tenant Information'!E878),\"\",'Tenant Information'!E878)","v":""}]
[null,null,null,{"$f":"IF(ISBLANK('Tenant Information'!E879),\"\",'Tenant Information'!E879)","v":""}]
[null,null,null,{"$f":"IF(ISBLANK('Tenant Information'!E880),\"\",'Tenant Information'!E880)","v":""}]
[null,null,null,{"$f":"IF(ISBLANK('Tenant Information'!E881),\"\",'Tenant Information'!E881)","v":""}]
[null,null,null,{"$f":"IF(ISBLANK('Tenant Information'!E882),\"\",'Tenant Information'!E882)","v":""}]
[null,null,null,{"$f":"IF(ISBLANK('Tenant Information'!E883),\"\",'Tenant Information'!E883)","v":""}]
[null,null,null,{"$f":"IF(ISBLANK('Tenant Information'!E884),\"\",'Tenant Information'!E884)","v":""}]
[null,null,null,{"$f":"IF(ISBLANK('Tenant Information'!E885),\"\",'Tenant Information'!E885)","v":""}]
[null,null,null,{"$f":"IF(ISBLANK('Tenant Information'!E886),\"\",'Tenant Information'!E886)","v":""}]
[null,null,null,{"$f":"IF(ISBLANK('Tenant Information'!E887),\"\",'Tenant Information'!E887)","v":""}]
[null,null,null,{"$f":"IF(ISBLANK('Tenant Information'!E888),\"\",'Tenant Information'!E888)","v":""}]
[null,null,null,{"$f":"IF(ISBLANK('Tenant Information'!E889),\"\",'Tenant Information'!E889)","v":""}]
[null,null,null,{"$f":"IF(ISBLANK('Tenant Information'!E890),\"\",'Tenant Information'!E890)","v":""}]
[null,null,null,{"$f":"IF(ISBLANK('Tenant Information'!E891),\"\",'Tenant Information'!E891)","v":""}]
[null,null,null,{"$f":"IF(ISBLANK('Tenant Information'!E892),\"\",'Tenant Information'!E892)","v":""}]
[null,null,null,{"$f":"IF(ISBLANK('Tenant Information'!E893),\"\",'Tenant Information'!E893)","v":""}]
[null,null,null,{"$f":"IF(ISBLANK('Tenant Information'!E894),\"\",'Tenant Information'!E894)","v":""}]
[null,null,null,{"$f":"IF(ISBLANK('Tenant Information'!E895),\"\",'Tenant Information'!E895)","v":""}]
[null,null,null,{"$f":"IF(ISBLANK('Tenant Information'!E896),\"\",'Tenant Information'!E896)","v":""}]
[null,null,null,{"$f":"IF(ISBLANK('Tenant Information'!E897),\"\",'Tenant Information'!E897)","v":""}]
[null,null,null,{"$f":"IF(ISBLANK('Tenant Information'!E898),\"\",'Tenant Information'!E898)","v":""}]
[null,null,null,{"$f":"IF(ISBLANK('Tenant Information'!E899),\"\",'Tenant Information'!E899)","v":""}]
[null,null,null,{"$f":"IF(ISBLANK('Tenant Information'!E900),\"\",'Tenant Information'!E900)","v":""}]
[null,null,null,{"$f":"IF(ISBLANK('Tenant Information'!E901),\"\",'Tenant Information'!E901)","v":""}]
[null,null,null,{"$f":"IF(ISBLANK('Tenant Information'!E902),\"\",'Tenant Information'!E902)","v":""}]
[null,null,null,{"$f":"IF(ISBLANK('Tenant Information'!E903),\"\",'Tenant Information'!E903)","v":""}]
[null,null,null,{"$f":"IF(ISBLANK('Tenant Information'!E904),\"\",'Tenant Information'!E904)","v":""}]
[null,null,null,{"$f":"IF(ISBLANK('Tenant Information'!E905),\"\",'Tenant Information'!E905)","v":""}]
[null,null,null,{"$f":"IF(ISBLANK('Tenant Information'!E906),\"\",'Tenant Information'!E906)","v":""}]
[null,null,null,{"$f":"IF(ISBLANK('Tenant Information'!E907),\"\",'Tenant Information'!E907)","v":""}]
[null,null,null,{"$f":"IF(ISBLANK('Tenant Information'!E908),\"\",'Tenant Information'!E908)","v":""}]
[null,null,null,{"$f":"IF(ISBLANK('Tenant Information'!E909),\"\",'Tenant Information'!E909)","v":""}]
[null,null,null,{"$f":"IF(ISBLANK('Tenant Information'!E910),\"\",'Tenant Information'!E910)","v":""}]
[null,null,null,{"$f":"IF(ISBLANK('Tenant Information'!E911),\"\",'Tenant Information'!E911)","v":""}]
[null,null,null,{"$f":"IF(ISBLANK('Tenant Information'!E912),\"\",'Tenant Information'!E912)","v":""}]
[null,null,null,{"$f":"IF(ISBLANK('Tenant Information'!E913),\"\",'Tenant Information'!E913)","v":""}]
[null,null,null,{"$f":"IF(ISBLANK('Tenant Information'!E914),\"\",'Tenant Information'!E914)","v":""}]
[null,null,null,{"$f":"IF(ISBLANK('Tenant Information'!E915),\"\",'Tenant Information'!E915)","v":""}]
[null,null,null,{"$f":"IF(ISBLANK('Tenant Information'!E916),\"\",'Tenant Information'!E916)","v":""}]
[null,null,null,{"$f":"IF(ISBLANK('Tenant Information'!E917),\"\",'Tenant Information'!E917)","v":""}]
[null,null,null,{"$f":"IF(ISBLANK('Tenant Information'!E918),\"\",'Tenant Information'!E918)","v":""}]
[null,null,null,{"$f":"IF(ISBLANK('Tenant Information'!E919),\"\",'Tenant Information'!E919)","v":""}]
[null,null,null,{"$f":"IF(ISBLANK('Tenant Information'!E920),\"\",'Tenant Information'!E920)","v":""}]
[null,null,null,{"$f":"IF(ISBLANK('Tenant Information'!E921),\"\",'Tenant Information'!E921)","v":""}]
[null,null,null,{"$f":"IF(ISBLANK('Tenant Information'!E922),\"\",'Tenant Information'!E922)","v":""}]
[null,null,null,{"$f":"IF(ISBLANK('Tenant Information'!E923),\"\",'Tenant Information'!E923)","v":""}]
[null,null,null,{"$f":"IF(ISBLANK('Tenant Information'!E924),\"\",'Tenant Information'!E924)","v":""}]
[null,null,null,{"$f":"IF(ISBLANK('Tenant Information'!E925),\"\",'Tenant Information'!E925)","v":""}]
[null,null,null,{"$f":"IF(ISBLANK('Tenant Information'!E926),\"\",'Tenant Information'!E926)","v":""}]
[null,null,null,{"$f":"IF(ISBLANK('Tenant Information'!E927),\"\",'Tenant Information'!E927)","v":""}]
[null,null,null,{"$f":"IF(ISBLANK('Tenant Information'!E928),\"\",'Tenant Information'!E928)","v":""}]
[null,null,null,{"$f":"IF(ISBLANK('Tenant Information'!E929),\"\",'Tenant Information'!E929)","v":""}]
[null,null,null,{"$f":"IF(ISBLANK('Tenant Information'!E930),\"\",'Tenant Information'!E930)","v":""}]
[null,null,null,{"$f":"IF(ISBLANK('Tenant Information'!E931),\"\",'Tenant Information'!E931)","v":""}]
[null,null,null,{"$f":"IF(ISBLANK('Tenant Information'!E932),\"\",'Tenant Information'!E932)","v":""}]
[null,null,null,{"$f":"IF(ISBLANK('Tenant Information'!E933),\"\",'Tenant Information'!E933)","v":""}]
[null,null,null,{"$f":"IF(ISBLANK('Tenant Information'!E934),\"\",'Tenant Information'!E934)","v":""}]
[null,null,null,{"$f":"IF(ISBLANK('Tenant Information'!E935),\"\",'Tenant Information'!E935)","v":""}]
[null,null,null,{"$f":"IF(ISBLANK('Tenant Information'!E936),\"\",'Tenant Information'!E936)","v":""}]
[null,null,null,{"$f":"IF(ISBLANK('Tenant Information'!E937),\"\",'Tenant Information'!E937)","v":""}]
[null,null,null,{"$f":"IF(ISBLANK('Tenant Information'!E938),\"\",'Tenant Information'!E938)","v":""}]
[null,null,null,{"$f":"IF(ISBLANK('Tenant Information'!E939),\"\",'Tenant Information'!E939)","v":""}]
[null,null,null,{"$f":"IF(ISBLANK('Tenant Information'!E940),\"\",'Tenant Information'!E940)","v":""}]
[null,null,null,{"$f":"IF(ISBLANK('Tenant Information'!E941),\"\",'Tenant Information'!E941)","v":""}]
[null,null,null,{"$f":"IF(ISBLANK('Tenant Information'!E942),\"\",'Tenant Information'!E942)","v":""}]
[null,null,null,{"$f":"IF(ISBLANK('Tenant Information'!E943),\"\",'Tenant Information'!E943)","v":""}]
[null,null,null,{"$f":"IF(ISBLANK('Tenant Information'!E944),\"\",'Tenant Information'!E944)","v":""}]
[null,null,null,{"$f":"IF(ISBLANK('Tenant Information'!E945),\"\",'Tenant Information'!E945)","v":""}]
[null,null,null,{"$f":"IF(ISBLANK('Tenant Information'!E946),\"\",'Tenant Information'!E946)","v":""}]
[null,null,null,{"$f":"IF(ISBLANK('Tenant Information'!E947),\"\",'Tenant Information'!E947)","v":""}]
[null,null,null,{"$f":"IF(ISBLANK('Tenant Information'!E948),\"\",'Tenant Information'!E948)","v":""}]
[null,null,null,{"$f":"IF(ISBLANK('Tenant Information'!E949),\"\",'Tenant Information'!E949)","v":""}]
[null,null,null,{"$f":"IF(ISBLANK('Tenant Information'!E950),\"\",'Tenant Information'!E950)","v":""}]
[null,null,null,{"$f":"IF(ISBLANK('Tenant Information'!E951),\"\",'Tenant Information'!E951)","v":""}]
[null,null,null,{"$f":"IF(ISBLANK('Tenant Information'!E952),\"\",'Tenant Information'!E952)","v":""}]
[null,null,null,{"$f":"IF(ISBLANK('Tenant Information'!E953),\"\",'Tenant Information'!E953)","v":""}]
[null,null,null,{"$f":"IF(ISBLANK('Tenant Information'!E954),\"\",'Tenant Information'!E954)","v":""}]
[null,null,null,{"$f":"IF(ISBLANK('Tenant Information'!E955),\"\",'Tenant Information'!E955)","v":""}]
[null,null,null,{"$f":"IF(ISBLANK('Tenant Information'!E956),\"\",'Tenant Information'!E956)","v":""}]
[null,null,null,{"$f":"IF(ISBLANK('Tenant Information'!E957),\"\",'Tenant Information'!E957)","v":""}]
[null,null,null,{"$f":"IF(ISBLANK('Tenant Information'!E958),\"\",'Tenant Information'!E958)","v":""}]
[null,null,null,{"$f":"IF(ISBLANK('Tenant Information'!E959),\"\",'Tenant Information'!E959)","v":""}]
[null,null,null,{"$f":"IF(ISBLANK('Tenant Information'!E960),\"\",'Tenant Information'!E960)","v":""}]
[null,null,null,{"$f":"IF(ISBLANK('Tenant Information'!E961),\"\",'Tenant Information'!E961)","v":""}]
[null,null,null,{"$f":"IF(ISBLANK('Tenant Information'!E962),\"\",'Tenant Information'!E962)","v":""}]
[null,null,null,{"$f":"IF(ISBLANK('Tenant Information'!E963),\"\",'Tenant Information'!E963)","v":""}]
[null,null,null,{"$f":"IF(ISBLANK('Tenant Information'!E964),\"\",'Tenant Information'!E964)","v":""}]
[null,null,null,{"$f":"IF(ISBLANK('Tenant Information'!E965),\"\",'Tenant Information'!E965)","v":""}]
[null,null,null,{"$f":"IF(ISBLANK('Tenant Information'!E966),\"\",'Tenant Information'!E966)","v":""}]
[null,null,null,{"$f":"IF(ISBLANK('Tenant Information'!E967),\"\",'Tenant Information'!E967)","v":""}]
[null,null,null,{"$f":"IF(ISBLANK('Tenant Information'!E968),\"\",'Tenant Information'!E968)","v":""}]
[null,null,null,{"$f":"IF(ISBLANK('Tenant Information'!E969),\"\",'Tenant Information'!E969)","v":""}]
[null,null,null,{"$f":"IF(ISBLANK('Tenant Information'!E970),\"\",'Tenant Information'!E970)","v":""}]
[null,null,null,{"$f":"IF(ISBLANK('Tenant Information'!E971),\"\",'Tenant Information'!E971)","v":""}]
[null,null,null,{"$f":"IF(ISBLANK('Tenant Information'!E972),\"\",'Tenant Information'!E972)","v":""}]
[null,null,null,{"$f":"IF(ISBLANK('Tenant Information'!E973),\"\",'Tenant Information'!E973)","v":""}]
[null,null,null,{"$f":"IF(ISBLANK('Tenant Information'!E974),\"\",'Tenant Information'!E974)","v":""}]
[null,null,null,{"$f":"IF(ISBLANK('Tenant Information'!E975),\"\",'Tenant Information'!E975)","v":""}]
[null,null,null,{"$f":"IF(ISBLANK('Tenant Information'!E976),\"\",'Tenant Information'!E976)","v":""}]
[null,null,null,{"$f":"IF(ISBLANK('Tenant Information'!E977),\"\",'Tenant Information'!E977)","v":""}]
[null,null,null,{"$f":"IF(ISBLANK('Tenant Information'!E978),\"\",'Tenant Information'!E978)","v":""}]
[null,null,null,{"$f":"IF(ISBLANK('Tenant Information'!E979),\"\",'Tenant Information'!E979)","v":""}]
[null,null,null,{"$f":"IF(ISBLANK('Tenant Information'!E980),\"\",'Tenant Information'!E980)","v":""}]
[null,null,null,{"$f":"IF(ISBLANK('Tenant Information'!E981),\"\",'Tenant Information'!E981)","v":""}]
[null,null,null,{"$f":"IF(ISBLANK('Tenant Information'!E982),\"\",'Tenant Information'!E982)","v":""}]
[null,null,null,{"$f":"IF(ISBLANK('Tenant Information'!E983),\"\",'Tenant Information'!E983)","v":""}]
[null,null,null,{"$f":"IF(ISBLANK('Tenant Information'!E984),\"\",'Tenant Information'!E984)","v":""}]
[null,null,null,{"$f":"IF(ISBLANK('Tenant Information'!E985),\"\",'Tenant Information'!E985)","v":""}]
[null,null,null,{"$f":"IF(ISBLANK('Tenant Information'!E986),\"\",'Tenant Information'!E986)","v":""}]
[null,null,null,{"$f":"IF(ISBLANK('Tenant Information'!E987),\"\",'Tenant Information'!E987)","v":""}]
[null,null,null,{"$f":"IF(ISBLANK('Tenant Information'!E988),\"\",'Tenant Information'!E988)","v":""}]
[null,null,null,{"$f":"IF(ISBLANK('Tenant Information'!E989),\"\",'Tenant Information'!E989)","v":""}]
[null,null,null,{"$f":"IF(ISBLANK('Tenant Information'!E990),\"\",'Tenant Information'!E990)","v":""}]
[null,null,null,{"$f":"IF(ISBLANK('Tenant Information'!E991),\"\",'Tenant Information'!E991)","v":""}]
[null,null,null,{"$f":"IF(ISBLANK('Tenant Information'!E992),\"\",'Tenant Information'!E992)","v":""}]
[null,null,null,{"$f":"IF(ISBLANK('Tenant Information'!E993),\"\",'Tenant Information'!E993)","v":""}]
[null,null,null,{"$f":"IF(ISBLANK('Tenant Information'!E994),\"\",'Tenant Information'!E994)","v":""}]
[null,null,null,{"$f":"IF(ISBLANK('Tenant Information'!E995),\"\",'Tenant Information'!E995)","v":""}]
[null,null,null,{"$f":"IF(ISBLANK('Tenant Information'!E996),\"\",'Tenant Information'!E996)","v":""}]
[null,null,null,{"$f":"IF(ISBLANK('Tenant Information'!E997),\"\",'Tenant Information'!E997)","v":""}]
[null,null,null,{"$f":"IF(ISBLANK('Tenant Information'!E998),\"\",'Tenant Information'!E998)","v":""}]
[null,null,null,{"$f":"IF(ISBLANK('Tenant Information'!E999),\"\",'Tenant Information'!E999)","v":""}]
[null,null,null,{"$f":"IF(ISBLANK('Tenant Information'!E1000),\"\",'Tenant Information'!E1000)","v":""}]
[null,null,null,{"$f":"IF(ISBLANK('Tenant Information'!E1001),\"\",'Tenant Information'!E1001)","v":""}]
[null,null,null,{"$f":"IF(ISBLANK('Tenant Information'!E1002),\"\",'Tenant Information'!E1002)","v":""}]
[null,null,null,{"$f":"IF(ISBLANK('Tenant Information'!E1003),\"\",'Tenant Information'!E1003)","v":""}]
[null,null,null,{"$f":"IF(ISBLANK('Tenant Information'!E1004),\"\",'Tenant Information'!E1004)","v":""}]
[null,null,null,{"$f":"IF(ISBLANK('Tenant Information'!E1005),\"\",'Tenant Information'!E1005)","v":""}]
[null,null,null,{"$f":"IF(ISBLANK('Tenant Information'!E1006),\"\",'Tenant Information'!E1006)","v":""}]
[null,null,null,{"$f":"IF(ISBLANK('Tenant Information'!E1007),\"\",'Tenant Information'!E1007)","v":""}]
[null,null,null,{"$f":"IF(ISBLANK('Tenant Information'!E1008),\"\",'Tenant Information'!E1008)","v":""}]
[null,null,null,{"$f":"IF(ISBLANK('Tenant Information'!E1009),\"\",'Tenant Information'!E1009)","v":""}]
[null,null,null,{"$f":"IF(ISBLANK('Tenant Information'!E1010),\"\",'Tenant Information'!E1010)","v":""}]
[null,null,null,{"$f":"IF(ISBLANK('Tenant Information'!E1011),\"\",'Tenant Information'!E1011)","v":""}]
[null,null,null,{"$f":"IF(ISBLANK('Tenant Information'!E1012),\"\",'Tenant Information'!E1012)","v":""}]
[null,null,null,{"$f":"IF(ISBLANK('Tenant Information'!E1013),\"\",'Tenant Information'!E1013)","v":""}]
[null,null,null,{"$f":"IF(ISBLANK('Tenant Information'!E1014),\"\",'Tenant Information'!E1014)","v":""}]
[null,null,null,{"$f":"IF(ISBLANK('Tenant Information'!E1015),\"\",'Tenant Information'!E1015)","v":""}]
[null,null,null,{"$f":"IF(ISBLANK('Tenant Information'!E1016),\"\",'Tenant Information'!E1016)","v":""}]
[null,null,null,{"$f":"IF(ISBLANK('Tenant Information'!E1017),\"\",'Tenant Information'!E1017)","v":""}]
[null,null,null,{"$f":"IF(ISBLANK('Tenant Information'!E1018),\"\",'Tenant Information'!E1018)","v":""}]
[null,null,null,{"$f":"IF(ISBLANK('Tenant Information'!E1019),\"\",'Tenant Information'!E1019)","v":""}]
[null,null,null,{"$f":"IF(ISBLANK('Tenant Information'!E1020),\"\",'Tenant Information'!E1020)","v":""}]
[null,null,null,{"$f":"IF(ISBLANK('Tenant Information'!E1021),\"\",'Tenant Information'!E1021)","v":""}]
[null,null,null,{"$f":"IF(ISBLANK('Tenant Information'!E1022),\"\",'Tenant Information'!E1022)","v":""}]
[null,null,null,{"$f":"IF(ISBLANK('Tenant Information'!E1023),\"\",'Tenant Information'!E1023)","v":""}]
[null,null,null,{"$f":"IF(ISBLANK('Tenant Information'!E1024),\"\",'Tenant Information'!E1024)","v":""}]
[null,null,null,{"$f":"IF(ISBLANK('Tenant Information'!E1025),\"\",'Tenant Information'!E1025)","v":""}]
[null,null,null,{"$f":"IF(ISBLANK('Tenant Information'!E1026),\"\",'Tenant Information'!E1026)","v":""}]
[null,null,null,{"$f":"IF(ISBLANK('Tenant Information'!E1027),\"\",'Tenant Information'!E1027)","v":""}]
[null,null,null,{"$f":"IF(ISBLANK('Tenant Information'!E1028),\"\",'Tenant Information'!E1028)","v":""}]
[null,null,null,{"$f":"IF(ISBLANK('Tenant Information'!E1029),\"\",'Tenant Information'!E1029)","v":""}]
[null,null,null,{"$f":"IF(ISBLANK('Tenant Information'!E1030),\"\",'Tenant Information'!E1030)","v":""}]
[null,null,null,{"$f":"IF(ISBLANK('Tenant Information'!E1031),\"\",'Tenant Information'!E1031)","v":""}]
[null,null,null,{"$f":"IF(ISBLANK('Tenant Information'!E1032),\"\",'Tenant Information'!E1032)","v":""}]
[null,null,null,{"$f":"IF(ISBLANK('Tenant Information'!E1033),\"\",'Tenant Information'!E1033)","v":""}]
[null,null,null,{"$f":"IF(ISBLANK('Tenant Information'!E1034),\"\",'Tenant Information'!E1034)","v":""}]
[null,null,null,{"$f":"IF(ISBLANK('Tenant Information'!E1035),\"\",'Tenant Information'!E1035)","v":""}]
[null,null,null,{"$f":"IF(ISBLANK('Tenant Information'!E1036),\"\",'Tenant Information'!E1036)","v":""}]
[null,null,null,{"$f":"IF(ISBLANK('Tenant Information'!E1037),\"\",'Tenant Information'!E1037)","v":""}]
[null,null,null,{"$f":"IF(ISBLANK('Tenant Information'!E1038),\"\",'Tenant Information'!E1038)","v":""}]
[null,null,null,{"$f":"IF(ISBLANK('Tenant Information'!E1039),\"\",'Tenant Information'!E1039)","v":""}]
[null,null,null,{"$f":"IF(ISBLANK('Tenant Information'!E1040),\"\",'Tenant Information'!E1040)","v":""}]
[null,null,null,{"$f":"IF(ISBLANK('Tenant Information'!E1041),\"\",'Tenant Information'!E1041)","v":""}]
[null,null,null,{"$f":"IF(ISBLANK('Tenant Information'!E1042),\"\",'Tenant Information'!E1042)","v":""}]
[null,null,null,{"$f":"IF(ISBLANK('Tenant Information'!E1043),\"\",'Tenant Information'!E1043)","v":""}]
[null,null,null,{"$f":"IF(ISBLANK('Tenant Information'!E1044),\"\",'Tenant Information'!E1044)","v":""}]
[null,null,null,{"$f":"IF(ISBLANK('Tenant Information'!E1045),\"\",'Tenant Information'!E1045)","v":""}]
[null,null,null,{"$f":"IF(ISBLANK('Tenant Information'!E1046),\"\",'Tenant Information'!E1046)","v":""}]
[null,null,null,{"$f":"IF(ISBLANK('Tenant Information'!E1047),\"\",'Tenant Information'!E1047)","v":""}]
[null,null,null,{"$f":"IF(ISBLANK('Tenant Information'!E1048),\"\",'Tenant Information'!E1048)","v":""}]
[null,null,null,{"$f":"IF(ISBLANK('Tenant Information'!E1049),\"\",'Tenant Information'!E1049)","v":""}]
[null,null,null,{"$f":"IF(ISBLANK('Tenant Information'!E1050),\"\",'Tenant Information'!E1050)","v":""}]
[null,null,null,{"$f":"IF(ISBLANK('Tenant Information'!E1051),\"\",'Tenant Information'!E1051)","v":""}]
[null,null,null,{"$f":"IF(ISBLANK('Tenant Information'!E1052),\"\",'Tenant Information'!E1052)","v":""}]
[null,null,null,{"$f":"IF(ISBLANK('Tenant Information'!E1053),\"\",'Tenant Information'!E1053)","v":""}]
[null,null,null,{"$f":"IF(ISBLANK('Tenant Information'!E1054),\"\",'Tenant Information'!E1054)","v":""}]
[null,null,null,{"$f":"IF(ISBLANK('Tenant Information'!E1055),\"\",'Tenant Information'!E1055)","v":""}]
[null,null,null,{"$f":"IF(ISBLANK('Tenant Information'!E1056),\"\",'Tenant Information'!E1056)","v":""}]
[null,null,null,{"$f":"IF(ISBLANK('Tenant Information'!E1057),\"\",'Tenant Information'!E1057)","v":""}]
[null,null,null,{"$f":"IF(ISBLANK('Tenant Information'!E1058),\"\",'Tenant Information'!E1058)","v":""}]
[null,null,null,{"$f":"IF(ISBLANK('Tenant Information'!E1059),\"\",'Tenant Information'!E1059)","v":""}]
[null,null,null,{"$f":"IF(ISBLANK('Tenant Information'!E1060),\"\",'Tenant Information'!E1060)","v":""}]
[null,null,null,{"$f":"IF(ISBLANK('Tenant Information'!E1061),\"\",'Tenant Information'!E1061)","v":""}]
[null,null,null,{"$f":"IF(ISBLANK('Tenant Information'!E1062),\"\",'Tenant Information'!E1062)","v":""}]
[null,null,null,{"$f":"IF(ISBLANK('Tenant Information'!E1063),\"\",'Tenant Information'!E1063)","v":""}]
[null,null,null,{"$f":"IF(ISBLANK('Tenant Information'!E1064),\"\",'Tenant Information'!E1064)","v":""}]
[null,null,null,{"$f":"IF(ISBLANK('Tenant Information'!E1065),\"\",'Tenant Information'!E1065)","v":""}]
[null,null,null,{"$f":"IF(ISBLANK('Tenant Information'!E1066),\"\",'Tenant Information'!E1066)","v":""}]
[null,null,null,{"$f":"IF(ISBLANK('Tenant Information'!E1067),\"\",'Tenant Information'!E1067)","v":""}]
[null,null,null,{"$f":"IF(ISBLANK('Tenant Information'!E1068),\"\",'Tenant Information'!E1068)","v":""}]
[null,null,null,{"$f":"IF(ISBLANK('Tenant Information'!E1069),\"\",'Tenant Information'!E1069)","v":""}]
[null,null,null,{"$f":"IF(ISBLANK('Tenant Information'!E1070),\"\",'Tenant Information'!E1070)","v":""}]
[null,null,null,{"$f":"IF(ISBLANK('Tenant Information'!E1071),\"\",'Tenant Information'!E1071)","v":""}]
[null,null,null,{"$f":"IF(ISBLANK('Tenant Information'!E1072),\"\",'Tenant Information'!E1072)","v":""}]
[null,null,null,{"$f":"IF(ISBLANK('Tenant Information'!E1073),\"\",'Tenant Information'!E1073)","v":""}]
[null,null,null,{"$f":"IF(ISBLANK('Tenant Information'!E1074),\"\",'Tenant Information'!E1074)","v":""}]
[null,null,null,{"$f":"IF(ISBLANK('Tenant Information'!E1075),\"\",'Tenant Information'!E1075)","v":""}]
[null,null,null,{"$f":"IF(ISBLANK('Tenant Information'!E1076),\"\",'Tenant Information'!E1076)","v":""}]
[null,null,null,{"$f":"IF(ISBLANK('Tenant Information'!E1077),\"\",'Tenant Information'!E1077)","v":""}]
[null,null,null,{"$f":"IF(ISBLANK('Tenant Information'!E1078),\"\",'Tenant Information'!E1078)","v":""}]
[null,null,null,{"$f":"IF(ISBLANK('Tenant Information'!E1079),\"\",'Tenant Information'!E1079)","v":""}]
[null,null,null,{"$f":"IF(ISBLANK('Tenant Information'!E1080),\"\",'Tenant Information'!E1080)","v":""}]
[null,null,null,{"$f":"IF(ISBLANK('Tenant Information'!E1081),\"\",'Tenant Information'!E1081)","v":""}]
[null,null,null,{"$f":"IF(ISBLANK('Tenant Information'!E1082),\"\",'Tenant Information'!E1082)","v":""}]
[null,null,null,{"$f":"IF(ISBLANK('Tenant Information'!E1083),\"\",'Tenant Information'!E1083)","v":""}]
[null,null,null,{"$f":"IF(ISBLANK('Tenant Information'!E1084),\"\",'Tenant Information'!E1084)","v":""}]
[null,null,null,{"$f":"IF(ISBLANK('Tenant Information'!E1085),\"\",'Tenant Information'!E1085)","v":""}]
[null,null,null,{"$f":"IF(ISBLANK('Tenant Information'!E1086),\"\",'Tenant Information'!E1086)","v":""}]
[null,null,null,{"$f":"IF(ISBLANK('Tenant Information'!E1087),\"\",'Tenant Information'!E1087)","v":""}]
[null,null,null,{"$f":"IF(ISBLANK('Tenant Information'!E1088),\"\",'Tenant Information'!E1088)","v":""}]
[null,null,null,{"$f":"IF(ISBLANK('Tenant Information'!E1089),\"\",'Tenant Information'!E1089)","v":""}]
[null,null,null,{"$f":"IF(ISBLANK('Tenant Information'!E1090),\"\",'Tenant Information'!E1090)","v":""}]
[null,null,null,{"$f":"IF(ISBLANK('Tenant Information'!E1091),\"\",'Tenant Information'!E1091)","v":""}]
[null,null,null,{"$f":"IF(ISBLANK('Tenant Information'!E1092),\"\",'Tenant Information'!E1092)","v":""}]
[null,null,null,{"$f":"IF(ISBLANK('Tenant Information'!E1093),\"\",'Tenant Information'!E1093)","v":""}]
[null,null,null,{"$f":"IF(ISBLANK('Tenant Information'!E1094),\"\",'Tenant Information'!E1094)","v":""}]
[null,null,null,{"$f":"IF(ISBLANK('Tenant Information'!E1095),\"\",'Tenant Information'!E1095)","v":""}]
[null,null,null,{"$f":"IF(ISBLANK('Tenant Information'!E1096),\"\",'Tenant Information'!E1096)","v":""}]
[null,null,null,{"$f":"IF(ISBLANK('Tenant Information'!E1097),\"\",'Tenant Information'!E1097)","v":""}]
[null,null,null,{"$f":"IF(ISBLANK('Tenant Information'!E1098),\"\",'Tenant Information'!E1098)","v":""}]
[null,null,null,{"$f":"IF(ISBLANK('Tenant Information'!E1099),\"\",'Tenant Information'!E1099)","v":""}]
[null,null,null,{"$f":"IF(ISBLANK('Tenant Information'!E1100),\"\",'Tenant Information'!E1100)","v":""}]
[null,null,null,{"$f":"IF(ISBLANK('Tenant Information'!E1101),\"\",'Tenant Information'!E1101)","v":""}]
[null,null,null,{"$f":"IF(ISBLANK('Tenant Information'!E1102),\"\",'Tenant Information'!E1102)","v":""}]
[null,null,null,{"$f":"IF(ISBLANK('Tenant Information'!E1103),\"\",'Tenant Information'!E1103)","v":""}]
[null,null,null,{"$f":"IF(ISBLANK('Tenant Information'!E1104),\"\",'Tenant Information'!E1104)","v":""}]
[null,null,null,{"$f":"IF(ISBLANK('Tenant Information'!E1105),\"\",'Tenant Information'!E1105)","v":""}]
[null,null,null,{"$f":"IF(ISBLANK('Tenant Information'!E1106),\"\",'Tenant Information'!E1106)","v":""}]
[null,null,null,{"$f":"IF(ISBLANK('Tenant Information'!E1107),\"\",'Tenant Information'!E1107)","v":""}]
[null,null,null,{"$f":"IF(ISBLANK('Tenant Information'!E1108),\"\",'Tenant Information'!E1108)","v":""}]
[null,null,null,{"$f":"IF(ISBLANK('Tenant Information'!E1109),\"\",'Tenant Information'!E1109)","v":""}]
[null,null,null,{"$f":"IF(ISBLANK('Tenant Information'!E1110),\"\",'Tenant Information'!E1110)","v":""}]
[null,null,null,{"$f":"IF(ISBLANK('Tenant Information'!E1111),\"\",'Tenant Information'!E1111)","v":""}]
[null,null,null,{"$f":"IF(ISBLANK('Tenant Information'!E1112),\"\",'Tenant Information'!E1112)","v":""}]
[null,null,null,{"$f":"IF(ISBLANK('Tenant Information'!E1113),\"\",'Tenant Information'!E1113)","v":""}]
[null,null,null,{"$f":"IF(ISBLANK('Tenant Information'!E1114),\"\",'Tenant Information'!E1114)","v":""}]
[null,null,null,{"$f":"IF(ISBLANK('Tenant Information'!E1115),\"\",'Tenant Information'!E1115)","v":""}]
[null,null,null,{"$f":"IF(ISBLANK('Tenant Information'!E1116),\"\",'Tenant Information'!E1116)","v":""}]
[null,null,null,{"$f":"IF(ISBLANK('Tenant Information'!E1117),\"\",'Tenant Information'!E1117)","v":""}]
[null,null,null,{"$f":"IF(ISBLANK('Tenant Information'!E1118),\"\",'Tenant Information'!E1118)","v":""}]
[null,null,null,{"$f":"IF(ISBLANK('Tenant Information'!E1119),\"\",'Tenant Information'!E1119)","v":""}]
[null,null,null,{"$f":"IF(ISBLANK('Tenant Information'!E1120),\"\",'Tenant Information'!E1120)","v":""}]
[null,null,null,{"$f":"IF(ISBLANK('Tenant Information'!E1121),\"\",'Tenant Information'!E1121)","v":""}]
[null,null,null,{"$f":"IF(ISBLANK('Tenant Information'!E1122),\"\",'Tenant Information'!E1122)","v":""}]
[null,null,null,{"$f":"IF(ISBLANK('Tenant Information'!E1123),\"\",'Tenant Information'!E1123)","v":""}]
[null,null,null,{"$f":"IF(ISBLANK('Tenant Information'!E1124),\"\",'Tenant Information'!E1124)","v":""}]
[null,null,null,{"$f":"IF(ISBLANK('Tenant Information'!E1125),\"\",'Tenant Information'!E1125)","v":""}]
[null,null,null,{"$f":"IF(ISBLANK('Tenant Information'!E1126),\"\",'Tenant Information'!E1126)","v":""}]
[null,null,null,{"$f":"IF(ISBLANK('Tenant Information'!E1127),\"\",'Tenant Information'!E1127)","v":""}]
[null,null,null,{"$f":"IF(ISBLANK('Tenant Information'!E1128),\"\",'Tenant Information'!E1128)","v":""}]
[null,null,null,{"$f":"IF(ISBLANK('Tenant Information'!E1129),\"\",'Tenant Information'!E1129)","v":""}]
[null,null,null,{"$f":"IF(ISBLANK('Tenant Information'!E1130),\"\",'Tenant Information'!E1130)","v":""}]
[null,null,null,{"$f":"IF(ISBLANK('Tenant Information'!E1131),\"\",'Tenant Information'!E1131)","v":""}]
[null,null,null,{"$f":"IF(ISBLANK('Tenant Information'!E1132),\"\",'Tenant Information'!E1132)","v":""}]
[null,null,null,{"$f":"IF(ISBLANK('Tenant Information'!E1133),\"\",'Tenant Information'!E1133)","v":""}]
[null,null,null,{"$f":"IF(ISBLANK('Tenant Information'!E1134),\"\",'Tenant Information'!E1134)","v":""}]
[null,null,null,{"$f":"IF(ISBLANK('Tenant Information'!E1135),\"\",'Tenant Information'!E1135)","v":""}]
[null,null,null,{"$f":"IF(ISBLANK('Tenant Information'!E1136),\"\",'Tenant Information'!E1136)","v":""}]
[null,null,null,{"$f":"IF(ISBLANK('Tenant Information'!E1137),\"\",'Tenant Information'!E1137)","v":""}]
[null,null,null,{"$f":"IF(ISBLANK('Tenant Information'!E1138),\"\",'Tenant Information'!E1138)","v":""}]
[null,null,null,{"$f":"IF(ISBLANK('Tenant Information'!E1139),\"\",'Tenant Information'!E1139)","v":""}]
[null,null,null,{"$f":"IF(ISBLANK('Tenant Information'!E1140),\"\",'Tenant Information'!E1140)","v":""}]
[null,null,null,{"$f":"IF(ISBLANK('Tenant Information'!E1141),\"\",'Tenant Information'!E1141)","v":""}]
[null,null,null,{"$f":"IF(ISBLANK('Tenant Information'!E1142),\"\",'Tenant Information'!E1142)","v":""}]
[null,null,null,{"$f":"IF(ISBLANK('Tenant Information'!E1143),\"\",'Tenant Information'!E1143)","v":""}]
[null,null,null,{"$f":"IF(ISBLANK('Tenant Information'!E1144),\"\",'Tenant Information'!E1144)","v":""}]
[null,null,null,{"$f":"IF(ISBLANK('Tenant Information'!E1145),\"\",'Tenant Information'!E1145)","v":""}]
[null,null,null,{"$f":"IF(ISBLANK('Tenant Information'!E1146),\"\",'Tenant Information'!E1146)","v":""}]
[null,null,null,{"$f":"IF(ISBLANK('Tenant Information'!E1147),\"\",'Tenant Information'!E1147)","v":""}]
[null,null,null,{"$f":"IF(ISBLANK('Tenant Information'!E1148),\"\",'Tenant Information'!E1148)","v":""}]
[null,null,null,{"$f":"IF(ISBLANK('Tenant Information'!E1149),\"\",'Tenant Information'!E1149)","v":""}]
[null,null,null,{"$f":"IF(ISBLANK('Tenant Information'!E1150),\"\",'Tenant Information'!E1150)","v":""}]
[null,null,null,{"$f":"IF(ISBLANK('Tenant Information'!E1151),\"\",'Tenant Information'!E1151)","v":""}]
[null,null,null,{"$f":"IF(ISBLANK('Tenant Information'!E1152),\"\",'Tenant Information'!E1152)","v":""}]
[null,null,null,{"$f":"IF(ISBLANK('Tenant Information'!E1153),\"\",'Tenant Information'!E1153)","v":""}]
[null,null,null,{"$f":"IF(ISBLANK('Tenant Information'!E1154),\"\",'Tenant Information'!E1154)","v":""}]
[null,null,null,{"$f":"IF(ISBLANK('Tenant Information'!E1155),\"\",'Tenant Information'!E1155)","v":""}]
[null,null,null,{"$f":"IF(ISBLANK('Tenant Information'!E1156),\"\",'Tenant Information'!E1156)","v":""}]
[null,null,null,{"$f":"IF(ISBLANK('Tenant Information'!E1157),\"\",'Tenant Information'!E1157)","v":""}]
[null,null,null,{"$f":"IF(ISBLANK('Tenant Information'!E1158),\"\",'Tenant Information'!E1158)","v":""}]
[null,null,null,{"$f":"IF(ISBLANK('Tenant Information'!E1159),\"\",'Tenant Information'!E1159)","v":""}]
[null,null,null,{"$f":"IF(ISBLANK('Tenant Information'!E1160),\"\",'Tenant Information'!E1160)","v":""}]
[null,null,null,{"$f":"IF(ISBLANK('Tenant Information'!E1161),\"\",'Tenant Information'!E1161)","v":""}]
[null,null,null,{"$f":"IF(ISBLANK('Tenant Information'!E1162),\"\",'Tenant Information'!E1162)","v":""}]
[null,null,null,{"$f":"IF(ISBLANK('Tenant Information'!E1163),\"\",'Tenant Information'!E1163)","v":""}]
[null,null,null,{"$f":"IF(ISBLANK('Tenant Information'!E1164),\"\",'Tenant Information'!E1164)","v":""}]
[null,null,null,{"$f":"IF(ISBLANK('Tenant Information'!E1165),\"\",'Tenant Information'!E1165)","v":""}]
[null,null,null,{"$f":"IF(ISBLANK('Tenant Information'!E1166),\"\",'Tenant Information'!E1166)","v":""}]
[null,null,null,{"$f":"IF(ISBLANK('Tenant Information'!E1167),\"\",'Tenant Information'!E1167)","v":""}]
[null,null,null,{"$f":"IF(ISBLANK('Tenant Information'!E1168),\"\",'Tenant Information'!E1168)","v":""}]
[null,null,null,{"$f":"IF(ISBLANK('Tenant Information'!E1169),\"\",'Tenant Information'!E1169)","v":""}]
[null,null,null,{"$f":"IF(ISBLANK('Tenant Information'!E1170),\"\",'Tenant Information'!E1170)","v":""}]
[null,null,null,{"$f":"IF(ISBLANK('Tenant Information'!E1171),\"\",'Tenant Information'!E1171)","v":""}]
[null,null,null,{"$f":"IF(ISBLANK('Tenant Information'!E1172),\"\",'Tenant Information'!E1172)","v":""}]
[null,null,null,{"$f":"IF(ISBLANK('Tenant Information'!E1173),\"\",'Tenant Information'!E1173)","v":""}]
[null,null,null,{"$f":"IF(ISBLANK('Tenant Information'!E1174),\"\",'Tenant Information'!E1174)","v":""}]
[null,null,null,{"$f":"IF(ISBLANK('Tenant Information'!E1175),\"\",'Tenant Information'!E1175)","v":""}]
[null,null,null,{"$f":"IF(ISBLANK('Tenant Information'!E1176),\"\",'Tenant Information'!E1176)","v":""}]
[null,null,null,{"$f":"IF(ISBLANK('Tenant Information'!E1177),\"\",'Tenant Information'!E1177)","v":""}]
[null,null,null,{"$f":"IF(ISBLANK('Tenant Information'!E1178),\"\",'Tenant Information'!E1178)","v":""}]
[null,null,null,{"$f":"IF(ISBLANK('Tenant Information'!E1179),\"\",'Tenant Information'!E1179)","v":""}]
[null,null,null,{"$f":"IF(ISBLANK('Tenant Information'!E1180),\"\",'Tenant Information'!E1180)","v":""}]
[null,null,null,{"$f":"IF(ISBLANK('Tenant Information'!E1181),\"\",'Tenant Information'!E1181)","v":""}]
[null,null,null,{"$f":"IF(ISBLANK('Tenant Information'!E1182),\"\",'Tenant Information'!E1182)","v":""}]
[null,null,null,{"$f":"IF(ISBLANK('Tenant Information'!E1183),\"\",'Tenant Information'!E1183)","v":""}]
[null,null,null,{"$f":"IF(ISBLANK('Tenant Information'!E1184),\"\",'Tenant Information'!E1184)","v":""}]
[null,null,null,{"$f":"IF(ISBLANK('Tenant Information'!E1185),\"\",'Tenant Information'!E1185)","v":""}]
[null,null,null,{"$f":"IF(ISBLANK('Tenant Information'!E1186),\"\",'Tenant Information'!E1186)","v":""}]
[null,null,null,{"$f":"IF(ISBLANK('Tenant Information'!E1187),\"\",'Tenant Information'!E1187)","v":""}]
[null,null,null,{"$f":"IF(ISBLANK('Tenant Information'!E1188),\"\",'Tenant Information'!E1188)","v":""}]
[null,null,null,{"$f":"IF(ISBLANK('Tenant Information'!E1189),\"\",'Tenant Information'!E1189)","v":""}]
[null,null,null,{"$f":"IF(ISBLANK('Tenant Information'!E1190),\"\",'Tenant Information'!E1190)","v":""}]
[null,null,null,{"$f":"IF(ISBLANK('Tenant Information'!E1191),\"\",'Tenant Information'!E1191)","v":""}]
[null,null,null,{"$f":"IF(ISBLANK('Tenant Information'!E1192),\"\",'Tenant Information'!E1192)","v":""}]
[null,null,null,{"$f":"IF(ISBLANK('Tenant Information'!E1193),\"\",'Tenant Information'!E1193)","v":""}]
[null,null,null,{"$f":"IF(ISBLANK('Tenant Information'!E1194),\"\",'Tenant Information'!E1194)","v":""}]
[null,null,null,{"$f":"IF(ISBLANK('Tenant Information'!E1195),\"\",'Tenant Information'!E1195)","v":""}]
[null,null,null,{"$f":"IF(ISBLANK('Tenant Information'!E1196),\"\",'Tenant Information'!E1196)","v":""}]
[null,null,null,{"$f":"IF(ISBLANK('Tenant Information'!E1197),\"\",'Tenant Information'!E1197)","v":""}]
[null,null,null,{"$f":"IF(ISBLANK('Tenant Information'!E1198),\"\",'Tenant Information'!E1198)","v":""}]
[null,null,null,{"$f":"IF(ISBLANK('Tenant Information'!E1199),\"\",'Tenant Information'!E1199)","v":""}]
[null,null,null,{"$f":"IF(ISBLANK('Tenant Information'!E1200),\"\",'Tenant Information'!E1200)","v":""}]
[null,null,null,{"$f":"IF(ISBLANK('Tenant Information'!E1201),\"\",'Tenant Information'!E1201)","v":""}]
[null,null,null,{"$f":"IF(ISBLANK('Tenant Information'!E1202),\"\",'Tenant Information'!E1202)","v":""}]
[null,null,null,{"$f":"IF(ISBLANK('Tenant Information'!E1203),\"\",'Tenant Information'!E1203)","v":""}]
[null,null,null,{"$f":"IF(ISBLANK('Tenant Information'!E1204),\"\",'Tenant Information'!E1204)","v":""}]
[null,null,null,{"$f":"IF(ISBLANK('Tenant Information'!E1205),\"\",'Tenant Information'!E1205)","v":""}]
[null,null,null,{"$f":"IF(ISBLANK('Tenant Information'!E1206),\"\",'Tenant Information'!E1206)","v":""}]
[null,null,null,{"$f":"IF(ISBLANK('Tenant Information'!E1207),\"\",'Tenant Information'!E1207)","v":""}]
[null,null,null,{"$f":"IF(ISBLANK('Tenant Information'!E1208),\"\",'Tenant Information'!E1208)","v":""}]
[null,null,null,{"$f":"IF(ISBLANK('Tenant Information'!E1209),\"\",'Tenant Information'!E1209)","v":""}]
[null,null,null,{"$f":"IF(ISBLANK('Tenant Information'!E1210),\"\",'Tenant Information'!E1210)","v":""}]
[null,null,null,{"$f":"IF(ISBLANK('Tenant Information'!E1211),\"\",'Tenant Information'!E1211)","v":""}]
[null,null,null,{"$f":"IF(ISBLANK('Tenant Information'!E1212),\"\",'Tenant Information'!E1212)","v":""}]
[null,null,null,{"$f":"IF(ISBLANK('Tenant Information'!E1213),\"\",'Tenant Information'!E1213)","v":""}]
[null,null,null,{"$f":"IF(ISBLANK('Tenant Information'!E1214),\"\",'Tenant Information'!E1214)","v":""}]
[null,null,null,{"$f":"IF(ISBLANK('Tenant Information'!E1215),\"\",'Tenant Information'!E1215)","v":""}]
[null,null,null,{"$f":"IF(ISBLANK('Tenant Information'!E1216),\"\",'Tenant Information'!E1216)","v":""}]
[null,null,null,{"$f":"IF(ISBLANK('Tenant Information'!E1217),\"\",'Tenant Information'!E1217)","v":""}]
[null,null,null,{"$f":"IF(ISBLANK('Tenant Information'!E1218),\"\",'Tenant Information'!E1218)","v":""}]
[null,null,null,{"$f":"IF(ISBLANK('Tenant Information'!E1219),\"\",'Tenant Information'!E1219)","v":""}]
[null,null,null,{"$f":"IF(ISBLANK('Tenant Information'!E1220),\"\",'Tenant Information'!E1220)","v":""}]
[null,null,null,{"$f":"IF(ISBLANK('Tenant Information'!E1221),\"\",'Tenant Information'!E1221)","v":""}]
[null,null,null,{"$f":"IF(ISBLANK('Tenant Information'!E1222),\"\",'Tenant Information'!E1222)","v":""}]
[null,null,null,{"$f":"IF(ISBLANK('Tenant Information'!E1223),\"\",'Tenant Information'!E1223)","v":""}]
[null,null,null,{"$f":"IF(ISBLANK('Tenant Information'!E1224),\"\",'Tenant Information'!E1224)","v":""}]
[null,null,null,{"$f":"IF(ISBLANK('Tenant Information'!E1225),\"\",'Tenant Information'!E1225)","v":""}]
[null,null,null,{"$f":"IF(ISBLANK('Tenant Information'!E1226),\"\",'Tenant Information'!E1226)","v":""}]
[null,null,null,{"$f":"IF(ISBLANK('Tenant Information'!E1227),\"\",'Tenant Information'!E1227)","v":""}]
[null,null,null,{"$f":"IF(ISBLANK('Tenant Information'!E1228),\"\",'Tenant Information'!E1228)","v":""}]
[null,null,null,{"$f":"IF(ISBLANK('Tenant Information'!E1229),\"\",'Tenant Information'!E1229)","v":""}]
[null,null,null,{"$f":"IF(ISBLANK('Tenant Information'!E1230),\"\",'Tenant Information'!E1230)","v":""}]
[null,null,null,{"$f":"IF(ISBLANK('Tenant Information'!E1231),\"\",'Tenant Information'!E1231)","v":""}]
[null,null,null,{"$f":"IF(ISBLANK('Tenant Information'!E1232),\"\",'Tenant Information'!E1232)","v":""}]
[null,null,null,{"$f":"IF(ISBLANK('Tenant Information'!E1233),\"\",'Tenant Information'!E1233)","v":""}]
[null,null,null,{"$f":"IF(ISBLANK('Tenant Information'!E1234),\"\",'Tenant Information'!E1234)","v":""}]
[null,null,null,{"$f":"IF(ISBLANK('Tenant Information'!E1235),\"\",'Tenant Information'!E1235)","v":""}]
[null,null,null,{"$f":"IF(ISBLANK('Tenant Information'!E1236),\"\",'Tenant Information'!E1236)","v":""}]
[null,null,null,{"$f":"IF(ISBLANK('Tenant Information'!E1237),\"\",'Tenant Information'!E1237)","v":""}]
[null,null,null,{"$f":"IF(ISBLANK('Tenant Information'!E1238),\"\",'Tenant Information'!E1238)","v":""}]
[null,null,null,{"$f":"IF(ISBLANK('Tenant Information'!E1239),\"\",'Tenant Information'!E1239)","v":""}]
[null,null,null,{"$f":"IF(ISBLANK('Tenant Information'!E1240),\"\",'Tenant Information'!E1240)","v":""}]
[null,null,null,{"$f":"IF(ISBLANK('Tenant Information'!E1241),\"\",'Tenant Information'!E1241)","v":""}]
[null,null,null,{"$f":"IF(ISBLANK('Tenant Information'!E1242),\"\",'Tenant Information'!E1242)","v":""}]
[null,null,null,{"$f":"IF(ISBLANK('Tenant Information'!E1243),\"\",'Tenant Information'!E1243)","v":""}]
[null,null,null,{"$f":"IF(ISBLANK('Tenant Information'!E1244),\"\",'Tenant Information'!E1244)","v":""}]
[null,null,null,{"$f":"IF(ISBLANK('Tenant Information'!E1245),\"\",'Tenant Information'!E1245)","v":""}]
[null,null,null,{"$f":"IF(ISBLANK('Tenant Information'!E1246),\"\",'Tenant Information'!E1246)","v":""}]
[null,null,null,{"$f":"IF(ISBLANK('Tenant Information'!E1247),\"\",'Tenant Information'!E1247)","v":""}]
[null,null,null,{"$f":"IF(ISBLANK('Tenant Information'!E1248),\"\",'Tenant Information'!E1248)","v":""}]
[null,null,null,{"$f":"IF(ISBLANK('Tenant Information'!E1249),\"\",'Tenant Information'!E1249)","v":""}]
[null,null,null,{"$f":"IF(ISBLANK('Tenant Information'!E1250),\"\",'Tenant Information'!E1250)","v":""}]
[null,null,null,{"$f":"IF(ISBLANK('Tenant Information'!E1251),\"\",'Tenant Information'!E1251)","v":""}]
[null,null,null,{"$f":"IF(ISBLANK('Tenant Information'!E1252),\"\",'Tenant Information'!E1252)","v":""}]
[null,null,null,{"$f":"IF(ISBLANK('Tenant Information'!E1253),\"\",'Tenant Information'!E1253)","v":""}]
[null,null,null,{"$f":"IF(ISBLANK('Tenant Information'!E1254),\"\",'Tenant Information'!E1254)","v":""}]
[null,null,null,{"$f":"IF(ISBLANK('Tenant Information'!E1255),\"\",'Tenant Information'!E1255)","v":""}]
[null,null,null,{"$f":"IF(ISBLANK('Tenant Information'!E1256),\"\",'Tenant Information'!E1256)","v":""}]
[null,null,null,{"$f":"IF(ISBLANK('Tenant Information'!E1257),\"\",'Tenant Information'!E1257)","v":""}]
[null,null,null,{"$f":"IF(ISBLANK('Tenant Information'!E1258),\"\",'Tenant Information'!E1258)","v":""}]
[null,null,null,{"$f":"IF(ISBLANK('Tenant Information'!E1259),\"\",'Tenant Information'!E1259)","v":""}]
[null,null,null,{"$f":"IF(ISBLANK('Tenant Information'!E1260),\"\",'Tenant Information'!E1260)","v":""}]
[null,null,null,{"$f":"IF(ISBLANK('Tenant Information'!E1261),\"\",'Tenant Information'!E1261)","v":""}]
[null,null,null,{"$f":"IF(ISBLANK('Tenant Information'!E1262),\"\",'Tenant Information'!E1262)","v":""}]
[null,null,null,{"$f":"IF(ISBLANK('Tenant Information'!E1263),\"\",'Tenant Information'!E1263)","v":""}]
[null,null,null,{"$f":"IF(ISBLANK('Tenant Information'!E1264),\"\",'Tenant Information'!E1264)","v":""}]
[null,null,null,{"$f":"IF(ISBLANK('Tenant Information'!E1265),\"\",'Tenant Information'!E1265)","v":""}]
[null,null,null,{"$f":"IF(ISBLANK('Tenant Information'!E1266),\"\",'Tenant Information'!E1266)","v":""}]
[null,null,null,{"$f":"IF(ISBLANK('Tenant Information'!E1267),\"\",'Tenant Information'!E1267)","v":""}]
[null,null,null,{"$f":"IF(ISBLANK('Tenant Information'!E1268),\"\",'Tenant Information'!E1268)","v":""}]
[null,null,null,{"$f":"IF(ISBLANK('Tenant Information'!E1269),\"\",'Tenant Information'!E1269)","v":""}]
[null,null,null,{"$f":"IF(ISBLANK('Tenant Information'!E1270),\"\",'Tenant Information'!E1270)","v":""}]
[null,null,null,{"$f":"IF(ISBLANK('Tenant Information'!E1271),\"\",'Tenant Information'!E1271)","v":""}]
[null,null,null,{"$f":"IF(ISBLANK('Tenant Information'!E1272),\"\",'Tenant Information'!E1272)","v":""}]
[null,null,null,{"$f":"IF(ISBLANK('Tenant Information'!E1273),\"\",'Tenant Information'!E1273)","v":""}]
[null,null,null,{"$f":"IF(ISBLANK('Tenant Information'!E1274),\"\",'Tenant Information'!E1274)","v":""}]
[null,null,null,{"$f":"IF(ISBLANK('Tenant Information'!E1275),\"\",'Tenant Information'!E1275)","v":""}]
[null,null,null,{"$f":"IF(ISBLANK('Tenant Information'!E1276),\"\",'Tenant Information'!E1276)","v":""}]
[null,null,null,{"$f":"IF(ISBLANK('Tenant Information'!E1277),\"\",'Tenant Information'!E1277)","v":""}]
[null,null,null,{"$f":"IF(ISBLANK('Tenant Information'!E1278),\"\",'Tenant Information'!E1278)","v":""}]
[null,null,null,{"$f":"IF(ISBLANK('Tenant Information'!E1279),\"\",'Tenant Information'!E1279)","v":""}]
[null,null,null,{"$f":"IF(ISBLANK('Tenant Information'!E1280),\"\",'Tenant Information'!E1280)","v":""}]
[null,null,null,{"$f":"IF(ISBLANK('Tenant Information'!E1281),\"\",'Tenant Information'!E1281)","v":""}]
[null,null,null,{"$f":"IF(ISBLANK('Tenant Information'!E1282),\"\",'Tenant Information'!E1282)","v":""}]
[null,null,null,{"$f":"IF(ISBLANK('Tenant Information'!E1283),\"\",'Tenant Information'!E1283)","v":""}]
[null,null,null,{"$f":"IF(ISBLANK('Tenant Information'!E1284),\"\",'Tenant Information'!E1284)","v":""}]
[null,null,null,{"$f":"IF(ISBLANK('Tenant Information'!E1285),\"\",'Tenant Information'!E1285)","v":""}]
[null,null,null,{"$f":"IF(ISBLANK('Tenant Information'!E1286),\"\",'Tenant Information'!E1286)","v":""}]
[null,null,null,{"$f":"IF(ISBLANK('Tenant Information'!E1287),\"\",'Tenant Information'!E1287)","v":""}]
[null,null,null,{"$f":"IF(ISBLANK('Tenant Information'!E1288),\"\",'Tenant Information'!E1288)","v":""}]
[null,null,null,{"$f":"IF(ISBLANK('Tenant Information'!E1289),\"\",'Tenant Information'!E1289)","v":""}]
[null,null,null,{"$f":"IF(ISBLANK('Tenant Information'!E1290),\"\",'Tenant Information'!E1290)","v":""}]
[null,null,null,{"$f":"IF(ISBLANK('Tenant Information'!E1291),\"\",'Tenant Information'!E1291)","v":""}]
[null,null,null,{"$f":"IF(ISBLANK('Tenant Information'!E1292),\"\",'Tenant Information'!E1292)","v":""}]
[null,null,null,{"$f":"IF(ISBLANK('Tenant Information'!E1293),\"\",'Tenant Information'!E1293)","v":""}]
[null,null,null,{"$f":"IF(ISBLANK('Tenant Information'!E1294),\"\",'Tenant Information'!E1294)","v":""}]
[null,null,null,{"$f":"IF(ISBLANK('Tenant Information'!E1295),\"\",'Tenant Information'!E1295)","v":""}]
[null,null,null,{"$f":"IF(ISBLANK('Tenant Information'!E1296),\"\",'Tenant Information'!E1296)","v":""}]
[null,null,null,{"$f":"IF(ISBLANK('Tenant Information'!E1297),\"\",'Tenant Information'!E1297)","v":""}]
[null,null,null,{"$f":"IF(ISBLANK('Tenant Information'!E1298),\"\",'Tenant Information'!E1298)","v":""}]
[null,null,null,{"$f":"IF(ISBLANK('Tenant Information'!E1299),\"\",'Tenant Information'!E1299)","v":""}]
[null,null,null,{"$f":"IF(ISBLANK('Tenant Information'!E1300),\"\",'Tenant Information'!E1300)","v":""}]
[null,null,null,{"$f":"IF(ISBLANK('Tenant Information'!E1301),\"\",'Tenant Information'!E1301)","v":""}]
[null,null,null,{"$f":"IF(ISBLANK('Tenant Information'!E1302),\"\",'Tenant Information'!E1302)","v":""}]
[null,null,null,{"$f":"IF(ISBLANK('Tenant Information'!E1303),\"\",'Tenant Information'!E1303)","v":""}]
[null,null,null,{"$f":"IF(ISBLANK('Tenant Information'!E1304),\"\",'Tenant Information'!E1304)","v":""}]
[null,null,null,{"$f":"IF(ISBLANK('Tenant Information'!E1305),\"\",'Tenant Information'!E1305)","v":""}]
[null,null,null,{"$f":"IF(ISBLANK('Tenant Information'!E1306),\"\",'Tenant Information'!E1306)","v":""}]
[null,null,null,{"$f":"IF(ISBLANK('Tenant Information'!E1307),\"\",'Tenant Information'!E1307)","v":""}]
[null,null,null,{"$f":"IF(ISBLANK('Tenant Information'!E1308),\"\",'Tenant Information'!E1308)","v":""}]
[null,null,null,{"$f":"IF(ISBLANK('Tenant Information'!E1309),\"\",'Tenant Information'!E1309)","v":""}]
[null,null,null,{"$f":"IF(ISBLANK('Tenant Information'!E1310),\"\",'Tenant Information'!E1310)","v":""}]
[null,null,null,{"$f":"IF(ISBLANK('Tenant Information'!E1311),\"\",'Tenant Information'!E1311)","v":""}]
[null,null,null,{"$f":"IF(ISBLANK('Tenant Information'!E1312),\"\",'Tenant Information'!E1312)","v":""}]
[null,null,null,{"$f":"IF(ISBLANK('Tenant Information'!E1313),\"\",'Tenant Information'!E1313)","v":""}]
[null,null,null,{"$f":"IF(ISBLANK('Tenant Information'!E1314),\"\",'Tenant Information'!E1314)","v":""}]
[null,null,null,{"$f":"IF(ISBLANK('Tenant Information'!E1315),\"\",'Tenant Information'!E1315)","v":""}]
[null,null,null,{"$f":"IF(ISBLANK('Tenant Information'!E1316),\"\",'Tenant Information'!E1316)","v":""}]
[null,null,null,{"$f":"IF(ISBLANK('Tenant Information'!E1317),\"\",'Tenant Information'!E1317)","v":""}]
[null,null,null,{"$f":"IF(ISBLANK('Tenant Information'!E1318),\"\",'Tenant Information'!E1318)","v":""}]
[null,null,null,{"$f":"IF(ISBLANK('Tenant Information'!E1319),\"\",'Tenant Information'!E1319)","v":""}]
[null,null,null,{"$f":"IF(ISBLANK('Tenant Information'!E1320),\"\",'Tenant Information'!E1320)","v":""}]
[null,null,null,{"$f":"IF(ISBLANK('Tenant Information'!E1321),\"\",'Tenant Information'!E1321)","v":""}]
[null,null,null,{"$f":"IF(ISBLANK('Tenant Information'!E1322),\"\",'Tenant Information'!E1322)","v":""}]
[null,null,null,{"$f":"IF(ISBLANK('Tenant Information'!E1323),\"\",'Tenant Information'!E1323)","v":""}]
[null,null,null,{"$f":"IF(ISBLANK('Tenant Information'!E1324),\"\",'Tenant Information'!E1324)","v":""}]
[null,null,null,{"$f":"IF(ISBLANK('Tenant Information'!E1325),\"\",'Tenant Information'!E1325)","v":""}]
[null,null,null,{"$f":"IF(ISBLANK('Tenant Information'!E1326),\"\",'Tenant Information'!E1326)","v":""}]
[null,null,null,{"$f":"IF(ISBLANK('Tenant Information'!E1327),\"\",'Tenant Information'!E1327)","v":""}]
[null,null,null,{"$f":"IF(ISBLANK('Tenant Information'!E1328),\"\",'Tenant Information'!E1328)","v":""}]
[null,null,null,{"$f":"IF(ISBLANK('Tenant Information'!E1329),\"\",'Tenant Information'!E1329)","v":""}]
[null,null,null,{"$f":"IF(ISBLANK('Tenant Information'!E1330),\"\",'Tenant Information'!E1330)","v":""}]
[null,null,null,{"$f":"IF(ISBLANK('Tenant Information'!E1331),\"\",'Tenant Information'!E1331)","v":""}]
[null,null,null,{"$f":"IF(ISBLANK('Tenant Information'!E1332),\"\",'Tenant Information'!E1332)","v":""}]
[null,null,null,{"$f":"IF(ISBLANK('Tenant Information'!E1333),\"\",'Tenant Information'!E1333)","v":""}]
[null,null,null,{"$f":"IF(ISBLANK('Tenant Information'!E1334),\"\",'Tenant Information'!E1334)","v":""}]
[null,null,null,{"$f":"IF(ISBLANK('Tenant Information'!E1335),\"\",'Tenant Information'!E1335)","v":""}]
[null,null,null,{"$f":"IF(ISBLANK('Tenant Information'!E1336),\"\",'Tenant Information'!E1336)","v":""}]
[null,null,null,{"$f":"IF(ISBLANK('Tenant Information'!E1337),\"\",'Tenant Information'!E1337)","v":""}]
[null,null,null,{"$f":"IF(ISBLANK('Tenant Information'!E1338),\"\",'Tenant Information'!E1338)","v":""}]
[null,null,null,{"$f":"IF(ISBLANK('Tenant Information'!E1339),\"\",'Tenant Information'!E1339)","v":""}]
[null,null,null,{"$f":"IF(ISBLANK('Tenant Information'!E1340),\"\",'Tenant Information'!E1340)","v":""}]
[null,null,null,{"$f":"IF(ISBLANK('Tenant Information'!E1341),\"\",'Tenant Information'!E1341)","v":""}]
[null,null,null,{"$f":"IF(ISBLANK('Tenant Information'!E1342),\"\",'Tenant Information'!E1342)","v":""}]
[null,null,null,{"$f":"IF(ISBLANK('Tenant Information'!E1343),\"\",'Tenant Information'!E1343)","v":""}]
[null,null,null,{"$f":"IF(ISBLANK('Tenant Information'!E1344),\"\",'Tenant Information'!E1344)","v":""}]
[null,null,null,{"$f":"IF(ISBLANK('Tenant Information'!E1345),\"\",'Tenant Information'!E1345)","v":""}]
[null,null,null,{"$f":"IF(ISBLANK('Tenant Information'!E1346),\"\",'Tenant Information'!E1346)","v":""}]
[null,null,null,{"$f":"IF(ISBLANK('Tenant Information'!E1347),\"\",'Tenant Information'!E1347)","v":""}]
[null,null,null,{"$f":"IF(ISBLANK('Tenant Information'!E1348),\"\",'Tenant Information'!E1348)","v":""}]
[null,null,null,{"$f":"IF(ISBLANK('Tenant Information'!E1349),\"\",'Tenant Information'!E1349)","v":""}]
[null,null,null,{"$f":"IF(ISBLANK('Tenant Information'!E1350),\"\",'Tenant Information'!E1350)","v":""}]
[null,null,null,{"$f":"IF(ISBLANK('Tenant Information'!E1351),\"\",'Tenant Information'!E1351)","v":""}]
[null,null,null,{"$f":"IF(ISBLANK('Tenant Information'!E1352),\"\",'Tenant Information'!E1352)","v":""}]
[null,null,null,{"$f":"IF(ISBLANK('Tenant Information'!E1353),\"\",'Tenant Information'!E1353)","v":""}]
[null,null,null,{"$f":"IF(ISBLANK('Tenant Information'!E1354),\"\",'Tenant Information'!E1354)","v":""}]
[null,null,null,{"$f":"IF(ISBLANK('Tenant Information'!E1355),\"\",'Tenant Information'!E1355)","v":""}]
[null,null,null,{"$f":"IF(ISBLANK('Tenant Information'!E1356),\"\",'Tenant Information'!E1356)","v":""}]
[null,null,null,{"$f":"IF(ISBLANK('Tenant Information'!E1357),\"\",'Tenant Information'!E1357)","v":""}]
[null,null,null,{"$f":"IF(ISBLANK('Tenant Information'!E1358),\"\",'Tenant Information'!E1358)","v":""}]
[null,null,null,{"$f":"IF(ISBLANK('Tenant Information'!E1359),\"\",'Tenant Information'!E1359)","v":""}]
[null,null,null,{"$f":"IF(ISBLANK('Tenant Information'!E1360),\"\",'Tenant Information'!E1360)","v":""}]
[null,null,null,{"$f":"IF(ISBLANK('Tenant Information'!E1361),\"\",'Tenant Information'!E1361)","v":""}]
[null,null,null,{"$f":"IF(ISBLANK('Tenant Information'!E1362),\"\",'Tenant Information'!E1362)","v":""}]
[null,null,null,{"$f":"IF(ISBLANK('Tenant Information'!E1363),\"\",'Tenant Information'!E1363)","v":""}]
[null,null,null,{"$f":"IF(ISBLANK('Tenant Information'!E1364),\"\",'Tenant Information'!E1364)","v":""}]
[null,null,null,{"$f":"IF(ISBLANK('Tenant Information'!E1365),\"\",'Tenant Information'!E1365)","v":""}]
[null,null,null,{"$f":"IF(ISBLANK('Tenant Information'!E1366),\"\",'Tenant Information'!E1366)","v":""}]
[null,null,null,{"$f":"IF(ISBLANK('Tenant Information'!E1367),\"\",'Tenant Information'!E1367)","v":""}]
[null,null,null,{"$f":"IF(ISBLANK('Tenant Information'!E1368),\"\",'Tenant Information'!E1368)","v":""}]
[null,null,null,{"$f":"IF(ISBLANK('Tenant Information'!E1369),\"\",'Tenant Information'!E1369)","v":""}]
[null,null,null,{"$f":"IF(ISBLANK('Tenant Information'!E1370),\"\",'Tenant Information'!E1370)","v":""}]
[null,null,null,{"$f":"IF(ISBLANK('Tenant Information'!E1371),\"\",'Tenant Information'!E1371)","v":""}]
[null,null,null,{"$f":"IF(ISBLANK('Tenant Information'!E1372),\"\",'Tenant Information'!E1372)","v":""}]
[null,null,null,{"$f":"IF(ISBLANK('Tenant Information'!E1373),\"\",'Tenant Information'!E1373)","v":""}]
[null,null,null,{"$f":"IF(ISBLANK('Tenant Information'!E1374),\"\",'Tenant Information'!E1374)","v":""}]
[null,null,null,{"$f":"IF(ISBLANK('Tenant Information'!E1375),\"\",'Tenant Information'!E1375)","v":""}]
[null,null,null,{"$f":"IF(ISBLANK('Tenant Information'!E1376),\"\",'Tenant Information'!E1376)","v":""}]
[null,null,null,{"$f":"IF(ISBLANK('Tenant Information'!E1377),\"\",'Tenant Information'!E1377)","v":""}]
[null,null,null,{"$f":"IF(ISBLANK('Tenant Information'!E1378),\"\",'Tenant Information'!E1378)","v":""}]
[null,null,null,{"$f":"IF(ISBLANK('Tenant Information'!E1379),\"\",'Tenant Information'!E1379)","v":""}]
[null,null,null,{"$f":"IF(ISBLANK('Tenant Information'!E1380),\"\",'Tenant Information'!E1380)","v":""}]
[null,null,null,{"$f":"IF(ISBLANK('Tenant Information'!E1381),\"\",'Tenant Information'!E1381)","v":""}]
[null,null,null,{"$f":"IF(ISBLANK('Tenant Information'!E1382),\"\",'Tenant Information'!E1382)","v":""}]
[null,null,null,{"$f":"IF(ISBLANK('Tenant Information'!E1383),\"\",'Tenant Information'!E1383)","v":""}]
[null,null,null,{"$f":"IF(ISBLANK('Tenant Information'!E1384),\"\",'Tenant Information'!E1384)","v":""}]
[null,null,null,{"$f":"IF(ISBLANK('Tenant Information'!E1385),\"\",'Tenant Information'!E1385)","v":""}]
[null,null,null,{"$f":"IF(ISBLANK('Tenant Information'!E1386),\"\",'Tenant Information'!E1386)","v":""}]
[null,null,null,{"$f":"IF(ISBLANK('Tenant Information'!E1387),\"\",'Tenant Information'!E1387)","v":""}]
[null,null,null,{"$f":"IF(ISBLANK('Tenant Information'!E1388),\"\",'Tenant Information'!E1388)","v":""}]
[null,null,null,{"$f":"IF(ISBLANK('Tenant Information'!E1389),\"\",'Tenant Information'!E1389)","v":""}]
[null,null,null,{"$f":"IF(ISBLANK('Tenant Information'!E1390),\"\",'Tenant Information'!E1390)","v":""}]
[null,null,null,{"$f":"IF(ISBLANK('Tenant Information'!E1391),\"\",'Tenant Information'!E1391)","v":""}]
[null,null,null,{"$f":"IF(ISBLANK('Tenant Information'!E1392),\"\",'Tenant Information'!E1392)","v":""}]
[null,null,null,{"$f":"IF(ISBLANK('Tenant Information'!E1393),\"\",'Tenant Information'!E1393)","v":""}]
[null,null,null,{"$f":"IF(ISBLANK('Tenant Information'!E1394),\"\",'Tenant Information'!E1394)","v":""}]
[null,null,null,{"$f":"IF(ISBLANK('Tenant Information'!E1395),\"\",'Tenant Information'!E1395)","v":""}]
[null,null,null,{"$f":"IF(ISBLANK('Tenant Information'!E1396),\"\",'Tenant Information'!E1396)","v":""}]
[null,null,null,{"$f":"IF(ISBLANK('Tenant Information'!E1397),\"\",'Tenant Information'!E1397)","v":""}]
[null,null,null,{"$f":"IF(ISBLANK('Tenant Information'!E1398),\"\",'Tenant Information'!E1398)","v":""}]
[null,null,null,{"$f":"IF(ISBLANK('Tenant Information'!E1399),\"\",'Tenant Information'!E1399)","v":""}]
[null,null,null,{"$f":"IF(ISBLANK('Tenant Information'!E1400),\"\",'Tenant Information'!E1400)","v":""}]
[null,null,null,{"$f":"IF(ISBLANK('Tenant Information'!E1401),\"\",'Tenant Information'!E1401)","v":""}]
[null,null,null,{"$f":"IF(ISBLANK('Tenant Information'!E1402),\"\",'Tenant Information'!E1402)","v":""}]
[null,null,null,{"$f":"IF(ISBLANK('Tenant Information'!E1403),\"\",'Tenant Information'!E1403)","v":""}]
[null,null,null,{"$f":"IF(ISBLANK('Tenant Information'!E1404),\"\",'Tenant Information'!E1404)","v":""}]
[null,null,null,{"$f":"IF(ISBLANK('Tenant Information'!E1405),\"\",'Tenant Information'!E1405)","v":""}]
[null,null,null,{"$f":"IF(ISBLANK('Tenant Information'!E1406),\"\",'Tenant Information'!E1406)","v":""}]
[null,null,null,{"$f":"IF(ISBLANK('Tenant Information'!E1407),\"\",'Tenant Information'!E1407)","v":""}]
[null,null,null,{"$f":"IF(ISBLANK('Tenant Information'!E1408),\"\",'Tenant Information'!E1408)","v":""}]
[null,null,null,{"$f":"IF(ISBLANK('Tenant Information'!E1409),\"\",'Tenant Information'!E1409)","v":""}]
[null,null,null,{"$f":"IF(ISBLANK('Tenant Information'!E1410),\"\",'Tenant Information'!E1410)","v":""}]
[null,null,null,{"$f":"IF(ISBLANK('Tenant Information'!E1411),\"\",'Tenant Information'!E1411)","v":""}]
[null,null,null,{"$f":"IF(ISBLANK('Tenant Information'!E1412),\"\",'Tenant Information'!E1412)","v":""}]
[null,null,null,{"$f":"IF(ISBLANK('Tenant Information'!E1413),\"\",'Tenant Information'!E1413)","v":""}]
[null,null,null,{"$f":"IF(ISBLANK('Tenant Information'!E1414),\"\",'Tenant Information'!E1414)","v":""}]
[null,null,null,{"$f":"IF(ISBLANK('Tenant Information'!E1415),\"\",'Tenant Information'!E1415)","v":""}]
[null,null,null,{"$f":"IF(ISBLANK('Tenant Information'!E1416),\"\",'Tenant Information'!E1416)","v":""}]
[null,null,null,{"$f":"IF(ISBLANK('Tenant Information'!E1417),\"\",'Tenant Information'!E1417)","v":""}]
[null,null,null,{"$f":"IF(ISBLANK('Tenant Information'!E1418),\"\",'Tenant Information'!E1418)","v":""}]
[null,null,null,{"$f":"IF(ISBLANK('Tenant Information'!E1419),\"\",'Tenant Information'!E1419)","v":""}]
[null,null,null,{"$f":"IF(ISBLANK('Tenant Information'!E1420),\"\",'Tenant Information'!E1420)","v":""}]
[null,null,null,{"$f":"IF(ISBLANK('Tenant Information'!E1421),\"\",'Tenant Information'!E1421)","v":""}]
[null,null,null,{"$f":"IF(ISBLANK('Tenant Information'!E1422),\"\",'Tenant Information'!E1422)","v":""}]
[null,null,null,{"$f":"IF(ISBLANK('Tenant Information'!E1423),\"\",'Tenant Information'!E1423)","v":""}]
[null,null,null,{"$f":"IF(ISBLANK('Tenant Information'!E1424),\"\",'Tenant Information'!E1424)","v":""}]
[null,null,null,{"$f":"IF(ISBLANK('Tenant Information'!E1425),\"\",'Tenant Information'!E1425)","v":""}]
[null,null,null,{"$f":"IF(ISBLANK('Tenant Information'!E1426),\"\",'Tenant Information'!E1426)","v":""}]
[null,null,null,{"$f":"IF(ISBLANK('Tenant Information'!E1427),\"\",'Tenant Information'!E1427)","v":""}]
[null,null,null,{"$f":"IF(ISBLANK('Tenant Information'!E1428),\"\",'Tenant Information'!E1428)","v":""}]
[null,null,null,{"$f":"IF(ISBLANK('Tenant Information'!E1429),\"\",'Tenant Information'!E1429)","v":""}]
[null,null,null,{"$f":"IF(ISBLANK('Tenant Information'!E1430),\"\",'Tenant Information'!E1430)","v":""}]
[null,null,null,{"$f":"IF(ISBLANK('Tenant Information'!E1431),\"\",'Tenant Information'!E1431)","v":""}]
[null,null,null,{"$f":"IF(ISBLANK('Tenant Information'!E1432),\"\",'Tenant Information'!E1432)","v":""}]
[null,null,null,{"$f":"IF(ISBLANK('Tenant Information'!E1433),\"\",'Tenant Information'!E1433)","v":""}]
[null,null,null,{"$f":"IF(ISBLANK('Tenant Information'!E1434),\"\",'Tenant Information'!E1434)","v":""}]
[null,null,null,{"$f":"IF(ISBLANK('Tenant Information'!E1435),\"\",'Tenant Information'!E1435)","v":""}]
[null,null,null,{"$f":"IF(ISBLANK('Tenant Information'!E1436),\"\",'Tenant Information'!E1436)","v":""}]
[null,null,null,{"$f":"IF(ISBLANK('Tenant Information'!E1437),\"\",'Tenant Information'!E1437)","v":""}]
[null,null,null,{"$f":"IF(ISBLANK('Tenant Information'!E1438),\"\",'Tenant Information'!E1438)","v":""}]
[null,null,null,{"$f":"IF(ISBLANK('Tenant Information'!E1439),\"\",'Tenant Information'!E1439)","v":""}]
[null,null,null,{"$f":"IF(ISBLANK('Tenant Information'!E1440),\"\",'Tenant Information'!E1440)","v":""}]
[null,null,null,{"$f":"IF(ISBLANK('Tenant Information'!E1441),\"\",'Tenant Information'!E1441)","v":""}]
[null,null,null,{"$f":"IF(ISBLANK('Tenant Information'!E1442),\"\",'Tenant Information'!E1442)","v":""}]
[null,null,null,{"$f":"IF(ISBLANK('Tenant Information'!E1443),\"\",'Tenant Information'!E1443)","v":""}]
[null,null,null,{"$f":"IF(ISBLANK('Tenant Information'!E1444),\"\",'Tenant Information'!E1444)","v":""}]
[null,null,null,{"$f":"IF(ISBLANK('Tenant Information'!E1445),\"\",'Tenant Information'!E1445)","v":""}]
[null,null,null,{"$f":"IF(ISBLANK('Tenant Information'!E1446),\"\",'Tenant Information'!E1446)","v":""}]
[null,null,null,{"$f":"IF(ISBLANK('Tenant Information'!E1447),\"\",'Tenant Information'!E1447)","v":""}]
[null,null,null,{"$f":"IF(ISBLANK('Tenant Information'!E1448),\"\",'Tenant Information'!E1448)","v":""}]
[null,null,null,{"$f":"IF(ISBLANK('Tenant Information'!E1449),\"\",'Tenant Information'!E1449)","v":""}]
[null,null,null,{"$f":"IF(ISBLANK('Tenant Information'!E1450),\"\",'Tenant Information'!E1450)","v":""}]
[null,null,null,{"$f":"IF(ISBLANK('Tenant Information'!E1451),\"\",'Tenant Information'!E1451)","v":""}]
[null,null,null,{"$f":"IF(ISBLANK('Tenant Information'!E1452),\"\",'Tenant Information'!E1452)","v":""}]
[null,null,null,{"$f":"IF(ISBLANK('Tenant Information'!E1453),\"\",'Tenant Information'!E1453)","v":""}]
[null,null,null,{"$f":"IF(ISBLANK('Tenant Information'!E1454),\"\",'Tenant Information'!E1454)","v":""}]
[null,null,null,{"$f":"IF(ISBLANK('Tenant Information'!E1455),\"\",'Tenant Information'!E1455)","v":""}]
[null,null,null,{"$f":"IF(ISBLANK('Tenant Information'!E1456),\"\",'Tenant Information'!E1456)","v":""}]
[null,null,null,{"$f":"IF(ISBLANK('Tenant Information'!E1457),\"\",'Tenant Information'!E1457)","v":""}]
[null,null,null,{"$f":"IF(ISBLANK('Tenant Information'!E1458),\"\",'Tenant Information'!E1458)","v":""}]
[null,null,null,{"$f":"IF(ISBLANK('Tenant Information'!E1459),\"\",'Tenant Information'!E1459)","v":""}]
[null,null,null,{"$f":"IF(ISBLANK('Tenant Information'!E1460),\"\",'Tenant Information'!E1460)","v":""}]
[null,null,null,{"$f":"IF(ISBLANK('Tenant Information'!E1461),\"\",'Tenant Information'!E1461)","v":""}]
[null,null,null,{"$f":"IF(ISBLANK('Tenant Information'!E1462),\"\",'Tenant Information'!E1462)","v":""}]
[null,null,null,{"$f":"IF(ISBLANK('Tenant Information'!E1463),\"\",'Tenant Information'!E1463)","v":""}]
[null,null,null,{"$f":"IF(ISBLANK('Tenant Information'!E1464),\"\",'Tenant Information'!E1464)","v":""}]
[null,null,null,{"$f":"IF(ISBLANK('Tenant Information'!E1465),\"\",'Tenant Information'!E1465)","v":""}]
[null,null,null,{"$f":"IF(ISBLANK('Tenant Information'!E1466),\"\",'Tenant Information'!E1466)","v":""}]
[null,null,null,{"$f":"IF(ISBLANK('Tenant Information'!E1467),\"\",'Tenant Information'!E1467)","v":""}]
[null,null,null,{"$f":"IF(ISBLANK('Tenant Information'!E1468),\"\",'Tenant Information'!E1468)","v":""}]
[null,null,null,{"$f":"IF(ISBLANK('Tenant Information'!E1469),\"\",'Tenant Information'!E1469)","v":""}]
[null,null,null,{"$f":"IF(ISBLANK('Tenant Information'!E1470),\"\",'Tenant Information'!E1470)","v":""}]
[null,null,null,{"$f":"IF(ISBLANK('Tenant Information'!E1471),\"\",'Tenant Information'!E1471)","v":""}]
[null,null,null,{"$f":"IF(ISBLANK('Tenant Information'!E1472),\"\",'Tenant Information'!E1472)","v":""}]
[null,null,null,{"$f":"IF(ISBLANK('Tenant Information'!E1473),\"\",'Tenant Information'!E1473)","v":""}]
[null,null,null,{"$f":"IF(ISBLANK('Tenant Information'!E1474),\"\",'Tenant Information'!E1474)","v":""}]
[null,null,null,{"$f":"IF(ISBLANK('Tenant Information'!E1475),\"\",'Tenant Information'!E1475)","v":""}]
[null,null,null,{"$f":"IF(ISBLANK('Tenant Information'!E1476),\"\",'Tenant Information'!E1476)","v":""}]
[null,null,null,{"$f":"IF(ISBLANK('Tenant Information'!E1477),\"\",'Tenant Information'!E1477)","v":""}]
[null,null,null,{"$f":"IF(ISBLANK('Tenant Information'!E1478),\"\",'Tenant Information'!E1478)","v":""}]
[null,null,null,{"$f":"IF(ISBLANK('Tenant Information'!E1479),\"\",'Tenant Information'!E1479)","v":""}]
[null,null,null,{"$f":"IF(ISBLANK('Tenant Information'!E1480),\"\",'Tenant Information'!E1480)","v":""}]
[null,null,null,{"$f":"IF(ISBLANK('Tenant Information'!E1481),\"\",'Tenant Information'!E1481)","v":""}]
[null,null,null,{"$f":"IF(ISBLANK('Tenant Information'!E1482),\"\",'Tenant Information'!E1482)","v":""}]
[null,null,null,{"$f":"IF(ISBLANK('Tenant Information'!E1483),\"\",'Tenant Information'!E1483)","v":""}]
[null,null,null,{"$f":"IF(ISBLANK('Tenant Information'!E1484),\"\",'Tenant Information'!E1484)","v":""}]
[null,null,null,{"$f":"IF(ISBLANK('Tenant Information'!E1485),\"\",'Tenant Information'!E1485)","v":""}]
[null,null,null,{"$f":"IF(ISBLANK('Tenant Information'!E1486),\"\",'Tenant Information'!E1486)","v":""}]
[null,null,null,{"$f":"IF(ISBLANK('Tenant Information'!E1487),\"\",'Tenant Information'!E1487)","v":""}]
[null,null,null,{"$f":"IF(ISBLANK('Tenant Information'!E1488),\"\",'Tenant Information'!E1488)","v":""}]
[null,null,null,{"$f":"IF(ISBLANK('Tenant Information'!E1489),\"\",'Tenant Information'!E1489)","v":""}]
[null,null,null,{"$f":"IF(ISBLANK('Tenant Information'!E1490),\"\",'Tenant Information'!E1490)","v":""}]
[null,null,null,{"$f":"IF(ISBLANK('Tenant Information'!E1491),\"\",'Tenant Information'!E1491)","v":""}]
[null,null,null,{"$f":"IF(ISBLANK('Tenant Information'!E1492),\"\",'Tenant Information'!E1492)","v":""}]
[null,null,null,{"$f":"IF(ISBLANK('Tenant Information'!E1493),\"\",'Tenant Information'!E1493)","v":""}]
[null,null,null,{"$f":"IF(ISBLANK('Tenant Information'!E1494),\"\",'Tenant Information'!E1494)","v":""}]
[null,null,null,{"$f":"IF(ISBLANK('Tenant Information'!E1495),\"\",'Tenant Information'!E1495)","v":""}]
[null,null,null,{"$f":"IF(ISBLANK('Tenant Information'!E1496),\"\",'Tenant Information'!E1496)","v":""}]
[null,null,null,{"$f":"IF(ISBLANK('Tenant Information'!E1497),\"\",'Tenant Information'!E1497)","v":""}]
[null,null,null,{"$f":"IF(ISBLANK('Tenant Information'!E1498),\"\",'Tenant Information'!E1498)","v":""}]
[null,null,null,{"$f":"IF(ISBLANK('Tenant Information'!E1499),\"\",'Tenant Information'!E1499)","v":""}]
[null,null,null,{"$f":"IF(ISBLANK('Tenant Information'!E1500),\"\",'Tenant Information'!E1500)","v":""}]
[null,null,null,{"$f":"IF(ISBLANK('Tenant Information'!E1501),\"\",'Tenant Information'!E1501)","v":""}]
[null,null,null,{"$f":"IF(ISBLANK('Tenant Information'!E1502),\"\",'Tenant Information'!E1502)","v":""}]
[null,null,null,{"$f":"IF(ISBLANK('Tenant Information'!E1503),\"\",'Tenant Information'!E1503)","v":""}]
[null,null,null,{"$f":"IF(ISBLANK('Tenant Information'!E1504),\"\",'Tenant Information'!E1504)","v":""}]
[null,null,null,{"$f":"IF(ISBLANK('Tenant Information'!E1505),\"\",'Tenant Information'!E1505)","v":""}]
[null,null,null,{"$f":"IF(ISBLANK('Tenant Information'!E1506),\"\",'Tenant Information'!E1506)","v":""}]
[null,null,null,{"$f":"IF(ISBLANK('Tenant Information'!E1507),\"\",'Tenant Information'!E1507)","v":""}]
[null,null,null,{"$f":"IF(ISBLANK('Tenant Information'!E1508),\"\",'Tenant Information'!E1508)","v":""}]
[null,null,null,{"$f":"IF(ISBLANK('Tenant Information'!E1509),\"\",'Tenant Information'!E1509)","v":""}]
[null,null,null,{"$f":"IF(ISBLANK('Tenant Information'!E1510),\"\",'Tenant Information'!E1510)","v":""}]
[null,null,null,{"$f":"IF(ISBLANK('Tenant Information'!E1511),\"\",'Tenant Information'!E1511)","v":""}]
[null,null,null,{"$f":"IF(ISBLANK('Tenant Information'!E1512),\"\",'Tenant Information'!E1512)","v":""}]
[null,null,null,{"$f":"IF(ISBLANK('Tenant Information'!E1513),\"\",'Tenant Information'!E1513)","v":""}]
[null,null,null,{"$f":"IF(ISBLANK('Tenant Information'!E1514),\"\",'Tenant Information'!E1514)","v":""}]
[null,null,null,{"$f":"IF(ISBLANK('Tenant Information'!E1515),\"\",'Tenant Information'!E1515)","v":""}]
[null,null,null,{"$f":"IF(ISBLANK('Tenant Information'!E1516),\"\",'Tenant Information'!E1516)","v":""}]
[null,null,null,{"$f":"IF(ISBLANK('Tenant Information'!E1517),\"\",'Tenant Information'!E1517)","v":""}]
[null,null,null,{"$f":"IF(ISBLANK('Tenant Information'!E1518),\"\",'Tenant Information'!E1518)","v":""}]
[null,null,null,{"$f":"IF(ISBLANK('Tenant Information'!E1519),\"\",'Tenant Information'!E1519)","v":""}]
[null,null,null,{"$f":"IF(ISBLANK('Tenant Information'!E1520),\"\",'Tenant Information'!E1520)","v":""}]
[null,null,null,{"$f":"IF(ISBLANK('Tenant Information'!E1521),\"\",'Tenant Information'!E1521)","v":""}]
[null,null,null,{"$f":"IF(ISBLANK('Tenant Information'!E1522),\"\",'Tenant Information'!E1522)","v":""}]
[null,null,null,{"$f":"IF(ISBLANK('Tenant Information'!E1523),\"\",'Tenant Information'!E1523)","v":""}]
[null,null,null,{"$f":"IF(ISBLANK('Tenant Information'!E1524),\"\",'Tenant Information'!E1524)","v":""}]
[null,null,null,{"$f":"IF(ISBLANK('Tenant Information'!E1525),\"\",'Tenant Information'!E1525)","v":""}]
[null,null,null,{"$f":"IF(ISBLANK('Tenant Information'!E1526),\"\",'Tenant Information'!E1526)","v":""}]
[null,null,null,{"$f":"IF(ISBLANK('Tenant Information'!E1527),\"\",'Tenant Information'!E1527)","v":""}]
[null,null,null,{"$f":"IF(ISBLANK('Tenant Information'!E1528),\"\",'Tenant Information'!E1528)","v":""}]
[null,null,null,{"$f":"IF(ISBLANK('Tenant Information'!E1529),\"\",'Tenant Information'!E1529)","v":""}]
[null,null,null,{"$f":"IF(ISBLANK('Tenant Information'!E1530),\"\",'Tenant Information'!E1530)","v":""}]
[null,null,null,{"$f":"IF(ISBLANK('Tenant Information'!E1531),\"\",'Tenant Information'!E1531)","v":""}]
[null,null,null,{"$f":"IF(ISBLANK('Tenant Information'!E1532),\"\",'Tenant Information'!E1532)","v":""}]
[null,null,null,{"$f":"IF(ISBLANK('Tenant Information'!E1533),\"\",'Tenant Information'!E1533)","v":""}]
[null,null,null,{"$f":"IF(ISBLANK('Tenant Information'!E1534),\"\",'Tenant Information'!E1534)","v":""}]
[null,null,null,{"$f":"IF(ISBLANK('Tenant Information'!E1535),\"\",'Tenant Information'!E1535)","v":""}]
[null,null,null,{"$f":"IF(ISBLANK('Tenant Information'!E1536),\"\",'Tenant Information'!E1536)","v":""}]
[null,null,null,{"$f":"IF(ISBLANK('Tenant Information'!E1537),\"\",'Tenant Information'!E1537)","v":""}]
[null,null,null,{"$f":"IF(ISBLANK('Tenant Information'!E1538),\"\",'Tenant Information'!E1538)","v":""}]
[null,null,null,{"$f":"IF(ISBLANK('Tenant Information'!E1539),\"\",'Tenant Information'!E1539)","v":""}]
[null,null,null,{"$f":"IF(ISBLANK('Tenant Information'!E1540),\"\",'Tenant Information'!E1540)","v":""}]
[null,null,null,{"$f":"IF(ISBLANK('Tenant Information'!E1541),\"\",'Tenant Information'!E1541)","v":""}]
[null,null,null,{"$f":"IF(ISBLANK('Tenant Information'!E1542),\"\",'Tenant Information'!E1542)","v":""}]
[null,null,null,{"$f":"IF(ISBLANK('Tenant Information'!E1543),\"\",'Tenant Information'!E1543)","v":""}]
[null,null,null,{"$f":"IF(ISBLANK('Tenant Information'!E1544),\"\",'Tenant Information'!E1544)","v":""}]
[null,null,null,{"$f":"IF(ISBLANK('Tenant Information'!E1545),\"\",'Tenant Information'!E1545)","v":""}]
[null,null,null,{"$f":"IF(ISBLANK('Tenant Information'!E1546),\"\",'Tenant Information'!E1546)","v":""}]
[null,null,null,{"$f":"IF(ISBLANK('Tenant Information'!E1547),\"\",'Tenant Information'!E1547)","v":""}]
[null,null,null,{"$f":"IF(ISBLANK('Tenant Information'!E1548),\"\",'Tenant Information'!E1548)","v":""}]
[null,null,null,{"$f":"IF(ISBLANK('Tenant Information'!E1549),\"\",'Tenant Information'!E1549)","v":""}]
[null,null,null,{"$f":"IF(ISBLANK('Tenant Information'!E1550),\"\",'Tenant Information'!E1550)","v":""}]
[null,null,null,{"$f":"IF(ISBLANK('Tenant Information'!E1551),\"\",'Tenant Information'!E1551)","v":""}]
[null,null,null,{"$f":"IF(ISBLANK('Tenant Information'!E1552),\"\",'Tenant Information'!E1552)","v":""}]
[null,null,null,{"$f":"IF(ISBLANK('Tenant Information'!E1553),\"\",'Tenant Information'!E1553)","v":""}]
[null,null,null,{"$f":"IF(ISBLANK('Tenant Information'!E1554),\"\",'Tenant Information'!E1554)","v":""}]
[null,null,null,{"$f":"IF(ISBLANK('Tenant Information'!E1555),\"\",'Tenant Information'!E1555)","v":""}]
[null,null,null,{"$f":"IF(ISBLANK('Tenant Information'!E1556),\"\",'Tenant Information'!E1556)","v":""}]
[null,null,null,{"$f":"IF(ISBLANK('Tenant Information'!E1557),\"\",'Tenant Information'!E1557)","v":""}]
[null,null,null,{"$f":"IF(ISBLANK('Tenant Information'!E1558),\"\",'Tenant Information'!E1558)","v":""}]
[null,null,null,{"$f":"IF(ISBLANK('Tenant Information'!E1559),\"\",'Tenant Information'!E1559)","v":""}]
[null,null,null,{"$f":"IF(ISBLANK('Tenant Information'!E1560),\"\",'Tenant Information'!E1560)","v":""}]
[null,null,null,{"$f":"IF(ISBLANK('Tenant Information'!E1561),\"\",'Tenant Information'!E1561)","v":""}]
[null,null,null,{"$f":"IF(ISBLANK('Tenant Information'!E1562),\"\",'Tenant Information'!E1562)","v":""}]
[null,null,null,{"$f":"IF(ISBLANK('Tenant Information'!E1563),\"\",'Tenant Information'!E1563)","v":""}]
[null,null,null,{"$f":"IF(ISBLANK('Tenant Information'!E1564),\"\",'Tenant Information'!E1564)","v":""}]
[null,null,null,{"$f":"IF(ISBLANK('Tenant Information'!E1565),\"\",'Tenant Information'!E1565)","v":""}]
[null,null,null,{"$f":"IF(ISBLANK('Tenant Information'!E1566),\"\",'Tenant Information'!E1566)","v":""}]
[null,null,null,{"$f":"IF(ISBLANK('Tenant Information'!E1567),\"\",'Tenant Information'!E1567)","v":""}]
[null,null,null,{"$f":"IF(ISBLANK('Tenant Information'!E1568),\"\",'Tenant Information'!E1568)","v":""}]
[null,null,null,{"$f":"IF(ISBLANK('Tenant Information'!E1569),\"\",'Tenant Information'!E1569)","v":""}]
[null,null,null,{"$f":"IF(ISBLANK('Tenant Information'!E1570),\"\",'Tenant Information'!E1570)","v":""}]
[null,null,null,{"$f":"IF(ISBLANK('Tenant Information'!E1571),\"\",'Tenant Information'!E1571)","v":""}]
[null,null,null,{"$f":"IF(ISBLANK('Tenant Information'!E1572),\"\",'Tenant Information'!E1572)","v":""}]
[null,null,null,{"$f":"IF(ISBLANK('Tenant Information'!E1573),\"\",'Tenant Information'!E1573)","v":""}]
[null,null,null,{"$f":"IF(ISBLANK('Tenant Information'!E1574),\"\",'Tenant Information'!E1574)","v":""}]
[null,null,null,{"$f":"IF(ISBLANK('Tenant Information'!E1575),\"\",'Tenant Information'!E1575)","v":""}]
[null,null,null,{"$f":"IF(ISBLANK('Tenant Information'!E1576),\"\",'Tenant Information'!E1576)","v":""}]
[null,null,null,{"$f":"IF(ISBLANK('Tenant Information'!E1577),\"\",'Tenant Information'!E1577)","v":""}]
[null,null,null,{"$f":"IF(ISBLANK('Tenant Information'!E1578),\"\",'Tenant Information'!E1578)","v":""}]
[null,null,null,{"$f":"IF(ISBLANK('Tenant Information'!E1579),\"\",'Tenant Information'!E1579)","v":""}]
[null,null,null,{"$f":"IF(ISBLANK('Tenant Information'!E1580),\"\",'Tenant Information'!E1580)","v":""}]
[null,null,null,{"$f":"IF(ISBLANK('Tenant Information'!E1581),\"\",'Tenant Information'!E1581)","v":""}]
[null,null,null,{"$f":"IF(ISBLANK('Tenant Information'!E1582),\"\",'Tenant Information'!E1582)","v":""}]
[null,null,null,{"$f":"IF(ISBLANK('Tenant Information'!E1583),\"\",'Tenant Information'!E1583)","v":""}]
[null,null,null,{"$f":"IF(ISBLANK('Tenant Information'!E1584),\"\",'Tenant Information'!E1584)","v":""}]
[null,null,null,{"$f":"IF(ISBLANK('Tenant Information'!E1585),\"\",'Tenant Information'!E1585)","v":""}]
[null,null,null,{"$f":"IF(ISBLANK('Tenant Information'!E1586),\"\",'Tenant Information'!E1586)","v":""}]
[null,null,null,{"$f":"IF(ISBLANK('Tenant Information'!E1587),\"\",'Tenant Information'!E1587)","v":""}]
[null,null,null,{"$f":"IF(ISBLANK('Tenant Information'!E1588),\"\",'Tenant Information'!E1588)","v":""}]
[null,null,null,{"$f":"IF(ISBLANK('Tenant Information'!E1589),\"\",'Tenant Information'!E1589)","v":""}]
[null,null,null,{"$f":"IF(ISBLANK('Tenant Information'!E1590),\"\",'Tenant Information'!E1590)","v":""}]
[null,null,null,{"$f":"IF(ISBLANK('Tenant Information'!E1591),\"\",'Tenant Information'!E1591)","v":""}]
[null,null,null,{"$f":"IF(ISBLANK('Tenant Information'!E1592),\"\",'Tenant Information'!E1592)","v":""}]
[null,null,null,{"$f":"IF(ISBLANK('Tenant Information'!E1593),\"\",'Tenant Information'!E1593)","v":""}]
[null,null,null,{"$f":"IF(ISBLANK('Tenant Information'!E1594),\"\",'Tenant Information'!E1594)","v":""}]
[null,null,null,{"$f":"IF(ISBLANK('Tenant Information'!E1595),\"\",'Tenant Information'!E1595)","v":""}]
[null,null,null,{"$f":"IF(ISBLANK('Tenant Information'!E1596),\"\",'Tenant Information'!E1596)","v":""}]
[null,null,null,{"$f":"IF(ISBLANK('Tenant Information'!E1597),\"\",'Tenant Information'!E1597)","v":""}]
[null,null,null,{"$f":"IF(ISBLANK('Tenant Information'!E1598),\"\",'Tenant Information'!E1598)","v":""}]
[null,null,null,{"$f":"IF(ISBLANK('Tenant Information'!E1599),\"\",'Tenant Information'!E1599)","v":""}]
[null,null,null,{"$f":"IF(ISBLANK('Tenant Information'!E1600),\"\",'Tenant Information'!E1600)","v":""}]
[null,null,null,{"$f":"IF(ISBLANK('Tenant Information'!E1601),\"\",'Tenant Information'!E1601)","v":""}]
[null,null,null,{"$f":"IF(ISBLANK('Tenant Information'!E1602),\"\",'Tenant Information'!E1602)","v":""}]
[null,null,null,{"$f":"IF(ISBLANK('Tenant Information'!E1603),\"\",'Tenant Information'!E1603)","v":""}]
[null,null,null,{"$f":"IF(ISBLANK('Tenant Information'!E1604),\"\",'Tenant Information'!E1604)","v":""}]
[null,null,null,{"$f":"IF(ISBLANK('Tenant Information'!E1605),\"\",'Tenant Information'!E1605)","v":""}]
[null,null,null,{"$f":"IF(ISBLANK('Tenant Information'!E1606),\"\",'Tenant Information'!E1606)","v":""}]
[null,null,null,{"$f":"IF(ISBLANK('Tenant Information'!E1607),\"\",'Tenant Information'!E1607)","v":""}]
[null,null,null,{"$f":"IF(ISBLANK('Tenant Information'!E1608),\"\",'Tenant Information'!E1608)","v":""}]
[null,null,null,{"$f":"IF(ISBLANK('Tenant Information'!E1609),\"\",'Tenant Information'!E1609)","v":""}]
[null,null,null,{"$f":"IF(ISBLANK('Tenant Information'!E1610),\"\",'Tenant Information'!E1610)","v":""}]
[null,null,null,{"$f":"IF(ISBLANK('Tenant Information'!E1611),\"\",'Tenant Information'!E1611)","v":""}]
[null,null,null,{"$f":"IF(ISBLANK('Tenant Information'!E1612),\"\",'Tenant Information'!E1612)","v":""}]
[null,null,null,{"$f":"IF(ISBLANK('Tenant Information'!E1613),\"\",'Tenant Information'!E1613)","v":""}]
[null,null,null,{"$f":"IF(ISBLANK('Tenant Information'!E1614),\"\",'Tenant Information'!E1614)","v":""}]
[null,null,null,{"$f":"IF(ISBLANK('Tenant Information'!E1615),\"\",'Tenant Information'!E1615)","v":""}]
[null,null,null,{"$f":"IF(ISBLANK('Tenant Information'!E1616),\"\",'Tenant Information'!E1616)","v":""}]
[null,null,null,{"$f":"IF(ISBLANK('Tenant Information'!E1617),\"\",'Tenant Information'!E1617)","v":""}]
[null,null,null,{"$f":"IF(ISBLANK('Tenant Information'!E1618),\"\",'Tenant Information'!E1618)","v":""}]
[null,null,null,{"$f":"IF(ISBLANK('Tenant Information'!E1619),\"\",'Tenant Information'!E1619)","v":""}]
[null,null,null,{"$f":"IF(ISBLANK('Tenant Information'!E1620),\"\",'Tenant Information'!E1620)","v":""}]
[null,null,null,{"$f":"IF(ISBLANK('Tenant Information'!E1621),\"\",'Tenant Information'!E1621)","v":""}]
[null,null,null,{"$f":"IF(ISBLANK('Tenant Information'!E1622),\"\",'Tenant Information'!E1622)","v":""}]
[null,null,null,{"$f":"IF(ISBLANK('Tenant Information'!E1623),\"\",'Tenant Information'!E1623)","v":""}]
[null,null,null,{"$f":"IF(ISBLANK('Tenant Information'!E1624),\"\",'Tenant Information'!E1624)","v":""}]
[null,null,null,{"$f":"IF(ISBLANK('Tenant Information'!E1625),\"\",'Tenant Information'!E1625)","v":""}]
[null,null,null,{"$f":"IF(ISBLANK('Tenant Information'!E1626),\"\",'Tenant Information'!E1626)","v":""}]
[null,null,null,{"$f":"IF(ISBLANK('Tenant Information'!E1627),\"\",'Tenant Information'!E1627)","v":""}]
[null,null,null,{"$f":"IF(ISBLANK('Tenant Information'!E1628),\"\",'Tenant Information'!E1628)","v":""}]
[null,null,null,{"$f":"IF(ISBLANK('Tenant Information'!E1629),\"\",'Tenant Information'!E1629)","v":""}]
[null,null,null,{"$f":"IF(ISBLANK('Tenant Information'!E1630),\"\",'Tenant Information'!E1630)","v":""}]
[null,null,null,{"$f":"IF(ISBLANK('Tenant Information'!E1631),\"\",'Tenant Information'!E1631)","v":""}]
[null,null,null,{"$f":"IF(ISBLANK('Tenant Information'!E1632),\"\",'Tenant Information'!E1632)","v":""}]
[null,null,null,{"$f":"IF(ISBLANK('Tenant Information'!E1633),\"\",'Tenant Information'!E1633)","v":""}]
[null,null,null,{"$f":"IF(ISBLANK('Tenant Information'!E1634),\"\",'Tenant Information'!E1634)","v":""}]
[null,null,null,{"$f":"IF(ISBLANK('Tenant Information'!E1635),\"\",'Tenant Information'!E1635)","v":""}]
[null,null,null,{"$f":"IF(ISBLANK('Tenant Information'!E1636),\"\",'Tenant Information'!E1636)","v":""}]
[null,null,null,{"$f":"IF(ISBLANK('Tenant Information'!E1637),\"\",'Tenant Information'!E1637)","v":""}]
[null,null,null,{"$f":"IF(ISBLANK('Tenant Information'!E1638),\"\",'Tenant Information'!E1638)","v":""}]
[null,null,null,{"$f":"IF(ISBLANK('Tenant Information'!E1639),\"\",'Tenant Information'!E1639)","v":""}]
[null,null,null,{"$f":"IF(ISBLANK('Tenant Information'!E1640),\"\",'Tenant Information'!E1640)","v":""}]
[null,null,null,{"$f":"IF(ISBLANK('Tenant Information'!E1641),\"\",'Tenant Information'!E1641)","v":""}]
[null,null,null,{"$f":"IF(ISBLANK('Tenant Information'!E1642),\"\",'Tenant Information'!E1642)","v":""}]
[null,null,null,{"$f":"IF(ISBLANK('Tenant Information'!E1643),\"\",'Tenant Information'!E1643)","v":""}]
[null,null,null,{"$f":"IF(ISBLANK('Tenant Information'!E1644),\"\",'Tenant Information'!E1644)","v":""}]
[null,null,null,{"$f":"IF(ISBLANK('Tenant Information'!E1645),\"\",'Tenant Information'!E1645)","v":""}]
[null,null,null,{"$f":"IF(ISBLANK('Tenant Information'!E1646),\"\",'Tenant Information'!E1646)","v":""}]
[null,null,null,{"$f":"IF(ISBLANK('Tenant Information'!E1647),\"\",'Tenant Information'!E1647)","v":""}]
[null,null,null,{"$f":"IF(ISBLANK('Tenant Information'!E1648),\"\",'Tenant Information'!E1648)","v":""}]
[null,null,null,{"$f":"IF(ISBLANK('Tenant Information'!E1649),\"\",'Tenant Information'!E1649)","v":""}]
[null,null,null,{"$f":"IF(ISBLANK('Tenant Information'!E1650),\"\",'Tenant Information'!E1650)","v":""}]
[null,null,null,{"$f":"IF(ISBLANK('Tenant Information'!E1651),\"\",'Tenant Information'!E1651)","v":""}]
[null,null,null,{"$f":"IF(ISBLANK('Tenant Information'!E1652),\"\",'Tenant Information'!E1652)","v":""}]
[null,null,null,{"$f":"IF(ISBLANK('Tenant Information'!E1653),\"\",'Tenant Information'!E1653)","v":""}]
[null,null,null,{"$f":"IF(ISBLANK('Tenant Information'!E1654),\"\",'Tenant Information'!E1654)","v":""}]
[null,null,null,{"$f":"IF(ISBLANK('Tenant Information'!E1655),\"\",'Tenant Information'!E1655)","v":""}]
[null,null,null,{"$f":"IF(ISBLANK('Tenant Information'!E1656),\"\",'Tenant Information'!E1656)","v":""}]
[null,null,null,{"$f":"IF(ISBLANK('Tenant Information'!E1657),\"\",'Tenant Information'!E1657)","v":""}]
[null,null,null,{"$f":"IF(ISBLANK('Tenant Information'!E1658),\"\",'Tenant Information'!E1658)","v":""}]
[null,null,null,{"$f":"IF(ISBLANK('Tenant Information'!E1659),\"\",'Tenant Information'!E1659)","v":""}]
[null,null,null,{"$f":"IF(ISBLANK('Tenant Information'!E1660),\"\",'Tenant Information'!E1660)","v":""}]
[null,null,null,{"$f":"IF(ISBLANK('Tenant Information'!E1661),\"\",'Tenant Information'!E1661)","v":""}]
[null,null,null,{"$f":"IF(ISBLANK('Tenant Information'!E1662),\"\",'Tenant Information'!E1662)","v":""}]
[null,null,null,{"$f":"IF(ISBLANK('Tenant Information'!E1663),\"\",'Tenant Information'!E1663)","v":""}]
[null,null,null,{"$f":"IF(ISBLANK('Tenant Information'!E1664),\"\",'Tenant Information'!E1664)","v":""}]
[null,null,null,{"$f":"IF(ISBLANK('Tenant Information'!E1665),\"\",'Tenant Information'!E1665)","v":""}]
[null,null,null,{"$f":"IF(ISBLANK('Tenant Information'!E1666),\"\",'Tenant Information'!E1666)","v":""}]
[null,null,null,{"$f":"IF(ISBLANK('Tenant Information'!E1667),\"\",'Tenant Information'!E1667)","v":""}]
[null,null,null,{"$f":"IF(ISBLANK('Tenant Information'!E1668),\"\",'Tenant Information'!E1668)","v":""}]
[null,null,null,{"$f":"IF(ISBLANK('Tenant Information'!E1669),\"\",'Tenant Information'!E1669)","v":""}]
[null,null,null,{"$f":"IF(ISBLANK('Tenant Information'!E1670),\"\",'Tenant Information'!E1670)","v":""}]
[null,null,null,{"$f":"IF(ISBLANK('Tenant Information'!E1671),\"\",'Tenant Information'!E1671)","v":""}]
[null,null,null,{"$f":"IF(ISBLANK('Tenant Information'!E1672),\"\",'Tenant Information'!E1672)","v":""}]
[null,null,null,{"$f":"IF(ISBLANK('Tenant Information'!E1673),\"\",'Tenant Information'!E1673)","v":""}]
[null,null,null,{"$f":"IF(ISBLANK('Tenant Information'!E1674),\"\",'Tenant Information'!E1674)","v":""}]
[null,null,null,{"$f":"IF(ISBLANK('Tenant Information'!E1675),\"\",'Tenant Information'!E1675)","v":""}]
[null,null,null,{"$f":"IF(ISBLANK('Tenant Information'!E1676),\"\",'Tenant Information'!E1676)","v":""}]
[null,null,null,{"$f":"IF(ISBLANK('Tenant Information'!E1677),\"\",'Tenant Information'!E1677)","v":""}]
[null,null,null,{"$f":"IF(ISBLANK('Tenant Information'!E1678),\"\",'Tenant Information'!E1678)","v":""}]
[null,null,null,{"$f":"IF(ISBLANK('Tenant Information'!E1679),\"\",'Tenant Information'!E1679)","v":""}]
[null,null,null,{"$f":"IF(ISBLANK('Tenant Information'!E1680),\"\",'Tenant Information'!E1680)","v":""}]
[null,null,null,{"$f":"IF(ISBLANK('Tenant Information'!E1681),\"\",'Tenant Information'!E1681)","v":""}]
[null,null,null,{"$f":"IF(ISBLANK('Tenant Information'!E1682),\"\",'Tenant Information'!E1682)","v":""}]
[null,null,null,{"$f":"IF(ISBLANK('Tenant Information'!E1683),\"\",'Tenant Information'!E1683)","v":""}]
[null,null,null,{"$f":"IF(ISBLANK('Tenant Information'!E1684),\"\",'Tenant Information'!E1684)","v":""}]
[null,null,null,{"$f":"IF(ISBLANK('Tenant Information'!E1685),\"\",'Tenant Information'!E1685)","v":""}]
[null,null,null,{"$f":"IF(ISBLANK('Tenant Information'!E1686),\"\",'Tenant Information'!E1686)","v":""}]
[null,null,null,{"$f":"IF(ISBLANK('Tenant Information'!E1687),\"\",'Tenant Information'!E1687)","v":""}]
[null,null,null,{"$f":"IF(ISBLANK('Tenant Information'!E1688),\"\",'Tenant Information'!E1688)","v":""}]
[null,null,null,{"$f":"IF(ISBLANK('Tenant Information'!E1689),\"\",'Tenant Information'!E1689)","v":""}]
[null,null,null,{"$f":"IF(ISBLANK('Tenant Information'!E1690),\"\",'Tenant Information'!E1690)","v":""}]
[null,null,null,{"$f":"IF(ISBLANK('Tenant Information'!E1691),\"\",'Tenant Information'!E1691)","v":""}]
[null,null,null,{"$f":"IF(ISBLANK('Tenant Information'!E1692),\"\",'Tenant Information'!E1692)","v":""}]
[null,null,null,{"$f":"IF(ISBLANK('Tenant Information'!E1693),\"\",'Tenant Information'!E1693)","v":""}]
[null,null,null,{"$f":"IF(ISBLANK('Tenant Information'!E1694),\"\",'Tenant Information'!E1694)","v":""}]
[null,null,null,{"$f":"IF(ISBLANK('Tenant Information'!E1695),\"\",'Tenant Information'!E1695)","v":""}]
[null,null,null,{"$f":"IF(ISBLANK('Tenant Information'!E1696),\"\",'Tenant Information'!E1696)","v":""}]
[null,null,null,{"$f":"IF(ISBLANK('Tenant Information'!E1697),\"\",'Tenant Information'!E1697)","v":""}]
[null,null,null,{"$f":"IF(ISBLANK('Tenant Information'!E1698),\"\",'Tenant Information'!E1698)","v":""}]
[null,null,null,{"$f":"IF(ISBLANK('Tenant Information'!E1699),\"\",'Tenant Information'!E1699)","v":""}]
[null,null,null,{"$f":"IF(ISBLANK('Tenant Information'!E1700),\"\",'Tenant Information'!E1700)","v":""}]
[null,null,null,{"$f":"IF(ISBLANK('Tenant Information'!E1701),\"\",'Tenant Information'!E1701)","v":""}]
[null,null,null,{"$f":"IF(ISBLANK('Tenant Information'!E1702),\"\",'Tenant Information'!E1702)","v":""}]
[null,null,null,{"$f":"IF(ISBLANK('Tenant Information'!E1703),\"\",'Tenant Information'!E1703)","v":""}]
[null,null,null,{"$f":"IF(ISBLANK('Tenant Information'!E1704),\"\",'Tenant Information'!E1704)","v":""}]
[null,null,null,{"$f":"IF(ISBLANK('Tenant Information'!E1705),\"\",'Tenant Information'!E1705)","v":""}]
[null,null,null,{"$f":"IF(ISBLANK('Tenant Information'!E1706),\"\",'Tenant Information'!E1706)","v":""}]
[null,null,null,{"$f":"IF(ISBLANK('Tenant Information'!E1707),\"\",'Tenant Information'!E1707)","v":""}]
[null,null,null,{"$f":"IF(ISBLANK('Tenant Information'!E1708),\"\",'Tenant Information'!E1708)","v":""}]
[null,null,null,{"$f":"IF(ISBLANK('Tenant Information'!E1709),\"\",'Tenant Information'!E1709)","v":""}]
[null,null,null,{"$f":"IF(ISBLANK('Tenant Information'!E1710),\"\",'Tenant Information'!E1710)","v":""}]
[null,null,null,{"$f":"IF(ISBLANK('Tenant Information'!E1711),\"\",'Tenant Information'!E1711)","v":""}]
[null,null,null,{"$f":"IF(ISBLANK('Tenant Information'!E1712),\"\",'Tenant Information'!E1712)","v":""}]
[null,null,null,{"$f":"IF(ISBLANK('Tenant Information'!E1713),\"\",'Tenant Information'!E1713)","v":""}]
[null,null,null,{"$f":"IF(ISBLANK('Tenant Information'!E1714),\"\",'Tenant Information'!E1714)","v":""}]
[null,null,null,{"$f":"IF(ISBLANK('Tenant Information'!E1715),\"\",'Tenant Information'!E1715)","v":""}]
[null,null,null,{"$f":"IF(ISBLANK('Tenant Information'!E1716),\"\",'Tenant Information'!E1716)","v":""}]
[null,null,null,{"$f":"IF(ISBLANK('Tenant Information'!E1717),\"\",'Tenant Information'!E1717)","v":""}]
[null,null,null,{"$f":"IF(ISBLANK('Tenant Information'!E1718),\"\",'Tenant Information'!E1718)","v":""}]
[null,null,null,{"$f":"IF(ISBLANK('Tenant Information'!E1719),\"\",'Tenant Information'!E1719)","v":""}]
[null,null,null,{"$f":"IF(ISBLANK('Tenant Information'!E1720),\"\",'Tenant Information'!E1720)","v":""}]
[null,null,null,{"$f":"IF(ISBLANK('Tenant Information'!E1721),\"\",'Tenant Information'!E1721)","v":""}]
[null,null,null,{"$f":"IF(ISBLANK('Tenant Information'!E1722),\"\",'Tenant Information'!E1722)","v":""}]
[null,null,null,{"$f":"IF(ISBLANK('Tenant Information'!E1723),\"\",'Tenant Information'!E1723)","v":""}]
[null,null,null,{"$f":"IF(ISBLANK('Tenant Information'!E1724),\"\",'Tenant Information'!E1724)","v":""}]
[null,null,null,{"$f":"IF(ISBLANK('Tenant Information'!E1725),\"\",'Tenant Information'!E1725)","v":""}]
[null,null,null,{"$f":"IF(ISBLANK('Tenant Information'!E1726),\"\",'Tenant Information'!E1726)","v":""}]
[null,null,null,{"$f":"IF(ISBLANK('Tenant Information'!E1727),\"\",'Tenant Information'!E1727)","v":""}]
[null,null,null,{"$f":"IF(ISBLANK('Tenant Information'!E1728),\"\",'Tenant Information'!E1728)","v":""}]
[null,null,null,{"$f":"IF(ISBLANK('Tenant Information'!E1729),\"\",'Tenant Information'!E1729)","v":""}]
[null,null,null,{"$f":"IF(ISBLANK('Tenant Information'!E1730),\"\",'Tenant Information'!E1730)","v":""}]
[null,null,null,{"$f":"IF(ISBLANK('Tenant Information'!E1731),\"\",'Tenant Information'!E1731)","v":""}]
[null,null,null,{"$f":"IF(ISBLANK('Tenant Information'!E1732),\"\",'Tenant Information'!E1732)","v":""}]
[null,null,null,{"$f":"IF(ISBLANK('Tenant Information'!E1733),\"\",'Tenant Information'!E1733)","v":""}]
[null,null,null,{"$f":"IF(ISBLANK('Tenant Information'!E1734),\"\",'Tenant Information'!E1734)","v":""}]
[null,null,null,{"$f":"IF(ISBLANK('Tenant Information'!E1735),\"\",'Tenant Information'!E1735)","v":""}]
[null,null,null,{"$f":"IF(ISBLANK('Tenant Information'!E1736),\"\",'Tenant Information'!E1736)","v":""}]
[null,null,null,{"$f":"IF(ISBLANK('Tenant Information'!E1737),\"\",'Tenant Information'!E1737)","v":""}]
[null,null,null,{"$f":"IF(ISBLANK('Tenant Information'!E1738),\"\",'Tenant Information'!E1738)","v":""}]
[null,null,null,{"$f":"IF(ISBLANK('Tenant Information'!E1739),\"\",'Tenant Information'!E1739)","v":""}]
[null,null,null,{"$f":"IF(ISBLANK('Tenant Information'!E1740),\"\",'Tenant Information'!E1740)","v":""}]
[null,null,null,{"$f":"IF(ISBLANK('Tenant Information'!E1741),\"\",'Tenant Information'!E1741)","v":""}]
[null,null,null,{"$f":"IF(ISBLANK('Tenant Information'!E1742),\"\",'Tenant Information'!E1742)","v":""}]
[null,null,null,{"$f":"IF(ISBLANK('Tenant Information'!E1743),\"\",'Tenant Information'!E1743)","v":""}]
[null,null,null,{"$f":"IF(ISBLANK('Tenant Information'!E1744),\"\",'Tenant Information'!E1744)","v":""}]
[null,null,null,{"$f":"IF(ISBLANK('Tenant Information'!E1745),\"\",'Tenant Information'!E1745)","v":""}]
[null,null,null,{"$f":"IF(ISBLANK('Tenant Information'!E1746),\"\",'Tenant Information'!E1746)","v":""}]
[null,null,null,{"$f":"IF(ISBLANK('Tenant Information'!E1747),\"\",'Tenant Information'!E1747)","v":""}]
[null,null,null,{"$f":"IF(ISBLANK('Tenant Information'!E1748),\"\",'Tenant Information'!E1748)","v":""}]
[null,null,null,{"$f":"IF(ISBLANK('Tenant Information'!E1749),\"\",'Tenant Information'!E1749)","v":""}]
[null,null,null,{"$f":"IF(ISBLANK('Tenant Information'!E1750),\"\",'Tenant Information'!E1750)","v":""}]
[null,null,null,{"$f":"IF(ISBLANK('Tenant Information'!E1751),\"\",'Tenant Information'!E1751)","v":""}]
[null,null,null,{"$f":"IF(ISBLANK('Tenant Information'!E1752),\"\",'Tenant Information'!E1752)","v":""}]
[null,null,null,{"$f":"IF(ISBLANK('Tenant Information'!E1753),\"\",'Tenant Information'!E1753)","v":""}]
[null,null,null,{"$f":"IF(ISBLANK('Tenant Information'!E1754),\"\",'Tenant Information'!E1754)","v":""}]
[null,null,null,{"$f":"IF(ISBLANK('Tenant Information'!E1755),\"\",'Tenant Information'!E1755)","v":""}]
[null,null,null,{"$f":"IF(ISBLANK('Tenant Information'!E1756),\"\",'Tenant Information'!E1756)","v":""}]
[null,null,null,{"$f":"IF(ISBLANK('Tenant Information'!E1757),\"\",'Tenant Information'!E1757)","v":""}]
[null,null,null,{"$f":"IF(ISBLANK('Tenant Information'!E1758),\"\",'Tenant Information'!E1758)","v":""}]
[null,null,null,{"$f":"IF(ISBLANK('Tenant Information'!E1759),\"\",'Tenant Information'!E1759)","v":""}]
[null,null,null,{"$f":"IF(ISBLANK('Tenant Information'!E1760),\"\",'Tenant Information'!E1760)","v":""}]
[null,null,null,{"$f":"IF(ISBLANK('Tenant Information'!E1761),\"\",'Tenant Information'!E1761)","v":""}]
[null,null,null,{"$f":"IF(ISBLANK('Tenant Information'!E1762),\"\",'Tenant Information'!E1762)","v":""}]
[null,null,null,{"$f":"IF(ISBLANK('Tenant Information'!E1763),\"\",'Tenant Information'!E1763)","v":""}]
[null,null,null,{"$f":"IF(ISBLANK('Tenant Information'!E1764),\"\",'Tenant Information'!E1764)","v":""}]
[null,null,null,{"$f":"IF(ISBLANK('Tenant Information'!E1765),\"\",'Tenant Information'!E1765)","v":""}]
[null,null,null,{"$f":"IF(ISBLANK('Tenant Information'!E1766),\"\",'Tenant Information'!E1766)","v":""}]
[null,null,null,{"$f":"IF(ISBLANK('Tenant Information'!E1767),\"\",'Tenant Information'!E1767)","v":""}]
[null,null,null,{"$f":"IF(ISBLANK('Tenant Information'!E1768),\"\",'Tenant Information'!E1768)","v":""}]
[null,null,null,{"$f":"IF(ISBLANK('Tenant Information'!E1769),\"\",'Tenant Information'!E1769)","v":""}]
[null,null,null,{"$f":"IF(ISBLANK('Tenant Information'!E1770),\"\",'Tenant Information'!E1770)","v":""}]
[null,null,null,{"$f":"IF(ISBLANK('Tenant Information'!E1771),\"\",'Tenant Information'!E1771)","v":""}]
[null,null,null,{"$f":"IF(ISBLANK('Tenant Information'!E1772),\"\",'Tenant Information'!E1772)","v":""}]
[null,null,null,{"$f":"IF(ISBLANK('Tenant Information'!E1773),\"\",'Tenant Information'!E1773)","v":""}]
[null,null,null,{"$f":"IF(ISBLANK('Tenant Information'!E1774),\"\",'Tenant Information'!E1774)","v":""}]
[null,null,null,{"$f":"IF(ISBLANK('Tenant Information'!E1775),\"\",'Tenant Information'!E1775)","v":""}]
[null,null,null,{"$f":"IF(ISBLANK('Tenant Information'!E1776),\"\",'Tenant Information'!E1776)","v":""}]
[null,null,null,{"$f":"IF(ISBLANK('Tenant Information'!E1777),\"\",'Tenant Information'!E1777)","v":""}]
[null,null,null,{"$f":"IF(ISBLANK('Tenant Information'!E1778),\"\",'Tenant Information'!E1778)","v":""}]
[null,null,null,{"$f":"IF(ISBLANK('Tenant Information'!E1779),\"\",'Tenant Information'!E1779)","v":""}]
[null,null,null,{"$f":"IF(ISBLANK('Tenant Information'!E1780),\"\",'Tenant Information'!E1780)","v":""}]
[null,null,null,{"$f":"IF(ISBLANK('Tenant Information'!E1781),\"\",'Tenant Information'!E1781)","v":""}]
[null,null,null,{"$f":"IF(ISBLANK('Tenant Information'!E1782),\"\",'Tenant Information'!E1782)","v":""}]
[null,null,null,{"$f":"IF(ISBLANK('Tenant Information'!E1783),\"\",'Tenant Information'!E1783)","v":""}]
[null,null,null,{"$f":"IF(ISBLANK('Tenant Information'!E1784),\"\",'Tenant Information'!E1784)","v":""}]
[null,null,null,{"$f":"IF(ISBLANK('Tenant Information'!E1785),\"\",'Tenant Information'!E1785)","v":""}]
[null,null,null,{"$f":"IF(ISBLANK('Tenant Information'!E1786),\"\",'Tenant Information'!E1786)","v":""}]
[null,null,null,{"$f":"IF(ISBLANK('Tenant Information'!E1787),\"\",'Tenant Information'!E1787)","v":""}]
[null,null,null,{"$f":"IF(ISBLANK('Tenant Information'!E1788),\"\",'Tenant Information'!E1788)","v":""}]
[null,null,null,{"$f":"IF(ISBLANK('Tenant Information'!E1789),\"\",'Tenant Information'!E1789)","v":""}]
[null,null,null,{"$f":"IF(ISBLANK('Tenant Information'!E1790),\"\",'Tenant Information'!E1790)","v":""}]
[null,null,null,{"$f":"IF(ISBLANK('Tenant Information'!E1791),\"\",'Tenant Information'!E1791)","v":""}]
[null,null,null,{"$f":"IF(ISBLANK('Tenant Information'!E1792),\"\",'Tenant Information'!E1792)","v":""}]
[null,null,null,{"$f":"IF(ISBLANK('Tenant Information'!E1793),\"\",'Tenant Information'!E1793)","v":""}]
[null,null,null,{"$f":"IF(ISBLANK('Tenant Information'!E1794),\"\",'Tenant Information'!E1794)","v":""}]
[null,null,null,{"$f":"IF(ISBLANK('Tenant Information'!E1795),\"\",'Tenant Information'!E1795)","v":""}]
[null,null,null,{"$f":"IF(ISBLANK('Tenant Information'!E1796),\"\",'Tenant Information'!E1796)","v":""}]
[null,null,null,{"$f":"IF(ISBLANK('Tenant Information'!E1797),\"\",'Tenant Information'!E1797)","v":""}]
[null,null,null,{"$f":"IF(ISBLANK('Tenant Information'!E1798),\"\",'Tenant Information'!E1798)","v":""}]
[null,null,null,{"$f":"IF(ISBLANK('Tenant Information'!E1799),\"\",'Tenant Information'!E1799)","v":""}]
[null,null,null,{"$f":"IF(ISBLANK('Tenant Information'!E1800),\"\",'Tenant Information'!E1800)","v":""}]
[null,null,null,{"$f":"IF(ISBLANK('Tenant Information'!E1801),\"\",'Tenant Information'!E1801)","v":""}]
[null,null,null,{"$f":"IF(ISBLANK('Tenant Information'!E1802),\"\",'Tenant Information'!E1802)","v":""}]
[null,null,null,{"$f":"IF(ISBLANK('Tenant Information'!E1803),\"\",'Tenant Information'!E1803)","v":""}]
[null,null,null,{"$f":"IF(ISBLANK('Tenant Information'!E1804),\"\",'Tenant Information'!E1804)","v":""}]
[null,null,null,{"$f":"IF(ISBLANK('Tenant Information'!E1805),\"\",'Tenant Information'!E1805)","v":""}]
[null,null,null,{"$f":"IF(ISBLANK('Tenant Information'!E1806),\"\",'Tenant Information'!E1806)","v":""}]
[null,null,null,{"$f":"IF(ISBLANK('Tenant Information'!E1807),\"\",'Tenant Information'!E1807)","v":""}]
[null,null,null,{"$f":"IF(ISBLANK('Tenant Information'!E1808),\"\",'Tenant Information'!E1808)","v":""}]
[null,null,null,{"$f":"IF(ISBLANK('Tenant Information'!E1809),\"\",'Tenant Information'!E1809)","v":""}]
[null,null,null,{"$f":"IF(ISBLANK('Tenant Information'!E1810),\"\",'Tenant Information'!E1810)","v":""}]
[null,null,null,{"$f":"IF(ISBLANK('Tenant Information'!E1811),\"\",'Tenant Information'!E1811)","v":""}]
[null,null,null,{"$f":"IF(ISBLANK('Tenant Information'!E1812),\"\",'Tenant Information'!E1812)","v":""}]
[null,null,null,{"$f":"IF(ISBLANK('Tenant Information'!E1813),\"\",'Tenant Information'!E1813)","v":""}]
[null,null,null,{"$f":"IF(ISBLANK('Tenant Information'!E1814),\"\",'Tenant Information'!E1814)","v":""}]
[null,null,null,{"$f":"IF(ISBLANK('Tenant Information'!E1815),\"\",'Tenant Information'!E1815)","v":""}]
[null,null,null,{"$f":"IF(ISBLANK('Tenant Information'!E1816),\"\",'Tenant Information'!E1816)","v":""}]
[null,null,null,{"$f":"IF(ISBLANK('Tenant Information'!E1817),\"\",'Tenant Information'!E1817)","v":""}]
[null,null,null,{"$f":"IF(ISBLANK('Tenant Information'!E1818),\"\",'Tenant Information'!E1818)","v":""}]
[null,null,null,{"$f":"IF(ISBLANK('Tenant Information'!E1819),\"\",'Tenant Information'!E1819)","v":""}]
[null,null,null,{"$f":"IF(ISBLANK('Tenant Information'!E1820),\"\",'Tenant Information'!E1820)","v":""}]
[null,null,null,{"$f":"IF(ISBLANK('Tenant Information'!E1821),\"\",'Tenant Information'!E1821)","v":""}]
[null,null,null,{"$f":"IF(ISBLANK('Tenant Information'!E1822),\"\",'Tenant Information'!E1822)","v":""}]
[null,null,null,{"$f":"IF(ISBLANK('Tenant Information'!E1823),\"\",'Tenant Information'!E1823)","v":""}]
[null,null,null,{"$f":"IF(ISBLANK('Tenant Information'!E1824),\"\",'Tenant Information'!E1824)","v":""}]
[null,null,null,{"$f":"IF(ISBLANK('Tenant Information'!E1825),\"\",'Tenant Information'!E1825)","v":""}]
[null,null,null,{"$f":"IF(ISBLANK('Tenant Information'!E1826),\"\",'Tenant Information'!E1826)","v":""}]
[null,null,null,{"$f":"IF(ISBLANK('Tenant Information'!E1827),\"\",'Tenant Information'!E1827)","v":""}]
[null,null,null,{"$f":"IF(ISBLANK('Tenant Information'!E1828),\"\",'Tenant Information'!E1828)","v":""}]
[null,null,null,{"$f":"IF(ISBLANK('Tenant Information'!E1829),\"\",'Tenant Information'!E1829)","v":""}]
[null,null,null,{"$f":"IF(ISBLANK('Tenant Information'!E1830),\"\",'Tenant Information'!E1830)","v":""}]
[null,null,null,{"$f":"IF(ISBLANK('Tenant Information'!E1831),\"\",'Tenant Information'!E1831)","v":""}]
[null,null,null,{"$f":"IF(ISBLANK('Tenant Information'!E1832),\"\",'Tenant Information'!E1832)","v":""}]
[null,null,null,{"$f":"IF(ISBLANK('Tenant Information'!E1833),\"\",'Tenant Information'!E1833)","v":""}]
[null,null,null,{"$f":"IF(ISBLANK('Tenant Information'!E1834),\"\",'Tenant Information'!E1834)","v":""}]
[null,null,null,{"$f":"IF(ISBLANK('Tenant Information'!E1835),\"\",'Tenant Information'!E1835)","v":""}]
[null,null,null,{"$f":"IF(ISBLANK('Tenant Information'!E1836),\"\",'Tenant Information'!E1836)","v":""}]
[null,null,null,{"$f":"IF(ISBLANK('Tenant Information'!E1837),\"\",'Tenant Information'!E1837)","v":""}]
[null,null,null,{"$f":"IF(ISBLANK('Tenant Information'!E1838),\"\",'Tenant Information'!E1838)","v":""}]
[null,null,null,{"$f":"IF(ISBLANK('Tenant Information'!E1839),\"\",'Tenant Information'!E1839)","v":""}]
[null,null,null,{"$f":"IF(ISBLANK('Tenant Information'!E1840),\"\",'Tenant Information'!E1840)","v":""}]
[null,null,null,{"$f":"IF(ISBLANK('Tenant Information'!E1841),\"\",'Tenant Information'!E1841)","v":""}]
[null,null,null,{"$f":"IF(ISBLANK('Tenant Information'!E1842),\"\",'Tenant Information'!E1842)","v":""}]
[null,null,null,{"$f":"IF(ISBLANK('Tenant Information'!E1843),\"\",'Tenant Information'!E1843)","v":""}]
[null,null,null,{"$f":"IF(ISBLANK('Tenant Information'!E1844),\"\",'Tenant Information'!E1844)","v":""}]
[null,null,null,{"$f":"IF(ISBLANK('Tenant Information'!E1845),\"\",'Tenant Information'!E1845)","v":""}]
[null,null,null,{"$f":"IF(ISBLANK('Tenant Information'!E1846),\"\",'Tenant Information'!E1846)","v":""}]
[null,null,null,{"$f":"IF(ISBLANK('Tenant Information'!E1847),\"\",'Tenant Information'!E1847)","v":""}]
[null,null,null,{"$f":"IF(ISBLANK('Tenant Information'!E1848),\"\",'Tenant Information'!E1848)","v":""}]
[null,null,null,{"$f":"IF(ISBLANK('Tenant Information'!E1849),\"\",'Tenant Information'!E1849)","v":""}]
[null,null,null,{"$f":"IF(ISBLANK('Tenant Information'!E1850),\"\",'Tenant Information'!E1850)","v":""}]
[null,null,null,{"$f":"IF(ISBLANK('Tenant Information'!E1851),\"\",'Tenant Information'!E1851)","v":""}]
[null,null,null,{"$f":"IF(ISBLANK('Tenant Information'!E1852),\"\",'Tenant Information'!E1852)","v":""}]
[null,null,null,{"$f":"IF(ISBLANK('Tenant Information'!E1853),\"\",'Tenant Information'!E1853)","v":""}]
[null,null,null,{"$f":"IF(ISBLANK('Tenant Information'!E1854),\"\",'Tenant Information'!E1854)","v":""}]
[null,null,null,{"$f":"IF(ISBLANK('Tenant Information'!E1855),\"\",'Tenant Information'!E1855)","v":""}]
[null,null,null,{"$f":"IF(ISBLANK('Tenant Information'!E1856),\"\",'Tenant Information'!E1856)","v":""}]
[null,null,null,{"$f":"IF(ISBLANK('Tenant Information'!E1857),\"\",'Tenant Information'!E1857)","v":""}]
[null,null,null,{"$f":"IF(ISBLANK('Tenant Information'!E1858),\"\",'Tenant Information'!E1858)","v":""}]
[null,null,null,{"$f":"IF(ISBLANK('Tenant Information'!E1859),\"\",'Tenant Information'!E1859)","v":""}]
[null,null,null,{"$f":"IF(ISBLANK('Tenant Information'!E1860),\"\",'Tenant Information'!E1860)","v":""}]
[null,null,null,{"$f":"IF(ISBLANK('Tenant Information'!E1861),\"\",'Tenant Information'!E1861)","v":""}]
[null,null,null,{"$f":"IF(ISBLANK('Tenant Information'!E1862),\"\",'Tenant Information'!E1862)","v":""}]
[null,null,null,{"$f":"IF(ISBLANK('Tenant Information'!E1863),\"\",'Tenant Information'!E1863)","v":""}]
[null,null,null,{"$f":"IF(ISBLANK('Tenant Information'!E1864),\"\",'Tenant Information'!E1864)","v":""}]
[null,null,null,{"$f":"IF(ISBLANK('Tenant Information'!E1865),\"\",'Tenant Information'!E1865)","v":""}]
[null,null,null,{"$f":"IF(ISBLANK('Tenant Information'!E1866),\"\",'Tenant Information'!E1866)","v":""}]
[null,null,null,{"$f":"IF(ISBLANK('Tenant Information'!E1867),\"\",'Tenant Information'!E1867)","v":""}]
[null,null,null,{"$f":"IF(ISBLANK('Tenant Information'!E1868),\"\",'Tenant Information'!E1868)","v":""}]
[null,null,null,{"$f":"IF(ISBLANK('Tenant Information'!E1869),\"\",'Tenant Information'!E1869)","v":""}]
[null,null,null,{"$f":"IF(ISBLANK('Tenant Information'!E1870),\"\",'Tenant Information'!E1870)","v":""}]
[null,null,null,{"$f":"IF(ISBLANK('Tenant Information'!E1871),\"\",'Tenant Information'!E1871)","v":""}]
[null,null,null,{"$f":"IF(ISBLANK('Tenant Information'!E1872),\"\",'Tenant Information'!E1872)","v":""}]
[null,null,null,{"$f":"IF(ISBLANK('Tenant Information'!E1873),\"\",'Tenant Information'!E1873)","v":""}]
[null,null,null,{"$f":"IF(ISBLANK('Tenant Information'!E1874),\"\",'Tenant Information'!E1874)","v":""}]
[null,null,null,{"$f":"IF(ISBLANK('Tenant Information'!E1875),\"\",'Tenant Information'!E1875)","v":""}]
[null,null,null,{"$f":"IF(ISBLANK('Tenant Information'!E1876),\"\",'Tenant Information'!E1876)","v":""}]
[null,null,null,{"$f":"IF(ISBLANK('Tenant Information'!E1877),\"\",'Tenant Information'!E1877)","v":""}]
[null,null,null,{"$f":"IF(ISBLANK('Tenant Information'!E1878),\"\",'Tenant Information'!E1878)","v":""}]
[null,null,null,{"$f":"IF(ISBLANK('Tenant Information'!E1879),\"\",'Tenant Information'!E1879)","v":""}]
[null,null,null,{"$f":"IF(ISBLANK('Tenant Information'!E1880),\"\",'Tenant Information'!E1880)","v":""}]
[null,null,null,{"$f":"IF(ISBLANK('Tenant Information'!E1881),\"\",'Tenant Information'!E1881)","v":""}]
[null,null,null,{"$f":"IF(ISBLANK('Tenant Information'!E1882),\"\",'Tenant Information'!E1882)","v":""}]
[null,null,null,{"$f":"IF(ISBLANK('Tenant Information'!E1883),\"\",'Tenant Information'!E1883)","v":""}]
[null,null,null,{"$f":"IF(ISBLANK('Tenant Information'!E1884),\"\",'Tenant Information'!E1884)","v":""}]
[null,null,null,{"$f":"IF(ISBLANK('Tenant Information'!E1885),\"\",'Tenant Information'!E1885)","v":""}]
[null,null,null,{"$f":"IF(ISBLANK('Tenant Information'!E1886),\"\",'Tenant Information'!E1886)","v":""}]
[null,null,null,{"$f":"IF(ISBLANK('Tenant Information'!E1887),\"\",'Tenant Information'!E1887)","v":""}]
[null,null,null,{"$f":"IF(ISBLANK('Tenant Information'!E1888),\"\",'Tenant Information'!E1888)","v":""}]
[null,null,null,{"$f":"IF(ISBLANK('Tenant Information'!E1889),\"\",'Tenant Information'!E1889)","v":""}]
[null,null,null,{"$f":"IF(ISBLANK('Tenant Information'!E1890),\"\",'Tenant Information'!E1890)","v":""}]
[null,null,null,{"$f":"IF(ISBLANK('Tenant Information'!E1891),\"\",'Tenant Information'!E1891)","v":""}]
[null,null,null,{"$f":"IF(ISBLANK('Tenant Information'!E1892),\"\",'Tenant Information'!E1892)","v":""}]
[null,null,null,{"$f":"IF(ISBLANK('Tenant Information'!E1893),\"\",'Tenant Information'!E1893)","v":""}]
[null,null,null,{"$f":"IF(ISBLANK('Tenant Information'!E1894),\"\",'Tenant Information'!E1894)","v":""}]
[null,null,null,{"$f":"IF(ISBLANK('Tenant Information'!E1895),\"\",'Tenant Information'!E1895)","v":""}]
[null,null,null,{"$f":"IF(ISBLANK('Tenant Information'!E1896),\"\",'Tenant Information'!E1896)","v":""}]
[null,null,null,{"$f":"IF(ISBLANK('Tenant Information'!E1897),\"\",'Tenant Information'!E1897)","v":""}]
[null,null,null,{"$f":"IF(ISBLANK('Tenant Information'!E1898),\"\",'Tenant Information'!E1898)","v":""}]
[null,null,null,{"$f":"IF(ISBLANK('Tenant Information'!E1899),\"\",'Tenant Information'!E1899)","v":""}]
[null,null,null,{"$f":"IF(ISBLANK('Tenant Information'!E1900),\"\",'Tenant Information'!E1900)","v":""}]
[null,null,null,{"$f":"IF(ISBLANK('Tenant Information'!E1901),\"\",'Tenant Information'!E1901)","v":""}]
[null,null,null,{"$f":"IF(ISBLANK('Tenant Information'!E1902),\"\",'Tenant Information'!E1902)","v":""}]
[null,null,null,{"$f":"IF(ISBLANK('Tenant Information'!E1903),\"\",'Tenant Information'!E1903)","v":""}]
[null,null,null,{"$f":"IF(ISBLANK('Tenant Information'!E1904),\"\",'Tenant Information'!E1904)","v":""}]
[null,null,null,{"$f":"IF(ISBLANK('Tenant Information'!E1905),\"\",'Tenant Information'!E1905)","v":""}]
[null,null,null,{"$f":"IF(ISBLANK('Tenant Information'!E1906),\"\",'Tenant Information'!E1906)","v":""}]
[null,null,null,{"$f":"IF(ISBLANK('Tenant Information'!E1907),\"\",'Tenant Information'!E1907)","v":""}]
[null,null,null,{"$f":"IF(ISBLANK('Tenant Information'!E1908),\"\",'Tenant Information'!E1908)","v":""}]
[null,null,null,{"$f":"IF(ISBLANK('Tenant Information'!E1909),\"\",'Tenant Information'!E1909)","v":""}]
[null,null,null,{"$f":"IF(ISBLANK('Tenant Information'!E1910),\"\",'Tenant Information'!E1910)","v":""}]
[null,null,null,{"$f":"IF(ISBLANK('Tenant Information'!E1911),\"\",'Tenant Information'!E1911)","v":""}]
[null,null,null,{"$f":"IF(ISBLANK('Tenant Information'!E1912),\"\",'Tenant Information'!E1912)","v":""}]
[null,null,null,{"$f":"IF(ISBLANK('Tenant Information'!E1913),\"\",'Tenant Information'!E1913)","v":""}]
[null,null,null,{"$f":"IF(ISBLANK('Tenant Information'!E1914),\"\",'Tenant Information'!E1914)","v":""}]
[null,null,null,{"$f":"IF(ISBLANK('Tenant Information'!E1915),\"\",'Tenant Information'!E1915)","v":""}]
[null,null,null,{"$f":"IF(ISBLANK('Tenant Information'!E1916),\"\",'Tenant Information'!E1916)","v":""}]
[null,null,null,{"$f":"IF(ISBLANK('Tenant Information'!E1917),\"\",'Tenant Information'!E1917)","v":""}]
[null,null,null,{"$f":"IF(ISBLANK('Tenant Information'!E1918),\"\",'Tenant Information'!E1918)","v":""}]
[null,null,null,{"$f":"IF(ISBLANK('Tenant Information'!E1919),\"\",'Tenant Information'!E1919)","v":""}]
[null,null,null,{"$f":"IF(ISBLANK('Tenant Information'!E1920),\"\",'Tenant Information'!E1920)","v":""}]
[null,null,null,{"$f":"IF(ISBLANK('Tenant Information'!E1921),\"\",'Tenant Information'!E1921)","v":""}]
[null,null,null,{"$f":"IF(ISBLANK('Tenant Information'!E1922),\"\",'Tenant Information'!E1922)","v":""}]
[null,null,null,{"$f":"IF(ISBLANK('Tenant Information'!E1923),\"\",'Tenant Information'!E1923)","v":""}]
[null,null,null,{"$f":"IF(ISBLANK('Tenant Information'!E1924),\"\",'Tenant Information'!E1924)","v":""}]
[null,null,null,{"$f":"IF(ISBLANK('Tenant Information'!E1925),\"\",'Tenant Information'!E1925)","v":""}]
[null,null,null,{"$f":"IF(ISBLANK('Tenant Information'!E1926),\"\",'Tenant Information'!E1926)","v":""}]
[null,null,null,{"$f":"IF(ISBLANK('Tenant Information'!E1927),\"\",'Tenant Information'!E1927)","v":""}]
[null,null,null,{"$f":"IF(ISBLANK('Tenant Information'!E1928),\"\",'Tenant Information'!E1928)","v":""}]
[null,null,null,{"$f":"IF(ISBLANK('Tenant Information'!E1929),\"\",'Tenant Information'!E1929)","v":""}]
[null,null,null,{"$f":"IF(ISBLANK('Tenant Information'!E1930),\"\",'Tenant Information'!E1930)","v":""}]
[null,null,null,{"$f":"IF(ISBLANK('Tenant Information'!E1931),\"\",'Tenant Information'!E1931)","v":""}]
[null,null,null,{"$f":"IF(ISBLANK('Tenant Information'!E1932),\"\",'Tenant Information'!E1932)","v":""}]
[null,null,null,{"$f":"IF(ISBLANK('Tenant Information'!E1933),\"\",'Tenant Information'!E1933)","v":""}]
[null,null,null,{"$f":"IF(ISBLANK('Tenant Information'!E1934),\"\",'Tenant Information'!E1934)","v":""}]
[null,null,null,{"$f":"IF(ISBLANK('Tenant Information'!E1935),\"\",'Tenant Information'!E1935)","v":""}]
[null,null,null,{"$f":"IF(ISBLANK('Tenant Information'!E1936),\"\",'Tenant Information'!E1936)","v":""}]
[null,null,null,{"$f":"IF(ISBLANK('Tenant Information'!E1937),\"\",'Tenant Information'!E1937)","v":""}]
[null,null,null,{"$f":"IF(ISBLANK('Tenant Information'!E1938),\"\",'Tenant Information'!E1938)","v":""}]
[null,null,null,{"$f":"IF(ISBLANK('Tenant Information'!E1939),\"\",'Tenant Information'!E1939)","v":""}]
[null,null,null,{"$f":"IF(ISBLANK('Tenant Information'!E1940),\"\",'Tenant Information'!E1940)","v":""}]
[null,null,null,{"$f":"IF(ISBLANK('Tenant Information'!E1941),\"\",'Tenant Information'!E1941)","v":""}]
[null,null,null,{"$f":"IF(ISBLANK('Tenant Information'!E1942),\"\",'Tenant Information'!E1942)","v":""}]
[null,null,null,{"$f":"IF(ISBLANK('Tenant Information'!E1943),\"\",'Tenant Information'!E1943)","v":""}]
[null,null,null,{"$f":"IF(ISBLANK('Tenant Information'!E1944),\"\",'Tenant Information'!E1944)","v":""}]
[null,null,null,{"$f":"IF(ISBLANK('Tenant Information'!E1945),\"\",'Tenant Information'!E1945)","v":""}]
[null,null,null,{"$f":"IF(ISBLANK('Tenant Information'!E1946),\"\",'Tenant Information'!E1946)","v":""}]
[null,null,null,{"$f":"IF(ISBLANK('Tenant Information'!E1947),\"\",'Tenant Information'!E1947)","v":""}]
[null,null,null,{"$f":"IF(ISBLANK('Tenant Information'!E1948),\"\",'Tenant Information'!E1948)","v":""}]
[null,null,null,{"$f":"IF(ISBLANK('Tenant Information'!E1949),\"\",'Tenant Information'!E1949)","v":""}]
[null,null,null,{"$f":"IF(ISBLANK('Tenant Information'!E1950),\"\",'Tenant Information'!E1950)","v":""}]
[null,null,null,{"$f":"IF(ISBLANK('Tenant Information'!E1951),\"\",'Tenant Information'!E1951)","v":""}]
[null,null,null,{"$f":"IF(ISBLANK('Tenant Information'!E1952),\"\",'Tenant Information'!E1952)","v":""}]
[null,null,null,{"$f":"IF(ISBLANK('Tenant Information'!E1953),\"\",'Tenant Information'!E1953)","v":""}]
[null,null,null,{"$f":"IF(ISBLANK('Tenant Information'!E1954),\"\",'Tenant Information'!E1954)","v":""}]
[null,null,null,{"$f":"IF(ISBLANK('Tenant Information'!E1955),\"\",'Tenant Information'!E1955)","v":""}]
[null,null,null,{"$f":"IF(ISBLANK('Tenant Information'!E1956),\"\",'Tenant Information'!E1956)","v":""}]
[null,null,null,{"$f":"IF(ISBLANK('Tenant Information'!E1957),\"\",'Tenant Information'!E1957)","v":""}]
[null,null,null,{"$f":"IF(ISBLANK('Tenant Information'!E1958),\"\",'Tenant Information'!E1958)","v":""}]
[null,null,null,{"$f":"IF(ISBLANK('Tenant Information'!E1959),\"\",'Tenant Information'!E1959)","v":""}]
[null,null,null,{"$f":"IF(ISBLANK('Tenant Information'!E1960),\"\",'Tenant Information'!E1960)","v":""}]
[null,null,null,{"$f":"IF(ISBLANK('Tenant Information'!E1961),\"\",'Tenant Information'!E1961)","v":""}]
[null,null,null,{"$f":"IF(ISBLANK('Tenant Information'!E1962),\"\",'Tenant Information'!E1962)","v":""}]
[null,null,null,{"$f":"IF(ISBLANK('Tenant Information'!E1963),\"\",'Tenant Information'!E1963)","v":""}]
[null,null,null,{"$f":"IF(ISBLANK('Tenant Information'!E1964),\"\",'Tenant Information'!E1964)","v":""}]
[null,null,null,{"$f":"IF(ISBLANK('Tenant Information'!E1965),\"\",'Tenant Information'!E1965)","v":""}]
[null,null,null,{"$f":"IF(ISBLANK('Tenant Information'!E1966),\"\",'Tenant Information'!E1966)","v":""}]
[null,null,null,{"$f":"IF(ISBLANK('Tenant Information'!E1967),\"\",'Tenant Information'!E1967)","v":""}]
[null,null,null,{"$f":"IF(ISBLANK('Tenant Information'!E1968),\"\",'Tenant Information'!E1968)","v":""}]
[null,null,null,{"$f":"IF(ISBLANK('Tenant Information'!E1969),\"\",'Tenant Information'!E1969)","v":""}]
[null,null,null,{"$f":"IF(ISBLANK('Tenant Information'!E1970),\"\",'Tenant Information'!E1970)","v":""}]
[null,null,null,{"$f":"IF(ISBLANK('Tenant Information'!E1971),\"\",'Tenant Information'!E1971)","v":""}]
[null,null,null,{"$f":"IF(ISBLANK('Tenant Information'!E1972),\"\",'Tenant Information'!E1972)","v":""}]
[null,null,null,{"$f":"IF(ISBLANK('Tenant Information'!E1973),\"\",'Tenant Information'!E1973)","v":""}]
[null,null,null,{"$f":"IF(ISBLANK('Tenant Information'!E1974),\"\",'Tenant Information'!E1974)","v":""}]
[null,null,null,{"$f":"IF(ISBLANK('Tenant Information'!E1975),\"\",'Tenant Information'!E1975)","v":""}]
[null,null,null,{"$f":"IF(ISBLANK('Tenant Information'!E1976),\"\",'Tenant Information'!E1976)","v":""}]
[null,null,null,{"$f":"IF(ISBLANK('Tenant Information'!E1977),\"\",'Tenant Information'!E1977)","v":""}]
[null,null,null,{"$f":"IF(ISBLANK('Tenant Information'!E1978),\"\",'Tenant Information'!E1978)","v":""}]
[null,null,null,{"$f":"IF(ISBLANK('Tenant Information'!E1979),\"\",'Tenant Information'!E1979)","v":""}]
[null,null,null,{"$f":"IF(ISBLANK('Tenant Information'!E1980),\"\",'Tenant Information'!E1980)","v":""}]
[null,null,null,{"$f":"IF(ISBLANK('Tenant Information'!E1981),\"\",'Tenant Information'!E1981)","v":""}]
[null,null,null,{"$f":"IF(ISBLANK('Tenant Information'!E1982),\"\",'Tenant Information'!E1982)","v":""}]
[null,null,null,{"$f":"IF(ISBLANK('Tenant Information'!E1983),\"\",'Tenant Information'!E1983)","v":""}]
[null,null,null,{"$f":"IF(ISBLANK('Tenant Information'!E1984),\"\",'Tenant Information'!E1984)","v":""}]
[null,null,null,{"$f":"IF(ISBLANK('Tenant Information'!E1985),\"\",'Tenant Information'!E1985)","v":""}]
[null,null,null,{"$f":"IF(ISBLANK('Tenant Information'!E1986),\"\",'Tenant Information'!E1986)","v":""}]
[null,null,null,{"$f":"IF(ISBLANK('Tenant Information'!E1987),\"\",'Tenant Information'!E1987)","v":""}]
[null,null,null,{"$f":"IF(ISBLANK('Tenant Information'!E1988),\"\",'Tenant Information'!E1988)","v":""}]
[null,null,null,{"$f":"IF(ISBLANK('Tenant Information'!E1989),\"\",'Tenant Information'!E1989)","v":""}]
[null,null,null,{"$f":"IF(ISBLANK('Tenant Information'!E1990),\"\",'Tenant Information'!E1990)","v":""}]
[null,null,null,{"$f":"IF(ISBLANK('Tenant Information'!E1991),\"\",'Tenant Information'!E1991)","v":""}]
[null,null,null,{"$f":"IF(ISBLANK('Tenant Information'!E1992),\"\",'Tenant Information'!E1992)","v":""}]
[null,null,null,{"$f":"IF(ISBLANK('Tenant Information'!E1993),\"\",'Tenant Information'!E1993)","v":""}]
[null,null,null,{"$f":"IF(ISBLANK('Tenant Information'!E1994),\"\",'Tenant Information'!E1994)","v":""}]
[null,null,null,{"$f":"IF(ISBLANK('Tenant Information'!E1995),\"\",'Tenant Information'!E1995)","v":""}]
[null,null,null,{"$f":"IF(ISBLANK('Tenant Information'!E1996),\"\",'Tenant Information'!E1996)","v":""}]
[null,null,null,{"$f":"IF(ISBLANK('Tenant Information'!E1997),\"\",'Tenant Information'!E1997)","v":""}]
[null,null,null,{"$f":"IF(ISBLANK('Tenant Information'!E1998),\"\",'Tenant Information'!E1998)","v":""}]
[null,null,null,{"$f":"IF(ISBLANK('Tenant Information'!E1999),\"\",'Tenant Information'!E1999)","v":""}]
[null,null,null,{"$f":"IF(ISBLANK('Tenant Information'!E2000),\"\",'Tenant Information'!E2000)","v":""}]
[null,null,null,{"$f":"IF(ISBLANK('Tenant Information'!E2001),\"\",'Tenant Information'!E2001)","v":""}]
[null,null,null,{"$f":"IF(ISBLANK('Tenant Information'!E2002),\"\",'Tenant Information'!E2002)","v":""}]
[null,null,null,{"$f":"IF(ISBLANK('Tenant Information'!E2003),\"\",'Tenant Information'!E2003)","v":""}]
[null,null,null,{"$f":"IF(ISBLANK('Tenant Information'!E2004),\"\",'Tenant Information'!E2004)","v":""}]
[null,null,null,{"$f":"IF(ISBLANK('Tenant Information'!E2005),\"\",'Tenant Information'!E2005)","v":""}]
[null,null,null,{"$f":"IF(ISBLANK('Tenant Information'!E2006),\"\",'Tenant Information'!E2006)","v":""}]
[null,null,null,{"$f":"IF(ISBLANK('Tenant Information'!E2007),\"\",'Tenant Information'!E2007)","v":""}]
[null,null,null,{"$f":"IF(ISBLANK('Tenant Information'!E2008),\"\",'Tenant Information'!E2008)","v":""}]
[null,null,null,{"$f":"IF(ISBLANK('Tenant Information'!E2009),\"\",'Tenant Information'!E2009)","v":""}]
[null,null,null,{"$f":"IF(ISBLANK('Tenant Information'!E2010),\"\",'Tenant Information'!E2010)","v":""}]
[null,null,null,{"$f":"IF(ISBLANK('Tenant Information'!E2011),\"\",'Tenant Information'!E2011)","v":""}]
[null,null,null,{"$f":"IF(ISBLANK('Tenant Information'!E2012),\"\",'Tenant Information'!E2012)","v":""}]
[null,null,null,{"$f":"IF(ISBLANK('Tenant Information'!E2013),\"\",'Tenant Information'!E2013)","v":""}]
[null,null,null,{"$f":"IF(ISBLANK('Tenant Information'!E2014),\"\",'Tenant Information'!E2014)","v":""}]
[null,null,null,{"$f":"IF(ISBLANK('Tenant Information'!E2015),\"\",'Tenant Information'!E2015)","v":""}]
[null,null,null,{"$f":"IF(ISBLANK('Tenant Information'!E2016),\"\",'Tenant Information'!E2016)","v":""}]
[null,null,null,{"$f":"IF(ISBLANK('Tenant Information'!E2017),\"\",'Tenant Information'!E2017)","v":""}]
[null,null,null,{"$f":"IF(ISBLANK('Tenant Information'!E2018),\"\",'Tenant Information'!E2018)","v":""}]
[null,null,null,{"$f":"IF(ISBLANK('Tenant Information'!E2019),\"\",'Tenant Information'!E2019)","v":""}]
[null,null,null,{"$f":"IF(ISBLANK('Tenant Information'!E2020),\"\",'Tenant Information'!E2020)","v":""}]
[null,null,null,{"$f":"IF(ISBLANK('Tenant Information'!E2021),\"\",'Tenant Information'!E2021)","v":""}]
[null,null,null,{"$f":"IF(ISBLANK('Tenant Information'!E2022),\"\",'Tenant Information'!E2022)","v":""}]
[null,null,null,{"$f":"IF(ISBLANK('Tenant Information'!E2023),\"\",'Tenant Information'!E2023)","v":""}]
[null,null,null,{"$f":"IF(ISBLANK('Tenant Information'!E2024),\"\",'Tenant Information'!E2024)","v":""}]
[null,null,null,{"$f":"IF(ISBLANK('Tenant Information'!E2025),\"\",'Tenant Information'!E2025)","v":""}]
[null,null,null,{"$f":"IF(ISBLANK('Tenant Information'!E2026),\"\",'Tenant Information'!E2026)","v":""}]
[null,null,null,{"$f":"IF(ISBLANK('Tenant Information'!E2027),\"\",'Tenant Information'!E2027)","v":""}]
[null,null,null,{"$f":"IF(ISBLANK('Tenant Information'!E2028),\"\",'Tenant Information'!E2028)","v":""}]
[null,null,null,{"$f":"IF(ISBLANK('Tenant Information'!E2029),\"\",'Tenant Information'!E2029)","v":""}]
[null,null,null,{"$f":"IF(ISBLANK('Tenant Information'!E2030),\"\",'Tenant Information'!E2030)","v":""}]
[null,null,null,{"$f":"IF(ISBLANK('Tenant Information'!E2031),\"\",'Tenant Information'!E2031)","v":""}]
[null,null,null,{"$f":"IF(ISBLANK('Tenant Information'!E2032),\"\",'Tenant Information'!E2032)","v":""}]
[null,null,null,{"$f":"IF(ISBLANK('Tenant Information'!E2033),\"\",'Tenant Information'!E2033)","v":""}]
[null,null,null,{"$f":"IF(ISBLANK('Tenant Information'!E2034),\"\",'Tenant Information'!E2034)","v":""}]
[null,null,null,{"$f":"IF(ISBLANK('Tenant Information'!E2035),\"\",'Tenant Information'!E2035)","v":""}]
[null,null,null,{"$f":"IF(ISBLANK('Tenant Information'!E2036),\"\",'Tenant Information'!E2036)","v":""}]
[null,null,null,{"$f":"IF(ISBLANK('Tenant Information'!E2037),\"\",'Tenant Information'!E2037)","v":""}]
[null,null,null,{"$f":"IF(ISBLANK('Tenant Information'!E2038),\"\",'Tenant Information'!E2038)","v":""}]
[null,null,null,{"$f":"IF(ISBLANK('Tenant Information'!E2039),\"\",'Tenant Information'!E2039)","v":""}]
[null,null,null,{"$f":"IF(ISBLANK('Tenant Information'!E2040),\"\",'Tenant Information'!E2040)","v":""}]
[null,null,null,{"$f":"IF(ISBLANK('Tenant Information'!E2041),\"\",'Tenant Information'!E2041)","v":""}]
[null,null,null,{"$f":"IF(ISBLANK('Tenant Information'!E2042),\"\",'Tenant Information'!E2042)","v":""}]
[null,null,null,{"$f":"IF(ISBLANK('Tenant Information'!E2043),\"\",'Tenant Information'!E2043)","v":""}]
[null,null,null,{"$f":"IF(ISBLANK('Tenant Information'!E2044),\"\",'Tenant Information'!E2044)","v":""}]
[null,null,null,{"$f":"IF(ISBLANK('Tenant Information'!E2045),\"\",'Tenant Information'!E2045)","v":""}]
[null,null,null,{"$f":"IF(ISBLANK('Tenant Information'!E2046),\"\",'Tenant Information'!E2046)","v":""}]
[null,null,null,{"$f":"IF(ISBLANK('Tenant Information'!E2047),\"\",'Tenant Information'!E2047)","v":""}]
[null,null,null,{"$f":"IF(ISBLANK('Tenant Information'!E2048),\"\",'Tenant Information'!E2048)","v":""}]
[null,null,null,{"$f":"IF(ISBLANK('Tenant Information'!E2049),\"\",'Tenant Information'!E2049)","v":""}]
[null,null,null,{"$f":"IF(ISBLANK('Tenant Information'!E2050),\"\",'Tenant Information'!E2050)","v":""}]
[null,null,null,{"$f":"IF(ISBLANK('Tenant Information'!E2051),\"\",'Tenant Information'!E2051)","v":""}]
[null,null,null,{"$f":"IF(ISBLANK('Tenant Information'!E2052),\"\",'Tenant Information'!E2052)","v":""}]
[null,null,null,{"$f":"IF(ISBLANK('Tenant Information'!E2053),\"\",'Tenant Information'!E2053)","v":""}]
[null,null,null,{"$f":"IF(ISBLANK('Tenant Information'!E2054),\"\",'Tenant Information'!E2054)","v":""}]
[null,null,null,{"$f":"IF(ISBLANK('Tenant Information'!E2055),\"\",'Tenant Information'!E2055)","v":""}]
[null,null,null,{"$f":"IF(ISBLANK('Tenant Information'!E2056),\"\",'Tenant Information'!E2056)","v":""}]
[null,null,null,{"$f":"IF(ISBLANK('Tenant Information'!E2057),\"\",'Tenant Information'!E2057)","v":""}]
[null,null,null,{"$f":"IF(ISBLANK('Tenant Information'!E2058),\"\",'Tenant Information'!E2058)","v":""}]
[null,null,null,{"$f":"IF(ISBLANK('Tenant Information'!E2059),\"\",'Tenant Information'!E2059)","v":""}]
[null,null,null,{"$f":"IF(ISBLANK('Tenant Information'!E2060),\"\",'Tenant Information'!E2060)","v":""}]
[null,null,null,{"$f":"IF(ISBLANK('Tenant Information'!E2061),\"\",'Tenant Information'!E2061)","v":""}]
[null,null,null,{"$f":"IF(ISBLANK('Tenant Information'!E2062),\"\",'Tenant Information'!E2062)","v":""}]
[null,null,null,{"$f":"IF(ISBLANK('Tenant Information'!E2063),\"\",'Tenant Information'!E2063)","v":""}]
[null,null,null,{"$f":"IF(ISBLANK('Tenant Information'!E2064),\"\",'Tenant Information'!E2064)","v":""}]
[null,null,null,{"$f":"IF(ISBLANK('Tenant Information'!E2065),\"\",'Tenant Information'!E2065)","v":""}]
[null,null,null,{"$f":"IF(ISBLANK('Tenant Information'!E2066),\"\",'Tenant Information'!E2066)","v":""}]
[null,null,null,{"$f":"IF(ISBLANK('Tenant Information'!E2067),\"\",'Tenant Information'!E2067)","v":""}]
[null,null,null,{"$f":"IF(ISBLANK('Tenant Information'!E2068),\"\",'Tenant Information'!E2068)","v":""}]
[null,null,null,{"$f":"IF(ISBLANK('Tenant Information'!E2069),\"\",'Tenant Information'!E2069)","v":""}]
[null,null,null,{"$f":"IF(ISBLANK('Tenant Information'!E2070),\"\",'Tenant Information'!E2070)","v":""}]
[null,null,null,{"$f":"IF(ISBLANK('Tenant Information'!E2071),\"\",'Tenant Information'!E2071)","v":""}]
[null,null,null,{"$f":"IF(ISBLANK('Tenant Information'!E2072),\"\",'Tenant Information'!E2072)","v":""}]
[null,null,null,{"$f":"IF(ISBLANK('Tenant Information'!E2073),\"\",'Tenant Information'!E2073)","v":""}]
[null,null,null,{"$f":"IF(ISBLANK('Tenant Information'!E2074),\"\",'Tenant Information'!E2074)","v":""}]
[null,null,null,{"$f":"IF(ISBLANK('Tenant Information'!E2075),\"\",'Tenant Information'!E2075)","v":""}]
[null,null,null,{"$f":"IF(ISBLANK('Tenant Information'!E2076),\"\",'Tenant Information'!E2076)","v":""}]
[null,null,null,{"$f":"IF(ISBLANK('Tenant Information'!E2077),\"\",'Tenant Information'!E2077)","v":""}]
[null,null,null,{"$f":"IF(ISBLANK('Tenant Information'!E2078),\"\",'Tenant Information'!E2078)","v":""}]
[null,null,null,{"$f":"IF(ISBLANK('Tenant Information'!E2079),\"\",'Tenant Information'!E2079)","v":""}]
[null,null,null,{"$f":"IF(ISBLANK('Tenant Information'!E2080),\"\",'Tenant Information'!E2080)","v":""}]
[null,null,null,{"$f":"IF(ISBLANK('Tenant Information'!E2081),\"\",'Tenant Information'!E2081)","v":""}]
[null,null,null,{"$f":"IF(ISBLANK('Tenant Information'!E2082),\"\",'Tenant Information'!E2082)","v":""}]
[null,null,null,{"$f":"IF(ISBLANK('Tenant Information'!E2083),\"\",'Tenant Information'!E2083)","v":""}]
[null,null,null,{"$f":"IF(ISBLANK('Tenant Information'!E2084),\"\",'Tenant Information'!E2084)","v":""}]
[null,null,null,{"$f":"IF(ISBLANK('Tenant Information'!E2085),\"\",'Tenant Information'!E2085)","v":""}]
[null,null,null,{"$f":"IF(ISBLANK('Tenant Information'!E2086),\"\",'Tenant Information'!E2086)","v":""}]
[null,null,null,{"$f":"IF(ISBLANK('Tenant Information'!E2087),\"\",'Tenant Information'!E2087)","v":""}]
[null,null,null,{"$f":"IF(ISBLANK('Tenant Information'!E2088),\"\",'Tenant Information'!E2088)","v":""}]
[null,null,null,{"$f":"IF(ISBLANK('Tenant Information'!E2089),\"\",'Tenant Information'!E2089)","v":""}]
[null,null,null,{"$f":"IF(ISBLANK('Tenant Information'!E2090),\"\",'Tenant Information'!E2090)","v":""}]
[null,null,null,{"$f":"IF(ISBLANK('Tenant Information'!E2091),\"\",'Tenant Information'!E2091)","v":""}]
[null,null,null,{"$f":"IF(ISBLANK('Tenant Information'!E2092),\"\",'Tenant Information'!E2092)","v":""}]
[null,null,null,{"$f":"IF(ISBLANK('Tenant Information'!E2093),\"\",'Tenant Information'!E2093)","v":""}]
[null,null,null,{"$f":"IF(ISBLANK('Tenant Information'!E2094),\"\",'Tenant Information'!E2094)","v":""}]
[null,null,null,{"$f":"IF(ISBLANK('Tenant Information'!E2095),\"\",'Tenant Information'!E2095)","v":""}]
[null,null,null,{"$f":"IF(ISBLANK('Tenant Information'!E2096),\"\",'Tenant Information'!E2096)","v":""}]
[null,null,null,{"$f":"IF(ISBLANK('Tenant Information'!E2097),\"\",'Tenant Information'!E2097)","v":""}]
[null,null,null,{"$f":"IF(ISBLANK('Tenant Information'!E2098),\"\",'Tenant Information'!E2098)","v":""}]
[null,null,null,{"$f":"IF(ISBLANK('Tenant Information'!E2099),\"\",'Tenant Information'!E2099)","v":""}]
[null,null,null,{"$f":"IF(ISBLANK('Tenant Information'!E2100),\"\",'Tenant Information'!E2100)","v":""}]
[null,null,null,{"$f":"IF(ISBLANK('Tenant Information'!E2101),\"\",'Tenant Information'!E2101)","v":""}]
[null,null,null,{"$f":"IF(ISBLANK('Tenant Information'!E2102),\"\",'Tenant Information'!E2102)","v":""}]
[null,null,null,{"$f":"IF(ISBLANK('Tenant Information'!E2103),\"\",'Tenant Information'!E2103)","v":""}]
[null,null,null,{"$f":"IF(ISBLANK('Tenant Information'!E2104),\"\",'Tenant Information'!E2104)","v":""}]
[null,null,null,{"$f":"IF(ISBLANK('Tenant Information'!E2105),\"\",'Tenant Information'!E2105)","v":""}]
[null,null,null,{"$f":"IF(ISBLANK('Tenant Information'!E2106),\"\",'Tenant Information'!E2106)","v":""}]
[null,null,null,{"$f":"IF(ISBLANK('Tenant Information'!E2107),\"\",'Tenant Information'!E2107)","v":""}]
[null,null,null,{"$f":"IF(ISBLANK('Tenant Information'!E2108),\"\",'Tenant Information'!E2108)","v":""}]
[null,null,null,{"$f":"IF(ISBLANK('Tenant Information'!E2109),\"\",'Tenant Information'!E2109)","v":""}]
[null,null,null,{"$f":"IF(ISBLANK('Tenant Information'!E2110),\"\",'Tenant Information'!E2110)","v":""}]
[null,null,null,{"$f":"IF(ISBLANK('Tenant Information'!E2111),\"\",'Tenant Information'!E2111)","v":""}]
[null,null,null,{"$f":"IF(ISBLANK('Tenant Information'!E2112),\"\",'Tenant Information'!E2112)","v":""}]
[null,null,null,{"$f":"IF(ISBLANK('Tenant Information'!E2113),\"\",'Tenant Information'!E2113)","v":""}]
[null,null,null,{"$f":"IF(ISBLANK('Tenant Information'!E2114),\"\",'Tenant Information'!E2114)","v":""}]
[null,null,null,{"$f":"IF(ISBLANK('Tenant Information'!E2115),\"\",'Tenant Information'!E2115)","v":""}]
[null,null,null,{"$f":"IF(ISBLANK('Tenant Information'!E2116),\"\",'Tenant Information'!E2116)","v":""}]
[null,null,null,{"$f":"IF(ISBLANK('Tenant Information'!E2117),\"\",'Tenant Information'!E2117)","v":""}]
[null,null,null,{"$f":"IF(ISBLANK('Tenant Information'!E2118),\"\",'Tenant Information'!E2118)","v":""}]
[null,null,null,{"$f":"IF(ISBLANK('Tenant Information'!E2119),\"\",'Tenant Information'!E2119)","v":""}]
[null,null,null,{"$f":"IF(ISBLANK('Tenant Information'!E2120),\"\",'Tenant Information'!E2120)","v":""}]
[null,null,null,{"$f":"IF(ISBLANK('Tenant Information'!E2121),\"\",'Tenant Information'!E2121)","v":""}]
[null,null,null,{"$f":"IF(ISBLANK('Tenant Information'!E2122),\"\",'Tenant Information'!E2122)","v":""}]
[null,null,null,{"$f":"IF(ISBLANK('Tenant Information'!E2123),\"\",'Tenant Information'!E2123)","v":""}]
[null,null,null,{"$f":"IF(ISBLANK('Tenant Information'!E2124),\"\",'Tenant Information'!E2124)","v":""}]
[null,null,null,{"$f":"IF(ISBLANK('Tenant Information'!E2125),\"\",'Tenant Information'!E2125)","v":""}]
[null,null,null,{"$f":"IF(ISBLANK('Tenant Information'!E2126),\"\",'Tenant Information'!E2126)","v":""}]
[null,null,null,{"$f":"IF(ISBLANK('Tenant Information'!E2127),\"\",'Tenant Information'!E2127)","v":""}]
[null,null,null,{"$f":"IF(ISBLANK('Tenant Information'!E2128),\"\",'Tenant Information'!E2128)","v":""}]
[null,null,null,{"$f":"IF(ISBLANK('Tenant Information'!E2129),\"\",'Tenant Information'!E2129)","v":""}]
[null,null,null,{"$f":"IF(ISBLANK('Tenant Information'!E2130),\"\",'Tenant Information'!E2130)","v":""}]
[null,null,null,{"$f":"IF(ISBLANK('Tenant Information'!E2131),\"\",'Tenant Information'!E2131)","v":""}]
[null,null,null,{"$f":"IF(ISBLANK('Tenant Information'!E2132),\"\",'Tenant Information'!E2132)","v":""}]
[null,null,null,{"$f":"IF(ISBLANK('Tenant Information'!E2133),\"\",'Tenant Information'!E2133)","v":""}]
[null,null,null,{"$f":"IF(ISBLANK('Tenant Information'!E2134),\"\",'Tenant Information'!E2134)","v":""}]
[null,null,null,{"$f":"IF(ISBLANK('Tenant Information'!E2135),\"\",'Tenant Information'!E2135)","v":""}]
[null,null,null,{"$f":"IF(ISBLANK('Tenant Information'!E2136),\"\",'Tenant Information'!E2136)","v":""}]
[null,null,null,{"$f":"IF(ISBLANK('Tenant Information'!E2137),\"\",'Tenant Information'!E2137)","v":""}]
[null,null,null,{"$f":"IF(ISBLANK('Tenant Information'!E2138),\"\",'Tenant Information'!E2138)","v":""}]
[null,null,null,{"$f":"IF(ISBLANK('Tenant Information'!E2139),\"\",'Tenant Information'!E2139)","v":""}]
[null,null,null,{"$f":"IF(ISBLANK('Tenant Information'!E2140),\"\",'Tenant Information'!E2140)","v":""}]
[null,null,null,{"$f":"IF(ISBLANK('Tenant Information'!E2141),\"\",'Tenant Information'!E2141)","v":""}]
[null,null,null,{"$f":"IF(ISBLANK('Tenant Information'!E2142),\"\",'Tenant Information'!E2142)","v":""}]
[null,null,null,{"$f":"IF(ISBLANK('Tenant Information'!E2143),\"\",'Tenant Information'!E2143)","v":""}]
[null,null,null,{"$f":"IF(ISBLANK('Tenant Information'!E2144),\"\",'Tenant Information'!E2144)","v":""}]
[null,null,null,{"$f":"IF(ISBLANK('Tenant Information'!E2145),\"\",'Tenant Information'!E2145)","v":""}]
[null,null,null,{"$f":"IF(ISBLANK('Tenant Information'!E2146),\"\",'Tenant Information'!E2146)","v":""}]
[null,null,null,{"$f":"IF(ISBLANK('Tenant Information'!E2147),\"\",'Tenant Information'!E2147)","v":""}]
[null,null,null,{"$f":"IF(ISBLANK('Tenant Information'!E2148),\"\",'Tenant Information'!E2148)","v":""}]
[null,null,null,{"$f":"IF(ISBLANK('Tenant Information'!E2149),\"\",'Tenant Information'!E2149)","v":""}]
[null,null,null,{"$f":"IF(ISBLANK('Tenant Information'!E2150),\"\",'Tenant Information'!E2150)","v":""}]
[null,null,null,{"$f":"IF(ISBLANK('Tenant Information'!E2151),\"\",'Tenant Information'!E2151)","v":""}]
[null,null,null,{"$f":"IF(ISBLANK('Tenant Information'!E2152),\"\",'Tenant Information'!E2152)","v":""}]
[null,null,null,{"$f":"IF(ISBLANK('Tenant Information'!E2153),\"\",'Tenant Information'!E2153)","v":""}]
[null,null,null,{"$f":"IF(ISBLANK('Tenant Information'!E2154),\"\",'Tenant Information'!E2154)","v":""}]
[null,null,null,{"$f":"IF(ISBLANK('Tenant Information'!E2155),\"\",'Tenant Information'!E2155)","v":""}]
[null,null,null,{"$f":"IF(ISBLANK('Tenant Information'!E2156),\"\",'Tenant Information'!E2156)","v":""}]
[null,null,null,{"$f":"IF(ISBLANK('Tenant Information'!E2157),\"\",'Tenant Information'!E2157)","v":""}]
[null,null,null,{"$f":"IF(ISBLANK('Tenant Information'!E2158),\"\",'Tenant Information'!E2158)","v":""}]
[null,null,null,{"$f":"IF(ISBLANK('Tenant Information'!E2159),\"\",'Tenant Information'!E2159)","v":""}]
[null,null,null,{"$f":"IF(ISBLANK('Tenant Information'!E2160),\"\",'Tenant Information'!E2160)","v":""}]
[null,null,null,{"$f":"IF(ISBLANK('Tenant Information'!E2161),\"\",'Tenant Information'!E2161)","v":""}]
[null,null,null,{"$f":"IF(ISBLANK('Tenant Information'!E2162),\"\",'Tenant Information'!E2162)","v":""}]
[null,null,null,{"$f":"IF(ISBLANK('Tenant Information'!E2163),\"\",'Tenant Information'!E2163)","v":""}]
[null,null,null,{"$f":"IF(ISBLANK('Tenant Information'!E2164),\"\",'Tenant Information'!E2164)","v":""}]
[null,null,null,{"$f":"IF(ISBLANK('Tenant Information'!E2165),\"\",'Tenant Information'!E2165)","v":""}]
[null,null,null,{"$f":"IF(ISBLANK('Tenant Information'!E2166),\"\",'Tenant Information'!E2166)","v":""}]
[null,null,null,{"$f":"IF(ISBLANK('Tenant Information'!E2167),\"\",'Tenant Information'!E2167)","v":""}]
[null,null,null,{"$f":"IF(ISBLANK('Tenant Information'!E2168),\"\",'Tenant Information'!E2168)","v":""}]
[null,null,null,{"$f":"IF(ISBLANK('Tenant Information'!E2169),\"\",'Tenant Information'!E2169)","v":""}]
[null,null,null,{"$f":"IF(ISBLANK('Tenant Information'!E2170),\"\",'Tenant Information'!E2170)","v":""}]
[null,null,null,{"$f":"IF(ISBLANK('Tenant Information'!E2171),\"\",'Tenant Information'!E2171)","v":""}]
[null,null,null,{"$f":"IF(ISBLANK('Tenant Information'!E2172),\"\",'Tenant Information'!E2172)","v":""}]
[null,null,null,{"$f":"IF(ISBLANK('Tenant Information'!E2173),\"\",'Tenant Information'!E2173)","v":""}]
[null,null,null,{"$f":"IF(ISBLANK('Tenant Information'!E2174),\"\",'Tenant Information'!E2174)","v":""}]
[null,null,null,{"$f":"IF(ISBLANK('Tenant Information'!E2175),\"\",'Tenant Information'!E2175)","v":""}]
[null,null,null,{"$f":"IF(ISBLANK('Tenant Information'!E2176),\"\",'Tenant Information'!E2176)","v":""}]
[null,null,null,{"$f":"IF(ISBLANK('Tenant Information'!E2177),\"\",'Tenant Information'!E2177)","v":""}]
[null,null,null,{"$f":"IF(ISBLANK('Tenant Information'!E2178),\"\",'Tenant Information'!E2178)","v":""}]
[null,null,null,{"$f":"IF(ISBLANK('Tenant Information'!E2179),\"\",'Tenant Information'!E2179)","v":""}]
[null,null,null,{"$f":"IF(ISBLANK('Tenant Information'!E2180),\"\",'Tenant Information'!E2180)","v":""}]
[null,null,null,{"$f":"IF(ISBLANK('Tenant Information'!E2181),\"\",'Tenant Information'!E2181)","v":""}]
[null,null,null,{"$f":"IF(ISBLANK('Tenant Information'!E2182),\"\",'Tenant Information'!E2182)","v":""}]
[null,null,null,{"$f":"IF(ISBLANK('Tenant Information'!E2183),\"\",'Tenant Information'!E2183)","v":""}]
[null,null,null,{"$f":"IF(ISBLANK('Tenant Information'!E2184),\"\",'Tenant Information'!E2184)","v":""}]
[null,null,null,{"$f":"IF(ISBLANK('Tenant Information'!E2185),\"\",'Tenant Information'!E2185)","v":""}]
[null,null,null,{"$f":"IF(ISBLANK('Tenant Information'!E2186),\"\",'Tenant Information'!E2186)","v":""}]
[null,null,null,{"$f":"IF(ISBLANK('Tenant Information'!E2187),\"\",'Tenant Information'!E2187)","v":""}]
[null,null,null,{"$f":"IF(ISBLANK('Tenant Information'!E2188),\"\",'Tenant Information'!E2188)","v":""}]
[null,null,null,{"$f":"IF(ISBLANK('Tenant Information'!E2189),\"\",'Tenant Information'!E2189)","v":""}]
[null,null,null,{"$f":"IF(ISBLANK('Tenant Information'!E2190),\"\",'Tenant Information'!E2190)","v":""}]
[null,null,null,{"$f":"IF(ISBLANK('Tenant Information'!E2191),\"\",'Tenant Information'!E2191)","v":""}]
[null,null,null,{"$f":"IF(ISBLANK('Tenant Information'!E2192),\"\",'Tenant Information'!E2192)","v":""}]
[null,null,null,{"$f":"IF(ISBLANK('Tenant Information'!E2193),\"\",'Tenant Information'!E2193)","v":""}]
[null,null,null,{"$f":"IF(ISBLANK('Tenant Information'!E2194),\"\",'Tenant Information'!E2194)","v":""}]
[null,null,null,{"$f":"IF(ISBLANK('Tenant Information'!E2195),\"\",'Tenant Information'!E2195)","v":""}]
[null,null,null,{"$f":"IF(ISBLANK('Tenant Information'!E2196),\"\",'Tenant Information'!E2196)","v":""}]
[null,null,null,{"$f":"IF(ISBLANK('Tenant Information'!E2197),\"\",'Tenant Information'!E2197)","v":""}]
[null,null,null,{"$f":"IF(ISBLANK('Tenant Information'!E2198),\"\",'Tenant Information'!E2198)","v":""}]
[null,null,null,{"$f":"IF(ISBLANK('Tenant Information'!E2199),\"\",'Tenant Information'!E2199)","v":""}]
[null,null,null,{"$f":"IF(ISBLANK('Tenant Information'!E2200),\"\",'Tenant Information'!E2200)","v":""}]
[null,null,null,{"$f":"IF(ISBLANK('Tenant Information'!E2201),\"\",'Tenant Information'!E2201)","v":""}]
[null,null,null,{"$f":"IF(ISBLANK('Tenant Information'!E2202),\"\",'Tenant Information'!E2202)","v":""}]
[null,null,null,{"$f":"IF(ISBLANK('Tenant Information'!E2203),\"\",'Tenant Information'!E2203)","v":""}]
[null,null,null,{"$f":"IF(ISBLANK('Tenant Information'!E2204),\"\",'Tenant Information'!E2204)","v":""}]
[null,null,null,{"$f":"IF(ISBLANK('Tenant Information'!E2205),\"\",'Tenant Information'!E2205)","v":""}]
[null,null,null,{"$f":"IF(ISBLANK('Tenant Information'!E2206),\"\",'Tenant Information'!E2206)","v":""}]
[null,null,null,{"$f":"IF(ISBLANK('Tenant Information'!E2207),\"\",'Tenant Information'!E2207)","v":""}]
[null,null,null,{"$f":"IF(ISBLANK('Tenant Information'!E2208),\"\",'Tenant Information'!E2208)","v":""}]
[null,null,null,{"$f":"IF(ISBLANK('Tenant Information'!E2209),\"\",'Tenant Information'!E2209)","v":""}]
[null,null,null,{"$f":"IF(ISBLANK('Tenant Information'!E2210),\"\",'Tenant Information'!E2210)","v":""}]
[null,null,null,{"$f":"IF(ISBLANK('Tenant Information'!E2211),\"\",'Tenant Information'!E2211)","v":""}]
[null,null,null,{"$f":"IF(ISBLANK('Tenant Information'!E2212),\"\",'Tenant Information'!E2212)","v":""}]
[null,null,null,{"$f":"IF(ISBLANK('Tenant Information'!E2213),\"\",'Tenant Information'!E2213)","v":""}]
[null,null,null,{"$f":"IF(ISBLANK('Tenant Information'!E2214),\"\",'Tenant Information'!E2214)","v":""}]
[null,null,null,{"$f":"IF(ISBLANK('Tenant Information'!E2215),\"\",'Tenant Information'!E2215)","v":""}]
[null,null,null,{"$f":"IF(ISBLANK('Tenant Information'!E2216),\"\",'Tenant Information'!E2216)","v":""}]
[null,null,null,{"$f":"IF(ISBLANK('Tenant Information'!E2217),\"\",'Tenant Information'!E2217)","v":""}]
[null,null,null,{"$f":"IF(ISBLANK('Tenant Information'!E2218),\"\",'Tenant Information'!E2218)","v":""}]
[null,null,null,{"$f":"IF(ISBLANK('Tenant Information'!E2219),\"\",'Tenant Information'!E2219)","v":""}]
[null,null,null,{"$f":"IF(ISBLANK('Tenant Information'!E2220),\"\",'Tenant Information'!E2220)","v":""}]
[null,null,null,{"$f":"IF(ISBLANK('Tenant Information'!E2221),\"\",'Tenant Information'!E2221)","v":""}]
[null,null,null,{"$f":"IF(ISBLANK('Tenant Information'!E2222),\"\",'Tenant Information'!E2222)","v":""}]
[null,null,null,{"$f":"IF(ISBLANK('Tenant Information'!E2223),\"\",'Tenant Information'!E2223)","v":""}]
[null,null,null,{"$f":"IF(ISBLANK('Tenant Information'!E2224),\"\",'Tenant Information'!E2224)","v":""}]
[null,null,null,{"$f":"IF(ISBLANK('Tenant Information'!E2225),\"\",'Tenant Information'!E2225)","v":""}]
[null,null,null,{"$f":"IF(ISBLANK('Tenant Information'!E2226),\"\",'Tenant Information'!E2226)","v":""}]
[null,null,null,{"$f":"IF(ISBLANK('Tenant Information'!E2227),\"\",'Tenant Information'!E2227)","v":""}]
[null,null,null,{"$f":"IF(ISBLANK('Tenant Information'!E2228),\"\",'Tenant Information'!E2228)","v":""}]
[null,null,null,{"$f":"IF(ISBLANK('Tenant Information'!E2229),\"\",'Tenant Information'!E2229)","v":""}]
[null,null,null,{"$f":"IF(ISBLANK('Tenant Information'!E2230),\"\",'Tenant Information'!E2230)","v":""}]
[null,null,null,{"$f":"IF(ISBLANK('Tenant Information'!E2231),\"\",'Tenant Information'!E2231)","v":""}]
[null,null,null,{"$f":"IF(ISBLANK('Tenant Information'!E2232),\"\",'Tenant Information'!E2232)","v":""}]
[null,null,null,{"$f":"IF(ISBLANK('Tenant Information'!E2233),\"\",'Tenant Information'!E2233)","v":""}]
[null,null,null,{"$f":"IF(ISBLANK('Tenant Information'!E2234),\"\",'Tenant Information'!E2234)","v":""}]
[null,null,null,{"$f":"IF(ISBLANK('Tenant Information'!E2235),\"\",'Tenant Information'!E2235)","v":""}]
[null,null,null,{"$f":"IF(ISBLANK('Tenant Information'!E2236),\"\",'Tenant Information'!E2236)","v":""}]
[null,null,null,{"$f":"IF(ISBLANK('Tenant Information'!E2237),\"\",'Tenant Information'!E2237)","v":""}]
[null,null,null,{"$f":"IF(ISBLANK('Tenant Information'!E2238),\"\",'Tenant Information'!E2238)","v":""}]
[null,null,null,{"$f":"IF(ISBLANK('Tenant Information'!E2239),\"\",'Tenant Information'!E2239)","v":""}]
[null,null,null,{"$f":"IF(ISBLANK('Tenant Information'!E2240),\"\",'Tenant Information'!E2240)","v":""}]
[null,null,null,{"$f":"IF(ISBLANK('Tenant Information'!E2241),\"\",'Tenant Information'!E2241)","v":""}]
[null,null,null,{"$f":"IF(ISBLANK('Tenant Information'!E2242),\"\",'Tenant Information'!E2242)","v":""}]
[null,null,null,{"$f":"IF(ISBLANK('Tenant Information'!E2243),\"\",'Tenant Information'!E2243)","v":""}]
[null,null,null,{"$f":"IF(ISBLANK('Tenant Information'!E2244),\"\",'Tenant Information'!E2244)","v":""}]
[null,null,null,{"$f":"IF(ISBLANK('Tenant Information'!E2245),\"\",'Tenant Information'!E2245)","v":""}]
[null,null,null,{"$f":"IF(ISBLANK('Tenant Information'!E2246),\"\",'Tenant Information'!E2246)","v":""}]
[null,null,null,{"$f":"IF(ISBLANK('Tenant Information'!E2247),\"\",'Tenant Information'!E2247)","v":""}]
[null,null,null,{"$f":"IF(ISBLANK('Tenant Information'!E2248),\"\",'Tenant Information'!E2248)","v":""}]
[null,null,null,{"$f":"IF(ISBLANK('Tenant Information'!E2249),\"\",'Tenant Information'!E2249)","v":""}]
[null,null,null,{"$f":"IF(ISBLANK('Tenant Information'!E2250),\"\",'Tenant Information'!E2250)","v":""}]
[null,null,null,{"$f":"IF(ISBLANK('Tenant Information'!E2251),\"\",'Tenant Information'!E2251)","v":""}]
[null,null,null,{"$f":"IF(ISBLANK('Tenant Information'!E2252),\"\",'Tenant Information'!E2252)","v":""}]
[null,null,null,{"$f":"IF(ISBLANK('Tenant Information'!E2253),\"\",'Tenant Information'!E2253)","v":""}]
[null,null,null,{"$f":"IF(ISBLANK('Tenant Information'!E2254),\"\",'Tenant Information'!E2254)","v":""}]
[null,null,null,{"$f":"IF(ISBLANK('Tenant Information'!E2255),\"\",'Tenant Information'!E2255)","v":""}]
[null,null,null,{"$f":"IF(ISBLANK('Tenant Information'!E2256),\"\",'Tenant Information'!E2256)","v":""}]
[null,null,null,{"$f":"IF(ISBLANK('Tenant Information'!E2257),\"\",'Tenant Information'!E2257)","v":""}]
[null,null,null,{"$f":"IF(ISBLANK('Tenant Information'!E2258),\"\",'Tenant Information'!E2258)","v":""}]
[null,null,null,{"$f":"IF(ISBLANK('Tenant Information'!E2259),\"\",'Tenant Information'!E2259)","v":""}]
[null,null,null,{"$f":"IF(ISBLANK('Tenant Information'!E2260),\"\",'Tenant Information'!E2260)","v":""}]
[null,null,null,{"$f":"IF(ISBLANK('Tenant Information'!E2261),\"\",'Tenant Information'!E2261)","v":""}]
[null,null,null,{"$f":"IF(ISBLANK('Tenant Information'!E2262),\"\",'Tenant Information'!E2262)","v":""}]
[null,null,null,{"$f":"IF(ISBLANK('Tenant Information'!E2263),\"\",'Tenant Information'!E2263)","v":""}]
[null,null,null,{"$f":"IF(ISBLANK('Tenant Information'!E2264),\"\",'Tenant Information'!E2264)","v":""}]
[null,null,null,{"$f":"IF(ISBLANK('Tenant Information'!E2265),\"\",'Tenant Information'!E2265)","v":""}]
[null,null,null,{"$f":"IF(ISBLANK('Tenant Information'!E2266),\"\",'Tenant Information'!E2266)","v":""}]
[null,null,null,{"$f":"IF(ISBLANK('Tenant Information'!E2267),\"\",'Tenant Information'!E2267)","v":""}]
[null,null,null,{"$f":"IF(ISBLANK('Tenant Information'!E2268),\"\",'Tenant Information'!E2268)","v":""}]
[null,null,null,{"$f":"IF(ISBLANK('Tenant Information'!E2269),\"\",'Tenant Information'!E2269)","v":""}]
[null,null,null,{"$f":"IF(ISBLANK('Tenant Information'!E2270),\"\",'Tenant Information'!E2270)","v":""}]
[null,null,null,{"$f":"IF(ISBLANK('Tenant Information'!E2271),\"\",'Tenant Information'!E2271)","v":""}]
[null,null,null,{"$f":"IF(ISBLANK('Tenant Information'!E2272),\"\",'Tenant Information'!E2272)","v":""}]
[null,null,null,{"$f":"IF(ISBLANK('Tenant Information'!E2273),\"\",'Tenant Information'!E2273)","v":""}]
[null,null,null,{"$f":"IF(ISBLANK('Tenant Information'!E2274),\"\",'Tenant Information'!E2274)","v":""}]
[null,null,null,{"$f":"IF(ISBLANK('Tenant Information'!E2275),\"\",'Tenant Information'!E2275)","v":""}]
[null,null,null,{"$f":"IF(ISBLANK('Tenant Information'!E2276),\"\",'Tenant Information'!E2276)","v":""}]
[null,null,null,{"$f":"IF(ISBLANK('Tenant Information'!E2277),\"\",'Tenant Information'!E2277)","v":""}]
[null,null,null,{"$f":"IF(ISBLANK('Tenant Information'!E2278),\"\",'Tenant Information'!E2278)","v":""}]
[null,null,null,{"$f":"IF(ISBLANK('Tenant Information'!E2279),\"\",'Tenant Information'!E2279)","v":""}]
[null,null,null,{"$f":"IF(ISBLANK('Tenant Information'!E2280),\"\",'Tenant Information'!E2280)","v":""}]
[null,null,null,{"$f":"IF(ISBLANK('Tenant Information'!E2281),\"\",'Tenant Information'!E2281)","v":""}]
[null,null,null,{"$f":"IF(ISBLANK('Tenant Information'!E2282),\"\",'Tenant Information'!E2282)","v":""}]
[null,null,null,{"$f":"IF(ISBLANK('Tenant Information'!E2283),\"\",'Tenant Information'!E2283)","v":""}]
[null,null,null,{"$f":"IF(ISBLANK('Tenant Information'!E2284),\"\",'Tenant Information'!E2284)","v":""}]
[null,null,null,{"$f":"IF(ISBLANK('Tenant Information'!E2285),\"\",'Tenant Information'!E2285)","v":""}]
[null,null,null,{"$f":"IF(ISBLANK('Tenant Information'!E2286),\"\",'Tenant Information'!E2286)","v":""}]
[null,null,null,{"$f":"IF(ISBLANK('Tenant Information'!E2287),\"\",'Tenant Information'!E2287)","v":""}]
[null,null,null,{"$f":"IF(ISBLANK('Tenant Information'!E2288),\"\",'Tenant Information'!E2288)","v":""}]
[null,null,null,{"$f":"IF(ISBLANK('Tenant Information'!E2289),\"\",'Tenant Information'!E2289)","v":""}]
[null,null,null,{"$f":"IF(ISBLANK('Tenant Information'!E2290),\"\",'Tenant Information'!E2290)","v":""}]
[null,null,null,{"$f":"IF(ISBLANK('Tenant Information'!E2291),\"\",'Tenant Information'!E2291)","v":""}]
[null,null,null,{"$f":"IF(ISBLANK('Tenant Information'!E2292),\"\",'Tenant Information'!E2292)","v":""}]
[null,null,null,{"$f":"IF(ISBLANK('Tenant Information'!E2293),\"\",'Tenant Information'!E2293)","v":""}]
[null,null,null,{"$f":"IF(ISBLANK('Tenant Information'!E2294),\"\",'Tenant Information'!E2294)","v":""}]
[null,null,null,{"$f":"IF(ISBLANK('Tenant Information'!E2295),\"\",'Tenant Information'!E2295)","v":""}]
[null,null,null,{"$f":"IF(ISBLANK('Tenant Information'!E2296),\"\",'Tenant Information'!E2296)","v":""}]
[null,null,null,{"$f":"IF(ISBLANK('Tenant Information'!E2297),\"\",'Tenant Information'!E2297)","v":""}]
[null,null,null,{"$f":"IF(ISBLANK('Tenant Information'!E2298),\"\",'Tenant Information'!E2298)","v":""}]
[null,null,null,{"$f":"IF(ISBLANK('Tenant Information'!E2299),\"\",'Tenant Information'!E2299)","v":""}]
[null,null,null,{"$f":"IF(ISBLANK('Tenant Information'!E2300),\"\",'Tenant Information'!E2300)","v":""}]
[null,null,null,{"$f":"IF(ISBLANK('Tenant Information'!E2301),\"\",'Tenant Information'!E2301)","v":""}]
[null,null,null,{"$f":"IF(ISBLANK('Tenant Information'!E2302),\"\",'Tenant Information'!E2302)","v":""}]
[null,null,null,{"$f":"IF(ISBLANK('Tenant Information'!E2303),\"\",'Tenant Information'!E2303)","v":""}]
[null,null,null,{"$f":"IF(ISBLANK('Tenant Information'!E2304),\"\",'Tenant Information'!E2304)","v":""}]
[null,null,null,{"$f":"IF(ISBLANK('Tenant Information'!E2305),\"\",'Tenant Information'!E2305)","v":""}]
[null,null,null,{"$f":"IF(ISBLANK('Tenant Information'!E2306),\"\",'Tenant Information'!E2306)","v":""}]
[null,null,null,{"$f":"IF(ISBLANK('Tenant Information'!E2307),\"\",'Tenant Information'!E2307)","v":""}]
[null,null,null,{"$f":"IF(ISBLANK('Tenant Information'!E2308),\"\",'Tenant Information'!E2308)","v":""}]
[null,null,null,{"$f":"IF(ISBLANK('Tenant Information'!E2309),\"\",'Tenant Information'!E2309)","v":""}]
[null,null,null,{"$f":"IF(ISBLANK('Tenant Information'!E2310),\"\",'Tenant Information'!E2310)","v":""}]
[null,null,null,{"$f":"IF(ISBLANK('Tenant Information'!E2311),\"\",'Tenant Information'!E2311)","v":""}]
[null,null,null,{"$f":"IF(ISBLANK('Tenant Information'!E2312),\"\",'Tenant Information'!E2312)","v":""}]
[null,null,null,{"$f":"IF(ISBLANK('Tenant Information'!E2313),\"\",'Tenant Information'!E2313)","v":""}]
[null,null,null,{"$f":"IF(ISBLANK('Tenant Information'!E2314),\"\",'Tenant Information'!E2314)","v":""}]
[null,null,null,{"$f":"IF(ISBLANK('Tenant Information'!E2315),\"\",'Tenant Information'!E2315)","v":""}]
[null,null,null,{"$f":"IF(ISBLANK('Tenant Information'!E2316),\"\",'Tenant Information'!E2316)","v":""}]
[null,null,null,{"$f":"IF(ISBLANK('Tenant Information'!E2317),\"\",'Tenant Information'!E2317)","v":""}]
[null,null,null,{"$f":"IF(ISBLANK('Tenant Information'!E2318),\"\",'Tenant Information'!E2318)","v":""}]
[null,null,null,{"$f":"IF(ISBLANK('Tenant Information'!E2319),\"\",'Tenant Information'!E2319)","v":""}]
[null,null,null,{"$f":"IF(ISBLANK('Tenant Information'!E2320),\"\",'Tenant Information'!E2320)","v":""}]
[null,null,null,{"$f":"IF(ISBLANK('Tenant Information'!E2321),\"\",'Tenant Information'!E2321)","v":""}]
[null,null,null,{"$f":"IF(ISBLANK('Tenant Information'!E2322),\"\",'Tenant Information'!E2322)","v":""}]
[null,null,null,{"$f":"IF(ISBLANK('Tenant Information'!E2323),\"\",'Tenant Information'!E2323)","v":""}]
[null,null,null,{"$f":"IF(ISBLANK('Tenant Information'!E2324),\"\",'Tenant Information'!E2324)","v":""}]
[null,null,null,{"$f":"IF(ISBLANK('Tenant Information'!E2325),\"\",'Tenant Information'!E2325)","v":""}]
[null,null,null,{"$f":"IF(ISBLANK('Tenant Information'!E2326),\"\",'Tenant Information'!E2326)","v":""}]
[null,null,null,{"$f":"IF(ISBLANK('Tenant Information'!E2327),\"\",'Tenant Information'!E2327)","v":""}]
[null,null,null,{"$f":"IF(ISBLANK('Tenant Information'!E2328),\"\",'Tenant Information'!E2328)","v":""}]
[null,null,null,{"$f":"IF(ISBLANK('Tenant Information'!E2329),\"\",'Tenant Information'!E2329)","v":""}]
[null,null,null,{"$f":"IF(ISBLANK('Tenant Information'!E2330),\"\",'Tenant Information'!E2330)","v":""}]
[null,null,null,{"$f":"IF(ISBLANK('Tenant Information'!E2331),\"\",'Tenant Information'!E2331)","v":""}]
[null,null,null,{"$f":"IF(ISBLANK('Tenant Information'!E2332),\"\",'Tenant Information'!E2332)","v":""}]
[null,null,null,{"$f":"IF(ISBLANK('Tenant Information'!E2333),\"\",'Tenant Information'!E2333)","v":""}]
[null,null,null,{"$f":"IF(ISBLANK('Tenant Information'!E2334),\"\",'Tenant Information'!E2334)","v":""}]
[null,null,null,{"$f":"IF(ISBLANK('Tenant Information'!E2335),\"\",'Tenant Information'!E2335)","v":""}]
[null,null,null,{"$f":"IF(ISBLANK('Tenant Information'!E2336),\"\",'Tenant Information'!E2336)","v":""}]
[null,null,null,{"$f":"IF(ISBLANK('Tenant Information'!E2337),\"\",'Tenant Information'!E2337)","v":""}]
[null,null,null,{"$f":"IF(ISBLANK('Tenant Information'!E2338),\"\",'Tenant Information'!E2338)","v":""}]
[null,null,null,{"$f":"IF(ISBLANK('Tenant Information'!E2339),\"\",'Tenant Information'!E2339)","v":""}]
[null,null,null,{"$f":"IF(ISBLANK('Tenant Information'!E2340),\"\",'Tenant Information'!E2340)","v":""}]
[null,null,null,{"$f":"IF(ISBLANK('Tenant Information'!E2341),\"\",'Tenant Information'!E2341)","v":""}]
[null,null,null,{"$f":"IF(ISBLANK('Tenant Information'!E2342),\"\",'Tenant Information'!E2342)","v":""}]
[null,null,null,{"$f":"IF(ISBLANK('Tenant Information'!E2343),\"\",'Tenant Information'!E2343)","v":""}]
[null,null,null,{"$f":"IF(ISBLANK('Tenant Information'!E2344),\"\",'Tenant Information'!E2344)","v":""}]
[null,null,null,{"$f":"IF(ISBLANK('Tenant Information'!E2345),\"\",'Tenant Information'!E2345)","v":""}]
[null,null,null,{"$f":"IF(ISBLANK('Tenant Information'!E2346),\"\",'Tenant Information'!E2346)","v":""}]
[null,null,null,{"$f":"IF(ISBLANK('Tenant Information'!E2347),\"\",'Tenant Information'!E2347)","v":""}]
[null,null,null,{"$f":"IF(ISBLANK('Tenant Information'!E2348),\"\",'Tenant Information'!E2348)","v":""}]
[null,null,null,{"$f":"IF(ISBLANK('Tenant Information'!E2349),\"\",'Tenant Information'!E2349)","v":""}]
[null,null,null,{"$f":"IF(ISBLANK('Tenant Information'!E2350),\"\",'Tenant Information'!E2350)","v":""}]
[null,null,null,{"$f":"IF(ISBLANK('Tenant Information'!E2351),\"\",'Tenant Information'!E2351)","v":""}]
[null,null,null,{"$f":"IF(ISBLANK('Tenant Information'!E2352),\"\",'Tenant Information'!E2352)","v":""}]
[null,null,null,{"$f":"IF(ISBLANK('Tenant Information'!E2353),\"\",'Tenant Information'!E2353)","v":""}]
[null,null,null,{"$f":"IF(ISBLANK('Tenant Information'!E2354),\"\",'Tenant Information'!E2354)","v":""}]
[null,null,null,{"$f":"IF(ISBLANK('Tenant Information'!E2355),\"\",'Tenant Information'!E2355)","v":""}]
[null,null,null,{"$f":"IF(ISBLANK('Tenant Information'!E2356),\"\",'Tenant Information'!E2356)","v":""}]
[null,null,null,{"$f":"IF(ISBLANK('Tenant Information'!E2357),\"\",'Tenant Information'!E2357)","v":""}]
[null,null,null,{"$f":"IF(ISBLANK('Tenant Information'!E2358),\"\",'Tenant Information'!E2358)","v":""}]
[null,null,null,{"$f":"IF(ISBLANK('Tenant Information'!E2359),\"\",'Tenant Information'!E2359)","v":""}]
[null,null,null,{"$f":"IF(ISBLANK('Tenant Information'!E2360),\"\",'Tenant Information'!E2360)","v":""}]
[null,null,null,{"$f":"IF(ISBLANK('Tenant Information'!E2361),\"\",'Tenant Information'!E2361)","v":""}]
[null,null,null,{"$f":"IF(ISBLANK('Tenant Information'!E2362),\"\",'Tenant Information'!E2362)","v":""}]
[null,null,null,{"$f":"IF(ISBLANK('Tenant Information'!E2363),\"\",'Tenant Information'!E2363)","v":""}]
[null,null,null,{"$f":"IF(ISBLANK('Tenant Information'!E2364),\"\",'Tenant Information'!E2364)","v":""}]
[null,null,null,{"$f":"IF(ISBLANK('Tenant Information'!E2365),\"\",'Tenant Information'!E2365)","v":""}]
[null,null,null,{"$f":"IF(ISBLANK('Tenant Information'!E2366),\"\",'Tenant Information'!E2366)","v":""}]
[null,null,null,{"$f":"IF(ISBLANK('Tenant Information'!E2367),\"\",'Tenant Information'!E2367)","v":""}]
[null,null,null,{"$f":"IF(ISBLANK('Tenant Information'!E2368),\"\",'Tenant Information'!E2368)","v":""}]
[null,null,null,{"$f":"IF(ISBLANK('Tenant Information'!E2369),\"\",'Tenant Information'!E2369)","v":""}]
[null,null,null,{"$f":"IF(ISBLANK('Tenant Information'!E2370),\"\",'Tenant Information'!E2370)","v":""}]
[null,null,null,{"$f":"IF(ISBLANK('Tenant Information'!E2371),\"\",'Tenant Information'!E2371)","v":""}]
[null,null,null,{"$f":"IF(ISBLANK('Tenant Information'!E2372),\"\",'Tenant Information'!E2372)","v":""}]
[null,null,null,{"$f":"IF(ISBLANK('Tenant Information'!E2373),\"\",'Tenant Information'!E2373)","v":""}]
[null,null,null,{"$f":"IF(ISBLANK('Tenant Information'!E2374),\"\",'Tenant Information'!E2374)","v":""}]
[null,null,null,{"$f":"IF(ISBLANK('Tenant Information'!E2375),\"\",'Tenant Information'!E2375)","v":""}]
[null,null,null,{"$f":"IF(ISBLANK('Tenant Information'!E2376),\"\",'Tenant Information'!E2376)","v":""}]
[null,null,null,{"$f":"IF(ISBLANK('Tenant Information'!E2377),\"\",'Tenant Information'!E2377)","v":""}]
[null,null,null,{"$f":"IF(ISBLANK('Tenant Information'!E2378),\"\",'Tenant Information'!E2378)","v":""}]
[null,null,null,{"$f":"IF(ISBLANK('Tenant Information'!E2379),\"\",'Tenant Information'!E2379)","v":""}]
[null,null,null,{"$f":"IF(ISBLANK('Tenant Information'!E2380),\"\",'Tenant Information'!E2380)","v":""}]
[null,null,null,{"$f":"IF(ISBLANK('Tenant Information'!E2381),\"\",'Tenant Information'!E2381)","v":""}]
[null,null,null,{"$f":"IF(ISBLANK('Tenant Information'!E2382),\"\",'Tenant Information'!E2382)","v":""}]
[null,null,null,{"$f":"IF(ISBLANK('Tenant Information'!E2383),\"\",'Tenant Information'!E2383)","v":""}]
[null,null,null,{"$f":"IF(ISBLANK('Tenant Information'!E2384),\"\",'Tenant Information'!E2384)","v":""}]
[null,null,null,{"$f":"IF(ISBLANK('Tenant Information'!E2385),\"\",'Tenant Information'!E2385)","v":""}]
[null,null,null,{"$f":"IF(ISBLANK('Tenant Information'!E2386),\"\",'Tenant Information'!E2386)","v":""}]
[null,null,null,{"$f":"IF(ISBLANK('Tenant Information'!E2387),\"\",'Tenant Information'!E2387)","v":""}]
[null,null,null,{"$f":"IF(ISBLANK('Tenant Information'!E2388),\"\",'Tenant Information'!E2388)","v":""}]
[null,null,null,{"$f":"IF(ISBLANK('Tenant Information'!E2389),\"\",'Tenant Information'!E2389)","v":""}]
[null,null,null,{"$f":"IF(ISBLANK('Tenant Information'!E2390),\"\",'Tenant Information'!E2390)","v":""}]
[null,null,null,{"$f":"IF(ISBLANK('Tenant Information'!E2391),\"\",'Tenant Information'!E2391)","v":""}]
[null,null,null,{"$f":"IF(ISBLANK('Tenant Information'!E2392),\"\",'Tenant Information'!E2392)","v":""}]
[null,null,null,{"$f":"IF(ISBLANK('Tenant Information'!E2393),\"\",'Tenant Information'!E2393)","v":""}]
[null,null,null,{"$f":"IF(ISBLANK('Tenant Information'!E2394),\"\",'Tenant Information'!E2394)","v":""}]
[null,null,null,{"$f":"IF(ISBLANK('Tenant Information'!E2395),\"\",'Tenant Information'!E2395)","v":""}]
[null,null,null,{"$f":"IF(ISBLANK('Tenant Information'!E2396),\"\",'Tenant Information'!E2396)","v":""}]
[null,null,null,{"$f":"IF(ISBLANK('Tenant Information'!E2397),\"\",'Tenant Information'!E2397)","v":""}]
[null,null,null,{"$f":"IF(ISBLANK('Tenant Information'!E2398),\"\",'Tenant Information'!E2398)","v":""}]
[null,null,null,{"$f":"IF(ISBLANK('Tenant Information'!E2399),\"\",'Tenant Information'!E2399)","v":""}]
[null,null,null,{"$f":"IF(ISBLANK('Tenant Information'!E2400),\"\",'Tenant Information'!E2400)","v":""}]
[null,null,null,{"$f":"IF(ISBLANK('Tenant Information'!E2401),\"\",'Tenant Information'!E2401)","v":""}]
[null,null,null,{"$f":"IF(ISBLANK('Tenant Information'!E2402),\"\",'Tenant Information'!E2402)","v":""}]
[null,null,null,{"$f":"IF(ISBLANK('Tenant Information'!E2403),\"\",'Tenant Information'!E2403)","v":""}]
[null,null,null,{"$f":"IF(ISBLANK('Tenant Information'!E2404),\"\",'Tenant Information'!E2404)","v":""}]
[null,null,null,{"$f":"IF(ISBLANK('Tenant Information'!E2405),\"\",'Tenant Information'!E2405)","v":""}]
[null,null,null,{"$f":"IF(ISBLANK('Tenant Information'!E2406),\"\",'Tenant Information'!E2406)","v":""}]
[null,null,null,{"$f":"IF(ISBLANK('Tenant Information'!E2407),\"\",'Tenant Information'!E2407)","v":""}]
[null,null,null,{"$f":"IF(ISBLANK('Tenant Information'!E2408),\"\",'Tenant Information'!E2408)","v":""}]
[null,null,null,{"$f":"IF(ISBLANK('Tenant Information'!E2409),\"\",'Tenant Information'!E2409)","v":""}]
[null,null,null,{"$f":"IF(ISBLANK('Tenant Information'!E2410),\"\",'Tenant Information'!E2410)","v":""}]
[null,null,null,{"$f":"IF(ISBLANK('Tenant Information'!E2411),\"\",'Tenant Information'!E2411)","v":""}]
[null,null,null,{"$f":"IF(ISBLANK('Tenant Information'!E2412),\"\",'Tenant Information'!E2412)","v":""}]
[null,null,null,{"$f":"IF(ISBLANK('Tenant Information'!E2413),\"\",'Tenant Information'!E2413)","v":""}]
[null,null,null,{"$f":"IF(ISBLANK('Tenant Information'!E2414),\"\",'Tenant Information'!E2414)","v":""}]
[null,null,null,{"$f":"IF(ISBLANK('Tenant Information'!E2415),\"\",'Tenant Information'!E2415)","v":""}]
[null,null,null,{"$f":"IF(ISBLANK('Tenant Information'!E2416),\"\",'Tenant Information'!E2416)","v":""}]
[null,null,null,{"$f":"IF(ISBLANK('Tenant Information'!E2417),\"\",'Tenant Information'!E2417)","v":""}]
[null,null,null,{"$f":"IF(ISBLANK('Tenant Information'!E2418),\"\",'Tenant Information'!E2418)","v":""}]
[null,null,null,{"$f":"IF(ISBLANK('Tenant Information'!E2419),\"\",'Tenant Information'!E2419)","v":""}]
[null,null,null,{"$f":"IF(ISBLANK('Tenant Information'!E2420),\"\",'Tenant Information'!E2420)","v":""}]
[null,null,null,{"$f":"IF(ISBLANK('Tenant Information'!E2421),\"\",'Tenant Information'!E2421)","v":""}]
[null,null,null,{"$f":"IF(ISBLANK('Tenant Information'!E2422),\"\",'Tenant Information'!E2422)","v":""}]
[null,null,null,{"$f":"IF(ISBLANK('Tenant Information'!E2423),\"\",'Tenant Information'!E2423)","v":""}]
[null,null,null,{"$f":"IF(ISBLANK('Tenant Information'!E2424),\"\",'Tenant Information'!E2424)","v":""}]
[null,null,null,{"$f":"IF(ISBLANK('Tenant Information'!E2425),\"\",'Tenant Information'!E2425)","v":""}]
[null,null,null,{"$f":"IF(ISBLANK('Tenant Information'!E2426),\"\",'Tenant Information'!E2426)","v":""}]
[null,null,null,{"$f":"IF(ISBLANK('Tenant Information'!E2427),\"\",'Tenant Information'!E2427)","v":""}]
[null,null,null,{"$f":"IF(ISBLANK('Tenant Information'!E2428),\"\",'Tenant Information'!E2428)","v":""}]
[null,null,null,{"$f":"IF(ISBLANK('Tenant Information'!E2429),\"\",'Tenant Information'!E2429)","v":""}]
[null,null,null,{"$f":"IF(ISBLANK('Tenant Information'!E2430),\"\",'Tenant Information'!E2430)","v":""}]
[null,null,null,{"$f":"IF(ISBLANK('Tenant Information'!E2431),\"\",'Tenant Information'!E2431)","v":""}]
[null,null,null,{"$f":"IF(ISBLANK('Tenant Information'!E2432),\"\",'Tenant Information'!E2432)","v":""}]
[null,null,null,{"$f":"IF(ISBLANK('Tenant Information'!E2433),\"\",'Tenant Information'!E2433)","v":""}]
[null,null,null,{"$f":"IF(ISBLANK('Tenant Information'!E2434),\"\",'Tenant Information'!E2434)","v":""}]
[null,null,null,{"$f":"IF(ISBLANK('Tenant Information'!E2435),\"\",'Tenant Information'!E2435)","v":""}]
[null,null,null,{"$f":"IF(ISBLANK('Tenant Information'!E2436),\"\",'Tenant Information'!E2436)","v":""}]
[null,null,null,{"$f":"IF(ISBLANK('Tenant Information'!E2437),\"\",'Tenant Information'!E2437)","v":""}]
[null,null,null,{"$f":"IF(ISBLANK('Tenant Information'!E2438),\"\",'Tenant Information'!E2438)","v":""}]
[null,null,null,{"$f":"IF(ISBLANK('Tenant Information'!E2439),\"\",'Tenant Information'!E2439)","v":""}]
[null,null,null,{"$f":"IF(ISBLANK('Tenant Information'!E2440),\"\",'Tenant Information'!E2440)","v":""}]
[null,null,null,{"$f":"IF(ISBLANK('Tenant Information'!E2441),\"\",'Tenant Information'!E2441)","v":""}]
[null,null,null,{"$f":"IF(ISBLANK('Tenant Information'!E2442),\"\",'Tenant Information'!E2442)","v":""}]
[null,null,null,{"$f":"IF(ISBLANK('Tenant Information'!E2443),\"\",'Tenant Information'!E2443)","v":""}]
[null,null,null,{"$f":"IF(ISBLANK('Tenant Information'!E2444),\"\",'Tenant Information'!E2444)","v":""}]
[null,null,null,{"$f":"IF(ISBLANK('Tenant Information'!E2445),\"\",'Tenant Information'!E2445)","v":""}]
[null,null,null,{"$f":"IF(ISBLANK('Tenant Information'!E2446),\"\",'Tenant Information'!E2446)","v":""}]
[null,null,null,{"$f":"IF(ISBLANK('Tenant Information'!E2447),\"\",'Tenant Information'!E2447)","v":""}]
[null,null,null,{"$f":"IF(ISBLANK('Tenant Information'!E2448),\"\",'Tenant Information'!E2448)","v":""}]
[null,null,null,{"$f":"IF(ISBLANK('Tenant Information'!E2449),\"\",'Tenant Information'!E2449)","v":""}]
[null,null,null,{"$f":"IF(ISBLANK('Tenant Information'!E2450),\"\",'Tenant Information'!E2450)","v":""}]
[null,null,null,{"$f":"IF(ISBLANK('Tenant Information'!E2451),\"\",'Tenant Information'!E2451)","v":""}]
[null,null,null,{"$f":"IF(ISBLANK('Tenant Information'!E2452),\"\",'Tenant Information'!E2452)","v":""}]
[null,null,null,{"$f":"IF(ISBLANK('Tenant Information'!E2453),\"\",'Tenant Information'!E2453)","v":""}]
[null,null,null,{"$f":"IF(ISBLANK('Tenant Information'!E2454),\"\",'Tenant Information'!E2454)","v":""}]
[null,null,null,{"$f":"IF(ISBLANK('Tenant Information'!E2455),\"\",'Tenant Information'!E2455)","v":""}]
[null,null,null,{"$f":"IF(ISBLANK('Tenant Information'!E2456),\"\",'Tenant Information'!E2456)","v":""}]
[null,null,null,{"$f":"IF(ISBLANK('Tenant Information'!E2457),\"\",'Tenant Information'!E2457)","v":""}]
[null,null,null,{"$f":"IF(ISBLANK('Tenant Information'!E2458),\"\",'Tenant Information'!E2458)","v":""}]
[null,null,null,{"$f":"IF(ISBLANK('Tenant Information'!E2459),\"\",'Tenant Information'!E2459)","v":""}]
[null,null,null,{"$f":"IF(ISBLANK('Tenant Information'!E2460),\"\",'Tenant Information'!E2460)","v":""}]
[null,null,null,{"$f":"IF(ISBLANK('Tenant Information'!E2461),\"\",'Tenant Information'!E2461)","v":""}]
[null,null,null,{"$f":"IF(ISBLANK('Tenant Information'!E2462),\"\",'Tenant Information'!E2462)","v":""}]
[null,null,null,{"$f":"IF(ISBLANK('Tenant Information'!E2463),\"\",'Tenant Information'!E2463)","v":""}]
[null,null,null,{"$f":"IF(ISBLANK('Tenant Information'!E2464),\"\",'Tenant Information'!E2464)","v":""}]
[null,null,null,{"$f":"IF(ISBLANK('Tenant Information'!E2465),\"\",'Tenant Information'!E2465)","v":""}]
[null,null,null,{"$f":"IF(ISBLANK('Tenant Information'!E2466),\"\",'Tenant Information'!E2466)","v":""}]
[null,null,null,{"$f":"IF(ISBLANK('Tenant Information'!E2467),\"\",'Tenant Information'!E2467)","v":""}]
[null,null,null,{"$f":"IF(ISBLANK('Tenant Information'!E2468),\"\",'Tenant Information'!E2468)","v":""}]
[null,null,null,{"$f":"IF(ISBLANK('Tenant Information'!E2469),\"\",'Tenant Information'!E2469)","v":""}]
[null,null,null,{"$f":"IF(ISBLANK('Tenant Information'!E2470),\"\",'Tenant Information'!E2470)","v":""}]
[null,null,null,{"$f":"IF(ISBLANK('Tenant Information'!E2471),\"\",'Tenant Information'!E2471)","v":""}]
[null,null,null,{"$f":"IF(ISBLANK('Tenant Information'!E2472),\"\",'Tenant Information'!E2472)","v":""}]
[null,null,null,{"$f":"IF(ISBLANK('Tenant Information'!E2473),\"\",'Tenant Information'!E2473)","v":""}]
[null,null,null,{"$f":"IF(ISBLANK('Tenant Information'!E2474),\"\",'Tenant Information'!E2474)","v":""}]
[null,null,null,{"$f":"IF(ISBLANK('Tenant Information'!E2475),\"\",'Tenant Information'!E2475)","v":""}]
[null,null,null,{"$f":"IF(ISBLANK('Tenant Information'!E2476),\"\",'Tenant Information'!E2476)","v":""}]
[null,null,null,{"$f":"IF(ISBLANK('Tenant Information'!E2477),\"\",'Tenant Information'!E2477)","v":""}]
[null,null,null,{"$f":"IF(ISBLANK('Tenant Information'!E2478),\"\",'Tenant Information'!E2478)","v":""}]
[null,null,null,{"$f":"IF(ISBLANK('Tenant Information'!E2479),\"\",'Tenant Information'!E2479)","v":""}]
[null,null,null,{"$f":"IF(ISBLANK('Tenant Information'!E2480),\"\",'Tenant Information'!E2480)","v":""}]
[null,null,null,{"$f":"IF(ISBLANK('Tenant Information'!E2481),\"\",'Tenant Information'!E2481)","v":""}]
[null,null,null,{"$f":"IF(ISBLANK('Tenant Information'!E2482),\"\",'Tenant Information'!E2482)","v":""}]
[null,null,null,{"$f":"IF(ISBLANK('Tenant Information'!E2483),\"\",'Tenant Information'!E2483)","v":""}]
[null,null,null,{"$f":"IF(ISBLANK('Tenant Information'!E2484),\"\",'Tenant Information'!E2484)","v":""}]
[null,null,null,{"$f":"IF(ISBLANK('Tenant Information'!E2485),\"\",'Tenant Information'!E2485)","v":""}]
[null,null,null,{"$f":"IF(ISBLANK('Tenant Information'!E2486),\"\",'Tenant Information'!E2486)","v":""}]
[null,null,null,{"$f":"IF(ISBLANK('Tenant Information'!E2487),\"\",'Tenant Information'!E2487)","v":""}]
[null,null,null,{"$f":"IF(ISBLANK('Tenant Information'!E2488),\"\",'Tenant Information'!E2488)","v":""}]
[null,null,null,{"$f":"IF(ISBLANK('Tenant Information'!E2489),\"\",'Tenant Information'!E2489)","v":""}]
[null,null,null,{"$f":"IF(ISBLANK('Tenant Information'!E2490),\"\",'Tenant Information'!E2490)","v":""}]
[null,null,null,{"$f":"IF(ISBLANK('Tenant Information'!E2491),\"\",'Tenant Information'!E2491)","v":""}]
[null,null,null,{"$f":"IF(ISBLANK('Tenant Information'!E2492),\"\",'Tenant Information'!E2492)","v":""}]
[null,null,null,{"$f":"IF(ISBLANK('Tenant Information'!E2493),\"\",'Tenant Information'!E2493)","v":""}]
[null,null,null,{"$f":"IF(ISBLANK('Tenant Information'!E2494),\"\",'Tenant Information'!E2494)","v":""}]
[null,null,null,{"$f":"IF(ISBLANK('Tenant Information'!E2495),\"\",'Tenant Information'!E2495)","v":""}]
[null,null,null,{"$f":"IF(ISBLANK('Tenant Information'!E2496),\"\",'Tenant Information'!E2496)","v":""}]
[null,null,null,{"$f":"IF(ISBLANK('Tenant Information'!E2497),\"\",'Tenant Information'!E2497)","v":""}]
[null,null,null,{"$f":"IF(ISBLANK('Tenant Information'!E2498),\"\",'Tenant Information'!E2498)","v":""}]
[null,null,null,{"$f":"IF(ISBLANK('Tenant Information'!E2499),\"\",'Tenant Information'!E2499)","v":""}]
[null,null,null,{"$f":"IF(ISBLANK('Tenant Information'!E2500),\"\",'Tenant Information'!E2500)","v":""}]
[null,null,null,{"$f":"IF(ISBLANK('Tenant Information'!E2501),\"\",'Tenant Information'!E2501)","v":""}]
[null,null,null,{"$f":"IF(ISBLANK('Tenant Information'!E2502),\"\",'Tenant Information'!E2502)","v":""}]
[null,null,null,{"$f":"IF(ISBLANK('Tenant Information'!E2503),\"\",'Tenant Information'!E2503)","v":""}]
[null,null,null,{"$f":"IF(ISBLANK('Tenant Information'!E2504),\"\",'Tenant Information'!E2504)","v":""}]
[null,null,null,{"$f":"IF(ISBLANK('Tenant Information'!E2505),\"\",'Tenant Information'!E2505)","v":""}]
[null,null,null,{"$f":"IF(ISBLANK('Tenant Information'!E2506),\"\",'Tenant Information'!E2506)","v":""}]
[null,null,null,{"$f":"IF(ISBLANK('Tenant Information'!E2507),\"\",'Tenant Information'!E2507)","v":""}]
[null,null,null,{"$f":"IF(ISBLANK('Tenant Information'!E2508),\"\",'Tenant Information'!E2508)","v":""}]
[null,null,null,{"$f":"IF(ISBLANK('Tenant Information'!E2509),\"\",'Tenant Information'!E2509)","v":""}]
[null,null,null,{"$f":"IF(ISBLANK('Tenant Information'!E2510),\"\",'Tenant Information'!E2510)","v":""}]
[null,null,null,{"$f":"IF(ISBLANK('Tenant Information'!E2511),\"\",'Tenant Information'!E2511)","v":""}]
[null,null,null,{"$f":"IF(ISBLANK('Tenant Information'!E2512),\"\",'Tenant Information'!E2512)","v":""}]
[null,null,null,{"$f":"IF(ISBLANK('Tenant Information'!E2513),\"\",'Tenant Information'!E2513)","v":""}]
[null,null,null,{"$f":"IF(ISBLANK('Tenant Information'!E2514),\"\",'Tenant Information'!E2514)","v":""}]
[null,null,null,{"$f":"IF(ISBLANK('Tenant Information'!E2515),\"\",'Tenant Information'!E2515)","v":""}]
[null,null,null,{"$f":"IF(ISBLANK('Tenant Information'!E2516),\"\",'Tenant Information'!E2516)","v":""}]
[null,null,null,{"$f":"IF(ISBLANK('Tenant Information'!E2517),\"\",'Tenant Information'!E2517)","v":""}]
[null,null,null,{"$f":"IF(ISBLANK('Tenant Information'!E2518),\"\",'Tenant Information'!E2518)","v":""}]
[null,null,null,{"$f":"IF(ISBLANK('Tenant Information'!E2519),\"\",'Tenant Information'!E2519)","v":""}]
[null,null,null,{"$f":"IF(ISBLANK('Tenant Information'!E2520),\"\",'Tenant Information'!E2520)","v":""}]
[null,null,null,{"$f":"IF(ISBLANK('Tenant Information'!E2521),\"\",'Tenant Information'!E2521)","v":""}]
[null,null,null,{"$f":"IF(ISBLANK('Tenant Information'!E2522),\"\",'Tenant Information'!E2522)","v":""}]
[null,null,null,{"$f":"IF(ISBLANK('Tenant Information'!E2523),\"\",'Tenant Information'!E2523)","v":""}]
[null,null,null,{"$f":"IF(ISBLANK('Tenant Information'!E2524),\"\",'Tenant Information'!E2524)","v":""}]
[null,null,null,{"$f":"IF(ISBLANK('Tenant Information'!E2525),\"\",'Tenant Information'!E2525)","v":""}]
[null,null,null,{"$f":"IF(ISBLANK('Tenant Information'!E2526),\"\",'Tenant Information'!E2526)","v":""}]
[null,null,null,{"$f":"IF(ISBLANK('Tenant Information'!E2527),\"\",'Tenant Information'!E2527)","v":""}]
[null,null,null,{"$f":"IF(ISBLANK('Tenant Information'!E2528),\"\",'Tenant Information'!E2528)","v":""}]
[null,null,null,{"$f":"IF(ISBLANK('Tenant Information'!E2529),\"\",'Tenant Information'!E2529)","v":""}]
[null,null,null,{"$f":"IF(ISBLANK('Tenant Information'!E2530),\"\",'Tenant Information'!E2530)","v":""}]
[null,null,null,{"$f":"IF(ISBLANK('Tenant Information'!E2531),\"\",'Tenant Information'!E2531)","v":""}]
[null,null,null,{"$f":"IF(ISBLANK('Tenant Information'!E2532),\"\",'Tenant Information'!E2532)","v":""}]
[null,null,null,{"$f":"IF(ISBLANK('Tenant Information'!E2533),\"\",'Tenant Information'!E2533)","v":""}]
[null,null,null,{"$f":"IF(ISBLANK('Tenant Information'!E2534),\"\",'Tenant Information'!E2534)","v":""}]
[null,null,null,{"$f":"IF(ISBLANK('Tenant Information'!E2535),\"\",'Tenant Information'!E2535)","v":""}]
[null,null,null,{"$f":"IF(ISBLANK('Tenant Information'!E2536),\"\",'Tenant Information'!E2536)","v":""}]
[null,null,null,{"$f":"IF(ISBLANK('Tenant Information'!E2537),\"\",'Tenant Information'!E2537)","v":""}]
[null,null,null,{"$f":"IF(ISBLANK('Tenant Information'!E2538),\"\",'Tenant Information'!E2538)","v":""}]
[null,null,null,{"$f":"IF(ISBLANK('Tenant Information'!E2539),\"\",'Tenant Information'!E2539)","v":""}]
[null,null,null,{"$f":"IF(ISBLANK('Tenant Information'!E2540),\"\",'Tenant Information'!E2540)","v":""}]
[null,null,null,{"$f":"IF(ISBLANK('Tenant Information'!E2541),\"\",'Tenant Information'!E2541)","v":""}]
[null,null,null,{"$f":"IF(ISBLANK('Tenant Information'!E2542),\"\",'Tenant Information'!E2542)","v":""}]
[null,null,null,{"$f":"IF(ISBLANK('Tenant Information'!E2543),\"\",'Tenant Information'!E2543)","v":""}]
[null,null,null,{"$f":"IF(ISBLANK('Tenant Information'!E2544),\"\",'Tenant Information'!E2544)","v":""}]
[null,null,null,{"$f":"IF(ISBLANK('Tenant Information'!E2545),\"\",'Tenant Information'!E2545)","v":""}]
[null,null,null,{"$f":"IF(ISBLANK('Tenant Information'!E2546),\"\",'Tenant Information'!E2546)","v":""}]
[null,null,null,{"$f":"IF(ISBLANK('Tenant Information'!E2547),\"\",'Tenant Information'!E2547)","v":""}]
[null,null,null,{"$f":"IF(ISBLANK('Tenant Information'!E2548),\"\",'Tenant Information'!E2548)","v":""}]
[null,null,null,{"$f":"IF(ISBLANK('Tenant Information'!E2549),\"\",'Tenant Information'!E2549)","v":""}]
[null,null,null,{"$f":"IF(ISBLANK('Tenant Information'!E2550),\"\",'Tenant Information'!E2550)","v":""}]
[null,null,null,{"$f":"IF(ISBLANK('Tenant Information'!E2551),\"\",'Tenant Information'!E2551)","v":""}]
[null,null,null,{"$f":"IF(ISBLANK('Tenant Information'!E2552),\"\",'Tenant Information'!E2552)","v":""}]
[null,null,null,{"$f":"IF(ISBLANK('Tenant Information'!E2553),\"\",'Tenant Information'!E2553)","v":""}]
[null,null,null,{"$f":"IF(ISBLANK('Tenant Information'!E2554),\"\",'Tenant Information'!E2554)","v":""}]
[null,null,null,{"$f":"IF(ISBLANK('Tenant Information'!E2555),\"\",'Tenant Information'!E2555)","v":""}]
[null,null,null,{"$f":"IF(ISBLANK('Tenant Information'!E2556),\"\",'Tenant Information'!E2556)","v":""}]
[null,null,null,{"$f":"IF(ISBLANK('Tenant Information'!E2557),\"\",'Tenant Information'!E2557)","v":""}]
[null,null,null,{"$f":"IF(ISBLANK('Tenant Information'!E2558),\"\",'Tenant Information'!E2558)","v":""}]
[null,null,null,{"$f":"IF(ISBLANK('Tenant Information'!E2559),\"\",'Tenant Information'!E2559)","v":""}]
[null,null,null,{"$f":"IF(ISBLANK('Tenant Information'!E2560),\"\",'Tenant Information'!E2560)","v":""}]
[null,null,null,{"$f":"IF(ISBLANK('Tenant Information'!E2561),\"\",'Tenant Information'!E2561)","v":""}]
[null,null,null,{"$f":"IF(ISBLANK('Tenant Information'!E2562),\"\",'Tenant Information'!E2562)","v":""}]
[null,null,null,{"$f":"IF(ISBLANK('Tenant Information'!E2563),\"\",'Tenant Information'!E2563)","v":""}]
[null,null,null,{"$f":"IF(ISBLANK('Tenant Information'!E2564),\"\",'Tenant Information'!E2564)","v":""}]
[null,null,null,{"$f":"IF(ISBLANK('Tenant Information'!E2565),\"\",'Tenant Information'!E2565)","v":""}]
[null,null,null,{"$f":"IF(ISBLANK('Tenant Information'!E2566),\"\",'Tenant Information'!E2566)","v":""}]
[null,null,null,{"$f":"IF(ISBLANK('Tenant Information'!E2567),\"\",'Tenant Information'!E2567)","v":""}]
[null,null,null,{"$f":"IF(ISBLANK('Tenant Information'!E2568),\"\",'Tenant Information'!E2568)","v":""}]
[null,null,null,{"$f":"IF(ISBLANK('Tenant Information'!E2569),\"\",'Tenant Information'!E2569)","v":""}]
[null,null,null,{"$f":"IF(ISBLANK('Tenant Information'!E2570),\"\",'Tenant Information'!E2570)","v":""}]
[null,null,null,{"$f":"IF(ISBLANK('Tenant Information'!E2571),\"\",'Tenant Information'!E2571)","v":""}]
[null,null,null,{"$f":"IF(ISBLANK('Tenant Information'!E2572),\"\",'Tenant Information'!E2572)","v":""}]
[null,null,null,{"$f":"IF(ISBLANK('Tenant Information'!E2573),\"\",'Tenant Information'!E2573)","v":""}]
[null,null,null,{"$f":"IF(ISBLANK('Tenant Information'!E2574),\"\",'Tenant Information'!E2574)","v":""}]
[null,null,null,{"$f":"IF(ISBLANK('Tenant Information'!E2575),\"\",'Tenant Information'!E2575)","v":""}]
[null,null,null,{"$f":"IF(ISBLANK('Tenant Information'!E2576),\"\",'Tenant Information'!E2576)","v":""}]
[null,null,null,{"$f":"IF(ISBLANK('Tenant Information'!E2577),\"\",'Tenant Information'!E2577)","v":""}]
[null,null,null,{"$f":"IF(ISBLANK('Tenant Information'!E2578),\"\",'Tenant Information'!E2578)","v":""}]
[null,null,null,{"$f":"IF(ISBLANK('Tenant Information'!E2579),\"\",'Tenant Information'!E2579)","v":""}]
[null,null,null,{"$f":"IF(ISBLANK('Tenant Information'!E2580),\"\",'Tenant Information'!E2580)","v":""}]
[null,null,null,{"$f":"IF(ISBLANK('Tenant Information'!E2581),\"\",'Tenant Information'!E2581)","v":""}]
[null,null,null,{"$f":"IF(ISBLANK('Tenant Information'!E2582),\"\",'Tenant Information'!E2582)","v":""}]
[null,null,null,{"$f":"IF(ISBLANK('Tenant Information'!E2583),\"\",'Tenant Information'!E2583)","v":""}]
[null,null,null,{"$f":"IF(ISBLANK('Tenant Information'!E2584),\"\",'Tenant Information'!E2584)","v":""}]
[null,null,null,{"$f":"IF(ISBLANK('Tenant Information'!E2585),\"\",'Tenant Information'!E2585)","v":""}]
[null,null,null,{"$f":"IF(ISBLANK('Tenant Information'!E2586),\"\",'Tenant Information'!E2586)","v":""}]
[null,null,null,{"$f":"IF(ISBLANK('Tenant Information'!E2587),\"\",'Tenant Information'!E2587)","v":""}]
[null,null,null,{"$f":"IF(ISBLANK('Tenant Information'!E2588),\"\",'Tenant Information'!E2588)","v":""}]
[null,null,null,{"$f":"IF(ISBLANK('Tenant Information'!E2589),\"\",'Tenant Information'!E2589)","v":""}]
[null,null,null,{"$f":"IF(ISBLANK('Tenant Information'!E2590),\"\",'Tenant Information'!E2590)","v":""}]
[null,null,null,{"$f":"IF(ISBLANK('Tenant Information'!E2591),\"\",'Tenant Information'!E2591)","v":""}]
[null,null,null,{"$f":"IF(ISBLANK('Tenant Information'!E2592),\"\",'Tenant Information'!E2592)","v":""}]
[null,null,null,{"$f":"IF(ISBLANK('Tenant Information'!E2593),\"\",'Tenant Information'!E2593)","v":""}]
[null,null,null,{"$f":"IF(ISBLANK('Tenant Information'!E2594),\"\",'Tenant Information'!E2594)","v":""}]
[null,null,null,{"$f":"IF(ISBLANK('Tenant Information'!E2595),\"\",'Tenant Information'!E2595)","v":""}]
[null,null,null,{"$f":"IF(ISBLANK('Tenant Information'!E2596),\"\",'Tenant Information'!E2596)","v":""}]
[null,null,null,{"$f":"IF(ISBLANK('Tenant Information'!E2597),\"\",'Tenant Information'!E2597)","v":""}]
[null,null,null,{"$f":"IF(ISBLANK('Tenant Information'!E2598),\"\",'Tenant Information'!E2598)","v":""}]
[null,null,null,{"$f":"IF(ISBLANK('Tenant Information'!E2599),\"\",'Tenant Information'!E2599)","v":""}]
[null,null,null,{"$f":"IF(ISBLANK('Tenant Information'!E2600),\"\",'Tenant Information'!E2600)","v":""}]
[null,null,null,{"$f":"IF(ISBLANK('Tenant Information'!E2601),\"\",'Tenant Information'!E2601)","v":""}]
[null,null,null,{"$f":"IF(ISBLANK('Tenant Information'!E2602),\"\",'Tenant Information'!E2602)","v":""}]
[null,null,null,{"$f":"IF(ISBLANK('Tenant Information'!E2603),\"\",'Tenant Information'!E2603)","v":""}]
[null,null,null,{"$f":"IF(ISBLANK('Tenant Information'!E2604),\"\",'Tenant Information'!E2604)","v":""}]
[null,null,null,{"$f":"IF(ISBLANK('Tenant Information'!E2605),\"\",'Tenant Information'!E2605)","v":""}]
[null,null,null,{"$f":"IF(ISBLANK('Tenant Information'!E2606),\"\",'Tenant Information'!E2606)","v":""}]
[null,null,null,{"$f":"IF(ISBLANK('Tenant Information'!E2607),\"\",'Tenant Information'!E2607)","v":""}]
[null,null,null,{"$f":"IF(ISBLANK('Tenant Information'!E2608),\"\",'Tenant Information'!E2608)","v":""}]
[null,null,null,{"$f":"IF(ISBLANK('Tenant Information'!E2609),\"\",'Tenant Information'!E2609)","v":""}]
[null,null,null,{"$f":"IF(ISBLANK('Tenant Information'!E2610),\"\",'Tenant Information'!E2610)","v":""}]
[null,null,null,{"$f":"IF(ISBLANK('Tenant Information'!E2611),\"\",'Tenant Information'!E2611)","v":""}]
[null,null,null,{"$f":"IF(ISBLANK('Tenant Information'!E2612),\"\",'Tenant Information'!E2612)","v":""}]
[null,null,null,{"$f":"IF(ISBLANK('Tenant Information'!E2613),\"\",'Tenant Information'!E2613)","v":""}]
[null,null,null,{"$f":"IF(ISBLANK('Tenant Information'!E2614),\"\",'Tenant Information'!E2614)","v":""}]
[null,null,null,{"$f":"IF(ISBLANK('Tenant Information'!E2615),\"\",'Tenant Information'!E2615)","v":""}]
[null,null,null,{"$f":"IF(ISBLANK('Tenant Information'!E2616),\"\",'Tenant Information'!E2616)","v":""}]
[null,null,null,{"$f":"IF(ISBLANK('Tenant Information'!E2617),\"\",'Tenant Information'!E2617)","v":""}]
[null,null,null,{"$f":"IF(ISBLANK('Tenant Information'!E2618),\"\",'Tenant Information'!E2618)","v":""}]
[null,null,null,{"$f":"IF(ISBLANK('Tenant Information'!E2619),\"\",'Tenant Information'!E2619)","v":""}]
[null,null,null,{"$f":"IF(ISBLANK('Tenant Information'!E2620),\"\",'Tenant Information'!E2620)","v":""}]
[null,null,null,{"$f":"IF(ISBLANK('Tenant Information'!E2621),\"\",'Tenant Information'!E2621)","v":""}]
[null,null,null,{"$f":"IF(ISBLANK('Tenant Information'!E2622),\"\",'Tenant Information'!E2622)","v":""}]
[null,null,null,{"$f":"IF(ISBLANK('Tenant Information'!E2623),\"\",'Tenant Information'!E2623)","v":""}]
[null,null,null,{"$f":"IF(ISBLANK('Tenant Information'!E2624),\"\",'Tenant Information'!E2624)","v":""}]
[null,null,null,{"$f":"IF(ISBLANK('Tenant Information'!E2625),\"\",'Tenant Information'!E2625)","v":""}]
[null,null,null,{"$f":"IF(ISBLANK('Tenant Information'!E2626),\"\",'Tenant Information'!E2626)","v":""}]
[null,null,null,{"$f":"IF(ISBLANK('Tenant Information'!E2627),\"\",'Tenant Information'!E2627)","v":""}]
[null,null,null,{"$f":"IF(ISBLANK('Tenant Information'!E2628),\"\",'Tenant Information'!E2628)","v":""}]
[null,null,null,{"$f":"IF(ISBLANK('Tenant Information'!E2629),\"\",'Tenant Information'!E2629)","v":""}]
[null,null,null,{"$f":"IF(ISBLANK('Tenant Information'!E2630),\"\",'Tenant Information'!E2630)","v":""}]
[null,null,null,{"$f":"IF(ISBLANK('Tenant Information'!E2631),\"\",'Tenant Information'!E2631)","v":""}]
[null,null,null,{"$f":"IF(ISBLANK('Tenant Information'!E2632),\"\",'Tenant Information'!E2632)","v":""}]
[null,null,null,{"$f":"IF(ISBLANK('Tenant Information'!E2633),\"\",'Tenant Information'!E2633)","v":""}]
[null,null,null,{"$f":"IF(ISBLANK('Tenant Information'!E2634),\"\",'Tenant Information'!E2634)","v":""}]
[null,null,null,{"$f":"IF(ISBLANK('Tenant Information'!E2635),\"\",'Tenant Information'!E2635)","v":""}]
[null,null,null,{"$f":"IF(ISBLANK('Tenant Information'!E2636),\"\",'Tenant Information'!E2636)","v":""}]
[null,null,null,{"$f":"IF(ISBLANK('Tenant Information'!E2637),\"\",'Tenant Information'!E2637)","v":""}]
[null,null,null,{"$f":"IF(ISBLANK('Tenant Information'!E2638),\"\",'Tenant Information'!E2638)","v":""}]
[null,null,null,{"$f":"IF(ISBLANK('Tenant Information'!E2639),\"\",'Tenant Information'!E2639)","v":""}]
[null,null,null,{"$f":"IF(ISBLANK('Tenant Information'!E2640),\"\",'Tenant Information'!E2640)","v":""}]
[null,null,null,{"$f":"IF(ISBLANK('Tenant Information'!E2641),\"\",'Tenant Information'!E2641)","v":""}]
[null,null,null,{"$f":"IF(ISBLANK('Tenant Information'!E2642),\"\",'Tenant Information'!E2642)","v":""}]
[null,null,null,{"$f":"IF(ISBLANK('Tenant Information'!E2643),\"\",'Tenant Information'!E2643)","v":""}]
[null,null,null,{"$f":"IF(ISBLANK('Tenant Information'!E2644),\"\",'Tenant Information'!E2644)","v":""}]
[null,null,null,{"$f":"IF(ISBLANK('Tenant Information'!E2645),\"\",'Tenant Information'!E2645)","v":""}]
[null,null,null,{"$f":"IF(ISBLANK('Tenant Information'!E2646),\"\",'Tenant Information'!E2646)","v":""}]
[null,null,null,{"$f":"IF(ISBLANK('Tenant Information'!E2647),\"\",'Tenant Information'!E2647)","v":""}]
[null,null,null,{"$f":"IF(ISBLANK('Tenant Information'!E2648),\"\",'Tenant Information'!E2648)","v":""}]
[null,null,null,{"$f":"IF(ISBLANK('Tenant Information'!E2649),\"\",'Tenant Information'!E2649)","v":""}]
[null,null,null,{"$f":"IF(ISBLANK('Tenant Information'!E2650),\"\",'Tenant Information'!E2650)","v":""}]
[null,null,null,{"$f":"IF(ISBLANK('Tenant Information'!E2651),\"\",'Tenant Information'!E2651)","v":""}]
[null,null,null,{"$f":"IF(ISBLANK('Tenant Information'!E2652),\"\",'Tenant Information'!E2652)","v":""}]
[null,null,null,{"$f":"IF(ISBLANK('Tenant Information'!E2653),\"\",'Tenant Information'!E2653)","v":""}]
[null,null,null,{"$f":"IF(ISBLANK('Tenant Information'!E2654),\"\",'Tenant Information'!E2654)","v":""}]
[null,null,null,{"$f":"IF(ISBLANK('Tenant Information'!E2655),\"\",'Tenant Information'!E2655)","v":""}]
[null,null,null,{"$f":"IF(ISBLANK('Tenant Information'!E2656),\"\",'Tenant Information'!E2656)","v":""}]
[null,null,null,{"$f":"IF(ISBLANK('Tenant Information'!E2657),\"\",'Tenant Information'!E2657)","v":""}]
[null,null,null,{"$f":"IF(ISBLANK('Tenant Information'!E2658),\"\",'Tenant Information'!E2658)","v":""}]
[null,null,null,{"$f":"IF(ISBLANK('Tenant Information'!E2659),\"\",'Tenant Information'!E2659)","v":""}]
[null,null,null,{"$f":"IF(ISBLANK('Tenant Information'!E2660),\"\",'Tenant Information'!E2660)","v":""}]
[null,null,null,{"$f":"IF(ISBLANK('Tenant Information'!E2661),\"\",'Tenant Information'!E2661)","v":""}]
[null,null,null,{"$f":"IF(ISBLANK('Tenant Information'!E2662),\"\",'Tenant Information'!E2662)","v":""}]
[null,null,null,{"$f":"IF(ISBLANK('Tenant Information'!E2663),\"\",'Tenant Information'!E2663)","v":""}]
[null,null,null,{"$f":"IF(ISBLANK('Tenant Information'!E2664),\"\",'Tenant Information'!E2664)","v":""}]
[null,null,null,{"$f":"IF(ISBLANK('Tenant Information'!E2665),\"\",'Tenant Information'!E2665)","v":""}]
[null,null,null,{"$f":"IF(ISBLANK('Tenant Information'!E2666),\"\",'Tenant Information'!E2666)","v":""}]
[null,null,null,{"$f":"IF(ISBLANK('Tenant Information'!E2667),\"\",'Tenant Information'!E2667)","v":""}]
[null,null,null,{"$f":"IF(ISBLANK('Tenant Information'!E2668),\"\",'Tenant Information'!E2668)","v":""}]
[null,null,null,{"$f":"IF(ISBLANK('Tenant Information'!E2669),\"\",'Tenant Information'!E2669)","v":""}]
[null,null,null,{"$f":"IF(ISBLANK('Tenant Information'!E2670),\"\",'Tenant Information'!E2670)","v":""}]
[null,null,null,{"$f":"IF(ISBLANK('Tenant Information'!E2671),\"\",'Tenant Information'!E2671)","v":""}]
[null,null,null,{"$f":"IF(ISBLANK('Tenant Information'!E2672),\"\",'Tenant Information'!E2672)","v":""}]
[null,null,null,{"$f":"IF(ISBLANK('Tenant Information'!E2673),\"\",'Tenant Information'!E2673)","v":""}]
[null,null,null,{"$f":"IF(ISBLANK('Tenant Information'!E2674),\"\",'Tenant Information'!E2674)","v":""}]
[null,null,null,{"$f":"IF(ISBLANK('Tenant Information'!E2675),\"\",'Tenant Information'!E2675)","v":""}]
[null,null,null,{"$f":"IF(ISBLANK('Tenant Information'!E2676),\"\",'Tenant Information'!E2676)","v":""}]
[null,null,null,{"$f":"IF(ISBLANK('Tenant Information'!E2677),\"\",'Tenant Information'!E2677)","v":""}]
[null,null,null,{"$f":"IF(ISBLANK('Tenant Information'!E2678),\"\",'Tenant Information'!E2678)","v":""}]
[null,null,null,{"$f":"IF(ISBLANK('Tenant Information'!E2679),\"\",'Tenant Information'!E2679)","v":""}]
[null,null,null,{"$f":"IF(ISBLANK('Tenant Information'!E2680),\"\",'Tenant Information'!E2680)","v":""}]
[null,null,null,{"$f":"IF(ISBLANK('Tenant Information'!E2681),\"\",'Tenant Information'!E2681)","v":""}]
[null,null,null,{"$f":"IF(ISBLANK('Tenant Information'!E2682),\"\",'Tenant Information'!E2682)","v":""}]
[null,null,null,{"$f":"IF(ISBLANK('Tenant Information'!E2683),\"\",'Tenant Information'!E2683)","v":""}]
[null,null,null,{"$f":"IF(ISBLANK('Tenant Information'!E2684),\"\",'Tenant Information'!E2684)","v":""}]
[null,null,null,{"$f":"IF(ISBLANK('Tenant Information'!E2685),\"\",'Tenant Information'!E2685)","v":""}]
[null,null,null,{"$f":"IF(ISBLANK('Tenant Information'!E2686),\"\",'Tenant Information'!E2686)","v":""}]
[null,null,null,{"$f":"IF(ISBLANK('Tenant Information'!E2687),\"\",'Tenant Information'!E2687)","v":""}]
[null,null,null,{"$f":"IF(ISBLANK('Tenant Information'!E2688),\"\",'Tenant Information'!E2688)","v":""}]
[null,null,null,{"$f":"IF(ISBLANK('Tenant Information'!E2689),\"\",'Tenant Information'!E2689)","v":""}]
[null,null,null,{"$f":"IF(ISBLANK('Tenant Information'!E2690),\"\",'Tenant Information'!E2690)","v":""}]
[null,null,null,{"$f":"IF(ISBLANK('Tenant Information'!E2691),\"\",'Tenant Information'!E2691)","v":""}]
[null,null,null,{"$f":"IF(ISBLANK('Tenant Information'!E2692),\"\",'Tenant Information'!E2692)","v":""}]
[null,null,null,{"$f":"IF(ISBLANK('Tenant Information'!E2693),\"\",'Tenant Information'!E2693)","v":""}]
[null,null,null,{"$f":"IF(ISBLANK('Tenant Information'!E2694),\"\",'Tenant Information'!E2694)","v":""}]
[null,null,null,{"$f":"IF(ISBLANK('Tenant Information'!E2695),\"\",'Tenant Information'!E2695)","v":""}]
[null,null,null,{"$f":"IF(ISBLANK('Tenant Information'!E2696),\"\",'Tenant Information'!E2696)","v":""}]
[null,null,null,{"$f":"IF(ISBLANK('Tenant Information'!E2697),\"\",'Tenant Information'!E2697)","v":""}]
[null,null,null,{"$f":"IF(ISBLANK('Tenant Information'!E2698),\"\",'Tenant Information'!E2698)","v":""}]
[null,null,null,{"$f":"IF(ISBLANK('Tenant Information'!E2699),\"\",'Tenant Information'!E2699)","v":""}]
[null,null,null,{"$f":"IF(ISBLANK('Tenant Information'!E2700),\"\",'Tenant Information'!E2700)","v":""}]
[null,null,null,{"$f":"IF(ISBLANK('Tenant Information'!E2701),\"\",'Tenant Information'!E2701)","v":""}]
[null,null,null,{"$f":"IF(ISBLANK('Tenant Information'!E2702),\"\",'Tenant Information'!E2702)","v":""}]
[null,null,null,{"$f":"IF(ISBLANK('Tenant Information'!E2703),\"\",'Tenant Information'!E2703)","v":""}]
[null,null,null,{"$f":"IF(ISBLANK('Tenant Information'!E2704),\"\",'Tenant Information'!E2704)","v":""}]
[null,null,null,{"$f":"IF(ISBLANK('Tenant Information'!E2705),\"\",'Tenant Information'!E2705)","v":""}]
[null,null,null,{"$f":"IF(ISBLANK('Tenant Information'!E2706),\"\",'Tenant Information'!E2706)","v":""}]
[null,null,null,{"$f":"IF(ISBLANK('Tenant Information'!E2707),\"\",'Tenant Information'!E2707)","v":""}]
[null,null,null,{"$f":"IF(ISBLANK('Tenant Information'!E2708),\"\",'Tenant Information'!E2708)","v":""}]
[null,null,null,{"$f":"IF(ISBLANK('Tenant Information'!E2709),\"\",'Tenant Information'!E2709)","v":""}]
[null,null,null,{"$f":"IF(ISBLANK('Tenant Information'!E2710),\"\",'Tenant Information'!E2710)","v":""}]
[null,null,null,{"$f":"IF(ISBLANK('Tenant Information'!E2711),\"\",'Tenant Information'!E2711)","v":""}]
[null,null,null,{"$f":"IF(ISBLANK('Tenant Information'!E2712),\"\",'Tenant Information'!E2712)","v":""}]
[null,null,null,{"$f":"IF(ISBLANK('Tenant Information'!E2713),\"\",'Tenant Information'!E2713)","v":""}]
[null,null,null,{"$f":"IF(ISBLANK('Tenant Information'!E2714),\"\",'Tenant Information'!E2714)","v":""}]
[null,null,null,{"$f":"IF(ISBLANK('Tenant Information'!E2715),\"\",'Tenant Information'!E2715)","v":""}]
[null,null,null,{"$f":"IF(ISBLANK('Tenant Information'!E2716),\"\",'Tenant Information'!E2716)","v":""}]
[null,null,null,{"$f":"IF(ISBLANK('Tenant Information'!E2717),\"\",'Tenant Information'!E2717)","v":""}]
[null,null,null,{"$f":"IF(ISBLANK('Tenant Information'!E2718),\"\",'Tenant Information'!E2718)","v":""}]
[null,null,null,{"$f":"IF(ISBLANK('Tenant Information'!E2719),\"\",'Tenant Information'!E2719)","v":""}]
[null,null,null,{"$f":"IF(ISBLANK('Tenant Information'!E2720),\"\",'Tenant Information'!E2720)","v":""}]
[null,null,null,{"$f":"IF(ISBLANK('Tenant Information'!E2721),\"\",'Tenant Information'!E2721)","v":""}]
[null,null,null,{"$f":"IF(ISBLANK('Tenant Information'!E2722),\"\",'Tenant Information'!E2722)","v":""}]
[null,null,null,{"$f":"IF(ISBLANK('Tenant Information'!E2723),\"\",'Tenant Information'!E2723)","v":""}]
[null,null,null,{"$f":"IF(ISBLANK('Tenant Information'!E2724),\"\",'Tenant Information'!E2724)","v":""}]
[null,null,null,{"$f":"IF(ISBLANK('Tenant Information'!E2725),\"\",'Tenant Information'!E2725)","v":""}]
[null,null,null,{"$f":"IF(ISBLANK('Tenant Information'!E2726),\"\",'Tenant Information'!E2726)","v":""}]
[null,null,null,{"$f":"IF(ISBLANK('Tenant Information'!E2727),\"\",'Tenant Information'!E2727)","v":""}]
[null,null,null,{"$f":"IF(ISBLANK('Tenant Information'!E2728),\"\",'Tenant Information'!E2728)","v":""}]
[null,null,null,{"$f":"IF(ISBLANK('Tenant Information'!E2729),\"\",'Tenant Information'!E2729)","v":""}]
[null,null,null,{"$f":"IF(ISBLANK('Tenant Information'!E2730),\"\",'Tenant Information'!E2730)","v":""}]
[null,null,null,{"$f":"IF(ISBLANK('Tenant Information'!E2731),\"\",'Tenant Information'!E2731)","v":""}]
[null,null,null,{"$f":"IF(ISBLANK('Tenant Information'!E2732),\"\",'Tenant Information'!E2732)","v":""}]
[null,null,null,{"$f":"IF(ISBLANK('Tenant Information'!E2733),\"\",'Tenant Information'!E2733)","v":""}]
[null,null,null,{"$f":"IF(ISBLANK('Tenant Information'!E2734),\"\",'Tenant Information'!E2734)","v":""}]
[null,null,null,{"$f":"IF(ISBLANK('Tenant Information'!E2735),\"\",'Tenant Information'!E2735)","v":""}]
[null,null,null,{"$f":"IF(ISBLANK('Tenant Information'!E2736),\"\",'Tenant Information'!E2736)","v":""}]
[null,null,null,{"$f":"IF(ISBLANK('Tenant Information'!E2737),\"\",'Tenant Information'!E2737)","v":""}]
[null,null,null,{"$f":"IF(ISBLANK('Tenant Information'!E2738),\"\",'Tenant Information'!E2738)","v":""}]
[null,null,null,{"$f":"IF(ISBLANK('Tenant Information'!E2739),\"\",'Tenant Information'!E2739)","v":""}]
[null,null,null,{"$f":"IF(ISBLANK('Tenant Information'!E2740),\"\",'Tenant Information'!E2740)","v":""}]
[null,null,null,{"$f":"IF(ISBLANK('Tenant Information'!E2741),\"\",'Tenant Information'!E2741)","v":""}]
[null,null,null,{"$f":"IF(ISBLANK('Tenant Information'!E2742),\"\",'Tenant Information'!E2742)","v":""}]
[null,null,null,{"$f":"IF(ISBLANK('Tenant Information'!E2743),\"\",'Tenant Information'!E2743)","v":""}]
[null,null,null,{"$f":"IF(ISBLANK('Tenant Information'!E2744),\"\",'Tenant Information'!E2744)","v":""}]
[null,null,null,{"$f":"IF(ISBLANK('Tenant Information'!E2745),\"\",'Tenant Information'!E2745)","v":""}]
[null,null,null,{"$f":"IF(ISBLANK('Tenant Information'!E2746),\"\",'Tenant Information'!E2746)","v":""}]
[null,null,null,{"$f":"IF(ISBLANK('Tenant Information'!E2747),\"\",'Tenant Information'!E2747)","v":""}]
[null,null,null,{"$f":"IF(ISBLANK('Tenant Information'!E2748),\"\",'Tenant Information'!E2748)","v":""}]
[null,null,null,{"$f":"IF(ISBLANK('Tenant Information'!E2749),\"\",'Tenant Information'!E2749)","v":""}]
[null,null,null,{"$f":"IF(ISBLANK('Tenant Information'!E2750),\"\",'Tenant Information'!E2750)","v":""}]
[null,null,null,{"$f":"IF(ISBLANK('Tenant Information'!E2751),\"\",'Tenant Information'!E2751)","v":""}]
[null,null,null,{"$f":"IF(ISBLANK('Tenant Information'!E2752),\"\",'Tenant Information'!E2752)","v":""}]
[null,null,null,{"$f":"IF(ISBLANK('Tenant Information'!E2753),\"\",'Tenant Information'!E2753)","v":""}]
[null,null,null,{"$f":"IF(ISBLANK('Tenant Information'!E2754),\"\",'Tenant Information'!E2754)","v":""}]
[null,null,null,{"$f":"IF(ISBLANK('Tenant Information'!E2755),\"\",'Tenant Information'!E2755)","v":""}]
[null,null,null,{"$f":"IF(ISBLANK('Tenant Information'!E2756),\"\",'Tenant Information'!E2756)","v":""}]
[null,null,null,{"$f":"IF(ISBLANK('Tenant Information'!E2757),\"\",'Tenant Information'!E2757)","v":""}]
[null,null,null,{"$f":"IF(ISBLANK('Tenant Information'!E2758),\"\",'Tenant Information'!E2758)","v":""}]
[null,null,null,{"$f":"IF(ISBLANK('Tenant Information'!E2759),\"\",'Tenant Information'!E2759)","v":""}]
[null,null,null,{"$f":"IF(ISBLANK('Tenant Information'!E2760),\"\",'Tenant Information'!E2760)","v":""}]
[null,null,null,{"$f":"IF(ISBLANK('Tenant Information'!E2761),\"\",'Tenant Information'!E2761)","v":""}]
[null,null,null,{"$f":"IF(ISBLANK('Tenant Information'!E2762),\"\",'Tenant Information'!E2762)","v":""}]
[null,null,null,{"$f":"IF(ISBLANK('Tenant Information'!E2763),\"\",'Tenant Information'!E2763)","v":""}]
[null,null,null,{"$f":"IF(ISBLANK('Tenant Information'!E2764),\"\",'Tenant Information'!E2764)","v":""}]
[null,null,null,{"$f":"IF(ISBLANK('Tenant Information'!E2765),\"\",'Tenant Information'!E2765)","v":""}]
[null,null,null,{"$f":"IF(ISBLANK('Tenant Information'!E2766),\"\",'Tenant Information'!E2766)","v":""}]
[null,null,null,{"$f":"IF(ISBLANK('Tenant Information'!E2767),\"\",'Tenant Information'!E2767)","v":""}]
[null,null,null,{"$f":"IF(ISBLANK('Tenant Information'!E2768),\"\",'Tenant Information'!E2768)","v":""}]
[null,null,null,{"$f":"IF(ISBLANK('Tenant Information'!E2769),\"\",'Tenant Information'!E2769)","v":""}]
[null,null,null,{"$f":"IF(ISBLANK('Tenant Information'!E2770),\"\",'Tenant Information'!E2770)","v":""}]
[null,null,null,{"$f":"IF(ISBLANK('Tenant Information'!E2771),\"\",'Tenant Information'!E2771)","v":""}]
[null,null,null,{"$f":"IF(ISBLANK('Tenant Information'!E2772),\"\",'Tenant Information'!E2772)","v":""}]
[null,null,null,{"$f":"IF(ISBLANK('Tenant Information'!E2773),\"\",'Tenant Information'!E2773)","v":""}]
[null,null,null,{"$f":"IF(ISBLANK('Tenant Information'!E2774),\"\",'Tenant Information'!E2774)","v":""}]
[null,null,null,{"$f":"IF(ISBLANK('Tenant Information'!E2775),\"\",'Tenant Information'!E2775)","v":""}]
[null,null,null,{"$f":"IF(ISBLANK('Tenant Information'!E2776),\"\",'Tenant Information'!E2776)","v":""}]
[null,null,null,{"$f":"IF(ISBLANK('Tenant Information'!E2777),\"\",'Tenant Information'!E2777)","v":""}]
[null,null,null,{"$f":"IF(ISBLANK('Tenant Information'!E2778),\"\",'Tenant Information'!E2778)","v":""}]
[null,null,null,{"$f":"IF(ISBLANK('Tenant Information'!E2779),\"\",'Tenant Information'!E2779)","v":""}]
[null,null,null,{"$f":"IF(ISBLANK('Tenant Information'!E2780),\"\",'Tenant Information'!E2780)","v":""}]
[null,null,null,{"$f":"IF(ISBLANK('Tenant Information'!E2781),\"\",'Tenant Information'!E2781)","v":""}]
[null,null,null,{"$f":"IF(ISBLANK('Tenant Information'!E2782),\"\",'Tenant Information'!E2782)","v":""}]
[null,null,null,{"$f":"IF(ISBLANK('Tenant Information'!E2783),\"\",'Tenant Information'!E2783)","v":""}]
[null,null,null,{"$f":"IF(ISBLANK('Tenant Information'!E2784),\"\",'Tenant Information'!E2784)","v":""}]
[null,null,null,{"$f":"IF(ISBLANK('Tenant Information'!E2785),\"\",'Tenant Information'!E2785)","v":""}]
[null,null,null,{"$f":"IF(ISBLANK('Tenant Information'!E2786),\"\",'Tenant Information'!E2786)","v":""}]
[null,null,null,{"$f":"IF(ISBLANK('Tenant Information'!E2787),\"\",'Tenant Information'!E2787)","v":""}]
[null,null,null,{"$f":"IF(ISBLANK('Tenant Information'!E2788),\"\",'Tenant Information'!E2788)","v":""}]
[null,null,null,{"$f":"IF(ISBLANK('Tenant Information'!E2789),\"\",'Tenant Information'!E2789)","v":""}]
[null,null,null,{"$f":"IF(ISBLANK('Tenant Information'!E2790),\"\",'Tenant Information'!E2790)","v":""}]
[null,null,null,{"$f":"IF(ISBLANK('Tenant Information'!E2791),\"\",'Tenant Information'!E2791)","v":""}]
[null,null,null,{"$f":"IF(ISBLANK('Tenant Information'!E2792),\"\",'Tenant Information'!E2792)","v":""}]
[null,null,null,{"$f":"IF(ISBLANK('Tenant Information'!E2793),\"\",'Tenant Information'!E2793)","v":""}]
[null,null,null,{"$f":"IF(ISBLANK('Tenant Information'!E2794),\"\",'Tenant Information'!E2794)","v":""}]
[null,null,null,{"$f":"IF(ISBLANK('Tenant Information'!E2795),\"\",'Tenant Information'!E2795)","v":""}]
[null,null,null,{"$f":"IF(ISBLANK('Tenant Information'!E2796),\"\",'Tenant Information'!E2796)","v":""}]
[null,null,null,{"$f":"IF(ISBLANK('Tenant Information'!E2797),\"\",'Tenant Information'!E2797)","v":""}]
[null,null,null,{"$f":"IF(ISBLANK('Tenant Information'!E2798),\"\",'Tenant Information'!E2798)","v":""}]
[null,null,null,{"$f":"IF(ISBLANK('Tenant Information'!E2799),\"\",'Tenant Information'!E2799)","v":""}]
[null,null,null,{"$f":"IF(ISBLANK('Tenant Information'!E2800),\"\",'Tenant Information'!E2800)","v":""}]
[null,null,null,{"$f":"IF(ISBLANK('Tenant Information'!E2801),\"\",'Tenant Information'!E2801)","v":""}]
[null,null,null,{"$f":"IF(ISBLANK('Tenant Information'!E2802),\"\",'Tenant Information'!E2802)","v":""}]
[null,null,null,{"$f":"IF(ISBLANK('Tenant Information'!E2803),\"\",'Tenant Information'!E2803)","v":""}]
[null,null,null,{"$f":"IF(ISBLANK('Tenant Information'!E2804),\"\",'Tenant Information'!E2804)","v":""}]
[null,null,null,{"$f":"IF(ISBLANK('Tenant Information'!E2805),\"\",'Tenant Information'!E2805)","v":""}]
[null,null,null,{"$f":"IF(ISBLANK('Tenant Information'!E2806),\"\",'Tenant Information'!E2806)","v":""}]
[null,null,null,{"$f":"IF(ISBLANK('Tenant Information'!E2807),\"\",'Tenant Information'!E2807)","v":""}]
[null,null,null,{"$f":"IF(ISBLANK('Tenant Information'!E2808),\"\",'Tenant Information'!E2808)","v":""}]
[null,null,null,{"$f":"IF(ISBLANK('Tenant Information'!E2809),\"\",'Tenant Information'!E2809)","v":""}]
[null,null,null,{"$f":"IF(ISBLANK('Tenant Information'!E2810),\"\",'Tenant Information'!E2810)","v":""}]
[null,null,null,{"$f":"IF(ISBLANK('Tenant Information'!E2811),\"\",'Tenant Information'!E2811)","v":""}]
[null,null,null,{"$f":"IF(ISBLANK('Tenant Information'!E2812),\"\",'Tenant Information'!E2812)","v":""}]
[null,null,null,{"$f":"IF(ISBLANK('Tenant Information'!E2813),\"\",'Tenant Information'!E2813)","v":""}]
[null,null,null,{"$f":"IF(ISBLANK('Tenant Information'!E2814),\"\",'Tenant Information'!E2814)","v":""}]
[null,null,null,{"$f":"IF(ISBLANK('Tenant Information'!E2815),\"\",'Tenant Information'!E2815)","v":""}]
[null,null,null,{"$f":"IF(ISBLANK('Tenant Information'!E2816),\"\",'Tenant Information'!E2816)","v":""}]
[null,null,null,{"$f":"IF(ISBLANK('Tenant Information'!E2817),\"\",'Tenant Information'!E2817)","v":""}]
[null,null,null,{"$f":"IF(ISBLANK('Tenant Information'!E2818),\"\",'Tenant Information'!E2818)","v":""}]
[null,null,null,{"$f":"IF(ISBLANK('Tenant Information'!E2819),\"\",'Tenant Information'!E2819)","v":""}]
[null,null,null,{"$f":"IF(ISBLANK('Tenant Information'!E2820),\"\",'Tenant Information'!E2820)","v":""}]
[null,null,null,{"$f":"IF(ISBLANK('Tenant Information'!E2821),\"\",'Tenant Information'!E2821)","v":""}]
[null,null,null,{"$f":"IF(ISBLANK('Tenant Information'!E2822),\"\",'Tenant Information'!E2822)","v":""}]
[null,null,null,{"$f":"IF(ISBLANK('Tenant Information'!E2823),\"\",'Tenant Information'!E2823)","v":""}]
[null,null,null,{"$f":"IF(ISBLANK('Tenant Information'!E2824),\"\",'Tenant Information'!E2824)","v":""}]
[null,null,null,{"$f":"IF(ISBLANK('Tenant Information'!E2825),\"\",'Tenant Information'!E2825)","v":""}]
[null,null,null,{"$f":"IF(ISBLANK('Tenant Information'!E2826),\"\",'Tenant Information'!E2826)","v":""}]
[null,null,null,{"$f":"IF(ISBLANK('Tenant Information'!E2827),\"\",'Tenant Information'!E2827)","v":""}]
[null,null,null,{"$f":"IF(ISBLANK('Tenant Information'!E2828),\"\",'Tenant Information'!E2828)","v":""}]
[null,null,null,{"$f":"IF(ISBLANK('Tenant Information'!E2829),\"\",'Tenant Information'!E2829)","v":""}]
[null,null,null,{"$f":"IF(ISBLANK('Tenant Information'!E2830),\"\",'Tenant Information'!E2830)","v":""}]
[null,null,null,{"$f":"IF(ISBLANK('Tenant Information'!E2831),\"\",'Tenant Information'!E2831)","v":""}]
[null,null,null,{"$f":"IF(ISBLANK('Tenant Information'!E2832),\"\",'Tenant Information'!E2832)","v":""}]
[null,null,null,{"$f":"IF(ISBLANK('Tenant Information'!E2833),\"\",'Tenant Information'!E2833)","v":""}]
[null,null,null,{"$f":"IF(ISBLANK('Tenant Information'!E2834),\"\",'Tenant Information'!E2834)","v":""}]
[null,null,null,{"$f":"IF(ISBLANK('Tenant Information'!E2835),\"\",'Tenant Information'!E2835)","v":""}]
[null,null,null,{"$f":"IF(ISBLANK('Tenant Information'!E2836),\"\",'Tenant Information'!E2836)","v":""}]
[null,null,null,{"$f":"IF(ISBLANK('Tenant Information'!E2837),\"\",'Tenant Information'!E2837)","v":""}]
[null,null,null,{"$f":"IF(ISBLANK('Tenant Information'!E2838),\"\",'Tenant Information'!E2838)","v":""}]
[null,null,null,{"$f":"IF(ISBLANK('Tenant Information'!E2839),\"\",'Tenant Information'!E2839)","v":""}]
[null,null,null,{"$f":"IF(ISBLANK('Tenant Information'!E2840),\"\",'Tenant Information'!E2840)","v":""}]
[null,null,null,{"$f":"IF(ISBLANK('Tenant Information'!E2841),\"\",'Tenant Information'!E2841)","v":""}]
[null,null,null,{"$f":"IF(ISBLANK('Tenant Information'!E2842),\"\",'Tenant Information'!E2842)","v":""}]
[null,null,null,{"$f":"IF(ISBLANK('Tenant Information'!E2843),\"\",'Tenant Information'!E2843)","v":""}]
[null,null,null,{"$f":"IF(ISBLANK('Tenant Information'!E2844),\"\",'Tenant Information'!E2844)","v":""}]
[null,null,null,{"$f":"IF(ISBLANK('Tenant Information'!E2845),\"\",'Tenant Information'!E2845)","v":""}]
[null,null,null,{"$f":"IF(ISBLANK('Tenant Information'!E2846),\"\",'Tenant Information'!E2846)","v":""}]
[null,null,null,{"$f":"IF(ISBLANK('Tenant Information'!E2847),\"\",'Tenant Information'!E2847)","v":""}]
[null,null,null,{"$f":"IF(ISBLANK('Tenant Information'!E2848),\"\",'Tenant Information'!E2848)","v":""}]
[null,null,null,{"$f":"IF(ISBLANK('Tenant Information'!E2849),\"\",'Tenant Information'!E2849)","v":""}]
[null,null,null,{"$f":"IF(ISBLANK('Tenant Information'!E2850),\"\",'Tenant Information'!E2850)","v":""}]
[null,null,null,{"$f":"IF(ISBLANK('Tenant Information'!E2851),\"\",'Tenant Information'!E2851)","v":""}]
[null,null,null,{"$f":"IF(ISBLANK('Tenant Information'!E2852),\"\",'Tenant Information'!E2852)","v":""}]
[null,null,null,{"$f":"IF(ISBLANK('Tenant Information'!E2853),\"\",'Tenant Information'!E2853)","v":""}]
[null,null,null,{"$f":"IF(ISBLANK('Tenant Information'!E2854),\"\",'Tenant Information'!E2854)","v":""}]
[null,null,null,{"$f":"IF(ISBLANK('Tenant Information'!E2855),\"\",'Tenant Information'!E2855)","v":""}]
[null,null,null,{"$f":"IF(ISBLANK('Tenant Information'!E2856),\"\",'Tenant Information'!E2856)","v":""}]
[null,null,null,{"$f":"IF(ISBLANK('Tenant Information'!E2857),\"\",'Tenant Information'!E2857)","v":""}]
[null,null,null,{"$f":"IF(ISBLANK('Tenant Information'!E2858),\"\",'Tenant Information'!E2858)","v":""}]
[null,null,null,{"$f":"IF(ISBLANK('Tenant Information'!E2859),\"\",'Tenant Information'!E2859)","v":""}]
[null,null,null,{"$f":"IF(ISBLANK('Tenant Information'!E2860),\"\",'Tenant Information'!E2860)","v":""}]
[null,null,null,{"$f":"IF(ISBLANK('Tenant Information'!E2861),\"\",'Tenant Information'!E2861)","v":""}]
[null,null,null,{"$f":"IF(ISBLANK('Tenant Information'!E2862),\"\",'Tenant Information'!E2862)","v":""}]
[null,null,null,{"$f":"IF(ISBLANK('Tenant Information'!E2863),\"\",'Tenant Information'!E2863)","v":""}]
[null,null,null,{"$f":"IF(ISBLANK('Tenant Information'!E2864),\"\",'Tenant Information'!E2864)","v":""}]
[null,null,null,{"$f":"IF(ISBLANK('Tenant Information'!E2865),\"\",'Tenant Information'!E2865)","v":""}]
[null,null,null,{"$f":"IF(ISBLANK('Tenant Information'!E2866),\"\",'Tenant Information'!E2866)","v":""}]
[null,null,null,{"$f":"IF(ISBLANK('Tenant Information'!E2867),\"\",'Tenant Information'!E2867)","v":""}]
[null,null,null,{"$f":"IF(ISBLANK('Tenant Information'!E2868),\"\",'Tenant Information'!E2868)","v":""}]
[null,null,null,{"$f":"IF(ISBLANK('Tenant Information'!E2869),\"\",'Tenant Information'!E2869)","v":""}]
[null,null,null,{"$f":"IF(ISBLANK('Tenant Information'!E2870),\"\",'Tenant Information'!E2870)","v":""}]
[null,null,null,{"$f":"IF(ISBLANK('Tenant Information'!E2871),\"\",'Tenant Information'!E2871)","v":""}]
[null,null,null,{"$f":"IF(ISBLANK('Tenant Information'!E2872),\"\",'Tenant Information'!E2872)","v":""}]
[null,null,null,{"$f":"IF(ISBLANK('Tenant Information'!E2873),\"\",'Tenant Information'!E2873)","v":""}]
[null,null,null,{"$f":"IF(ISBLANK('Tenant Information'!E2874),\"\",'Tenant Information'!E2874)","v":""}]
[null,null,null,{"$f":"IF(ISBLANK('Tenant Information'!E2875),\"\",'Tenant Information'!E2875)","v":""}]
[null,null,null,{"$f":"IF(ISBLANK('Tenant Information'!E2876),\"\",'Tenant Information'!E2876)","v":""}]
[null,null,null,{"$f":"IF(ISBLANK('Tenant Information'!E2877),\"\",'Tenant Information'!E2877)","v":""}]
[null,null,null,{"$f":"IF(ISBLANK('Tenant Information'!E2878),\"\",'Tenant Information'!E2878)","v":""}]
[null,null,null,{"$f":"IF(ISBLANK('Tenant Information'!E2879),\"\",'Tenant Information'!E2879)","v":""}]
[null,null,null,{"$f":"IF(ISBLANK('Tenant Information'!E2880),\"\",'Tenant Information'!E2880)","v":""}]
[null,null,null,{"$f":"IF(ISBLANK('Tenant Information'!E2881),\"\",'Tenant Information'!E2881)","v":""}]
[null,null,null,{"$f":"IF(ISBLANK('Tenant Information'!E2882),\"\",'Tenant Information'!E2882)","v":""}]
[null,null,null,{"$f":"IF(ISBLANK('Tenant Information'!E2883),\"\",'Tenant Information'!E2883)","v":""}]
[null,null,null,{"$f":"IF(ISBLANK('Tenant Information'!E2884),\"\",'Tenant Information'!E2884)","v":""}]
[null,null,null,{"$f":"IF(ISBLANK('Tenant Information'!E2885),\"\",'Tenant Information'!E2885)","v":""}]
[null,null,null,{"$f":"IF(ISBLANK('Tenant Information'!E2886),\"\",'Tenant Information'!E2886)","v":""}]
[null,null,null,{"$f":"IF(ISBLANK('Tenant Information'!E2887),\"\",'Tenant Information'!E2887)","v":""}]
[null,null,null,{"$f":"IF(ISBLANK('Tenant Information'!E2888),\"\",'Tenant Information'!E2888)","v":""}]
[null,null,null,{"$f":"IF(ISBLANK('Tenant Information'!E2889),\"\",'Tenant Information'!E2889)","v":""}]
[null,null,null,{"$f":"IF(ISBLANK('Tenant Information'!E2890),\"\",'Tenant Information'!E2890)","v":""}]
[null,null,null,{"$f":"IF(ISBLANK('Tenant Information'!E2891),\"\",'Tenant Information'!E2891)","v":""}]
[null,null,null,{"$f":"IF(ISBLANK('Tenant Information'!E2892),\"\",'Tenant Information'!E2892)","v":""}]
[null,null,null,{"$f":"IF(ISBLANK('Tenant Information'!E2893),\"\",'Tenant Information'!E2893)","v":""}]
[null,null,null,{"$f":"IF(ISBLANK('Tenant Information'!E2894),\"\",'Tenant Information'!E2894)","v":""}]
[null,null,null,{"$f":"IF(ISBLANK('Tenant Information'!E2895),\"\",'Tenant Information'!E2895)","v":""}]
[null,null,null,{"$f":"IF(ISBLANK('Tenant Information'!E2896),\"\",'Tenant Information'!E2896)","v":""}]
[null,null,null,{"$f":"IF(ISBLANK('Tenant Information'!E2897),\"\",'Tenant Information'!E2897)","v":""}]
[null,null,null,{"$f":"IF(ISBLANK('Tenant Information'!E2898),\"\",'Tenant Information'!E2898)","v":""}]
[null,null,null,{"$f":"IF(ISBLANK('Tenant Information'!E2899),\"\",'Tenant Information'!E2899)","v":""}]
[null,null,null,{"$f":"IF(ISBLANK('Tenant Information'!E2900),\"\",'Tenant Information'!E2900)","v":""}]
[null,null,null,{"$f":"IF(ISBLANK('Tenant Information'!E2901),\"\",'Tenant Information'!E2901)","v":""}]
[null,null,null,{"$f":"IF(ISBLANK('Tenant Information'!E2902),\"\",'Tenant Information'!E2902)","v":""}]
[null,null,null,{"$f":"IF(ISBLANK('Tenant Information'!E2903),\"\",'Tenant Information'!E2903)","v":""}]
[null,null,null,{"$f":"IF(ISBLANK('Tenant Information'!E2904),\"\",'Tenant Information'!E2904)","v":""}]
[null,null,null,{"$f":"IF(ISBLANK('Tenant Information'!E2905),\"\",'Tenant Information'!E2905)","v":""}]
[null,null,null,{"$f":"IF(ISBLANK('Tenant Information'!E2906),\"\",'Tenant Information'!E2906)","v":""}]
[null,null,null,{"$f":"IF(ISBLANK('Tenant Information'!E2907),\"\",'Tenant Information'!E2907)","v":""}]
[null,null,null,{"$f":"IF(ISBLANK('Tenant Information'!E2908),\"\",'Tenant Information'!E2908)","v":""}]
[null,null,null,{"$f":"IF(ISBLANK('Tenant Information'!E2909),\"\",'Tenant Information'!E2909)","v":""}]
[null,null,null,{"$f":"IF(ISBLANK('Tenant Information'!E2910),\"\",'Tenant Information'!E2910)","v":""}]
[null,null,null,{"$f":"IF(ISBLANK('Tenant Information'!E2911),\"\",'Tenant Information'!E2911)","v":""}]
[null,null,null,{"$f":"IF(ISBLANK('Tenant Information'!E2912),\"\",'Tenant Information'!E2912)","v":""}]
[null,null,null,{"$f":"IF(ISBLANK('Tenant Information'!E2913),\"\",'Tenant Information'!E2913)","v":""}]
[null,null,null,{"$f":"IF(ISBLANK('Tenant Information'!E2914),\"\",'Tenant Information'!E2914)","v":""}]
[null,null,null,{"$f":"IF(ISBLANK('Tenant Information'!E2915),\"\",'Tenant Information'!E2915)","v":""}]
[null,null,null,{"$f":"IF(ISBLANK('Tenant Information'!E2916),\"\",'Tenant Information'!E2916)","v":""}]
[null,null,null,{"$f":"IF(ISBLANK('Tenant Information'!E2917),\"\",'Tenant Information'!E2917)","v":""}]
[null,null,null,{"$f":"IF(ISBLANK('Tenant Information'!E2918),\"\",'Tenant Information'!E2918)","v":""}]
[null,null,null,{"$f":"IF(ISBLANK('Tenant Information'!E2919),\"\",'Tenant Information'!E2919)","v":""}]
[null,null,null,{"$f":"IF(ISBLANK('Tenant Information'!E2920),\"\",'Tenant Information'!E2920)","v":""}]
[null,null,null,{"$f":"IF(ISBLANK('Tenant Information'!E2921),\"\",'Tenant Information'!E2921)","v":""}]
[null,null,null,{"$f":"IF(ISBLANK('Tenant Information'!E2922),\"\",'Tenant Information'!E2922)","v":""}]
[null,null,null,{"$f":"IF(ISBLANK('Tenant Information'!E2923),\"\",'Tenant Information'!E2923)","v":""}]
[null,null,null,{"$f":"IF(ISBLANK('Tenant Information'!E2924),\"\",'Tenant Information'!E2924)","v":""}]
[null,null,null,{"$f":"IF(ISBLANK('Tenant Information'!E2925),\"\",'Tenant Information'!E2925)","v":""}]
[null,null,null,{"$f":"IF(ISBLANK('Tenant Information'!E2926),\"\",'Tenant Information'!E2926)","v":""}]
[null,null,null,{"$f":"IF(ISBLANK('Tenant Information'!E2927),\"\",'Tenant Information'!E2927)","v":""}]
[null,null,null,{"$f":"IF(ISBLANK('Tenant Information'!E2928),\"\",'Tenant Information'!E2928)","v":""}]
[null,null,null,{"$f":"IF(ISBLANK('Tenant Information'!E2929),\"\",'Tenant Information'!E2929)","v":""}]
[null,null,null,{"$f":"IF(ISBLANK('Tenant Information'!E2930),\"\",'Tenant Information'!E2930)","v":""}]
[null,null,null,{"$f":"IF(ISBLANK('Tenant Information'!E2931),\"\",'Tenant Information'!E2931)","v":""}]
[null,null,null,{"$f":"IF(ISBLANK('Tenant Information'!E2932),\"\",'Tenant Information'!E2932)","v":""}]
[null,null,null,{"$f":"IF(ISBLANK('Tenant Information'!E2933),\"\",'Tenant Information'!E2933)","v":""}]
[null,null,null,{"$f":"IF(ISBLANK('Tenant Information'!E2934),\"\",'Tenant Information'!E2934)","v":""}]
[null,null,null,{"$f":"IF(ISBLANK('Tenant Information'!E2935),\"\",'Tenant Information'!E2935)","v":""}]
[null,null,null,{"$f":"IF(ISBLANK('Tenant Information'!E2936),\"\",'Tenant Information'!E2936)","v":""}]
[null,null,null,{"$f":"IF(ISBLANK('Tenant Information'!E2937),\"\",'Tenant Information'!E2937)","v":""}]
[null,null,null,{"$f":"IF(ISBLANK('Tenant Information'!E2938),\"\",'Tenant Information'!E2938)","v":""}]
[null,null,null,{"$f":"IF(ISBLANK('Tenant Information'!E2939),\"\",'Tenant Information'!E2939)","v":""}]
[null,null,null,{"$f":"IF(ISBLANK('Tenant Information'!E2940),\"\",'Tenant Information'!E2940)","v":""}]
[null,null,null,{"$f":"IF(ISBLANK('Tenant Information'!E2941),\"\",'Tenant Information'!E2941)","v":""}]
[null,null,null,{"$f":"IF(ISBLANK('Tenant Information'!E2942),\"\",'Tenant Information'!E2942)","v":""}]
[null,null,null,{"$f":"IF(ISBLANK('Tenant Information'!E2943),\"\",'Tenant Information'!E2943)","v":""}]
[null,null,null,{"$f":"IF(ISBLANK('Tenant Information'!E2944),\"\",'Tenant Information'!E2944)","v":""}]
[null,null,null,{"$f":"IF(ISBLANK('Tenant Information'!E2945),\"\",'Tenant Information'!E2945)","v":""}]
[null,null,null,{"$f":"IF(ISBLANK('Tenant Information'!E2946),\"\",'Tenant Information'!E2946)","v":""}]
[null,null,null,{"$f":"IF(ISBLANK('Tenant Information'!E2947),\"\",'Tenant Information'!E2947)","v":""}]
[null,null,null,{"$f":"IF(ISBLANK('Tenant Information'!E2948),\"\",'Tenant Information'!E2948)","v":""}]
[null,null,null,{"$f":"IF(ISBLANK('Tenant Information'!E2949),\"\",'Tenant Information'!E2949)","v":""}]
[null,null,null,{"$f":"IF(ISBLANK('Tenant Information'!E2950),\"\",'Tenant Information'!E2950)","v":""}]
[null,null,null,{"$f":"IF(ISBLANK('Tenant Information'!E2951),\"\",'Tenant Information'!E2951)","v":""}]
[null,null,null,{"$f":"IF(ISBLANK('Tenant Information'!E2952),\"\",'Tenant Information'!E2952)","v":""}]
[null,null,null,{"$f":"IF(ISBLANK('Tenant Information'!E2953),\"\",'Tenant Information'!E2953)","v":""}]
[null,null,null,{"$f":"IF(ISBLANK('Tenant Information'!E2954),\"\",'Tenant Information'!E2954)","v":""}]
[null,null,null,{"$f":"IF(ISBLANK('Tenant Information'!E2955),\"\",'Tenant Information'!E2955)","v":""}]
[null,null,null,{"$f":"IF(ISBLANK('Tenant Information'!E2956),\"\",'Tenant Information'!E2956)","v":""}]
[null,null,null,{"$f":"IF(ISBLANK('Tenant Information'!E2957),\"\",'Tenant Information'!E2957)","v":""}]
[null,null,null,{"$f":"IF(ISBLANK('Tenant Information'!E2958),\"\",'Tenant Information'!E2958)","v":""}]
[null,null,null,{"$f":"IF(ISBLANK('Tenant Information'!E2959),\"\",'Tenant Information'!E2959)","v":""}]
[null,null,null,{"$f":"IF(ISBLANK('Tenant Information'!E2960),\"\",'Tenant Information'!E2960)","v":""}]
[null,null,null,{"$f":"IF(ISBLANK('Tenant Information'!E2961),\"\",'Tenant Information'!E2961)","v":""}]
[null,null,null,{"$f":"IF(ISBLANK('Tenant Information'!E2962),\"\",'Tenant Information'!E2962)","v":""}]
[null,null,null,{"$f":"IF(ISBLANK('Tenant Information'!E2963),\"\",'Tenant Information'!E2963)","v":""}]
[null,null,null,{"$f":"IF(ISBLANK('Tenant Information'!E2964),\"\",'Tenant Information'!E2964)","v":""}]
[null,null,null,{"$f":"IF(ISBLANK('Tenant Information'!E2965),\"\",'Tenant Information'!E2965)","v":""}]
[null,null,null,{"$f":"IF(ISBLANK('Tenant Information'!E2966),\"\",'Tenant Information'!E2966)","v":""}]
[null,null,null,{"$f":"IF(ISBLANK('Tenant Information'!E2967),\"\",'Tenant Information'!E2967)","v":""}]
[null,null,null,{"$f":"IF(ISBLANK('Tenant Information'!E2968),\"\",'Tenant Information'!E2968)","v":""}]
[null,null,null,{"$f":"IF(ISBLANK('Tenant Information'!E2969),\"\",'Tenant Information'!E2969)","v":""}]
[null,null,null,{"$f":"IF(ISBLANK('Tenant Information'!E2970),\"\",'Tenant Information'!E2970)","v":""}]
[null,null,null,{"$f":"IF(ISBLANK('Tenant Information'!E2971),\"\",'Tenant Information'!E2971)","v":""}]
[null,null,null,{"$f":"IF(ISBLANK('Tenant Information'!E2972),\"\",'Tenant Information'!E2972)","v":""}]
[null,null,null,{"$f":"IF(ISBLANK('Tenant Information'!E2973),\"\",'Tenant Information'!E2973)","v":""}]
[null,null,null,{"$f":"IF(ISBLANK('Tenant Information'!E2974),\"\",'Tenant Information'!E2974)","v":""}]
[null,null,null,{"$f":"IF(ISBLANK('Tenant Information'!E2975),\"\",'Tenant Information'!E2975)","v":""}]
[null,null,null,{"$f":"IF(ISBLANK('Tenant Information'!E2976),\"\",'Tenant Information'!E2976)","v":""}]
[null,null,null,{"$f":"IF(ISBLANK('Tenant Information'!E2977),\"\",'Tenant Information'!E2977)","v":""}]
[null,null,null,{"$f":"IF(ISBLANK('Tenant Information'!E2978),\"\",'Tenant Information'!E2978)","v":""}]
[null,null,null,{"$f":"IF(ISBLANK('Tenant Information'!E2979),\"\",'Tenant Information'!E2979)","v":""}]
[null,null,null,{"$f":"IF(ISBLANK('Tenant Information'!E2980),\"\",'Tenant Information'!E2980)","v":""}]
[null,null,null,{"$f":"IF(ISBLANK('Tenant Information'!E2981),\"\",'Tenant Information'!E2981)","v":""}]
[null,null,null,{"$f":"IF(ISBLANK('Tenant Information'!E2982),\"\",'Tenant Information'!E2982)","v":""}]
[null,null,null,{"$f":"IF(ISBLANK('Tenant Information'!E2983),\"\",'Tenant Information'!E2983)","v":""}]
[null,null,null,{"$f":"IF(ISBLANK('Tenant Information'!E2984),\"\",'Tenant Information'!E2984)","v":""}]
[null,null,null,{"$f":"IF(ISBLANK('Tenant Information'!E2985),\"\",'Tenant Information'!E2985)","v":""}]
[null,null,null,{"$f":"IF(ISBLANK('Tenant Information'!E2986),\"\",'Tenant Information'!E2986)","v":""}]
[null,null,null,{"$f":"IF(ISBLANK('Tenant Information'!E2987),\"\",'Tenant Information'!E2987)","v":""}]
[null,null,null,{"$f":"IF(ISBLANK('Tenant Information'!E2988),\"\",'Tenant Information'!E2988)","v":""}]
[null,null,null,{"$f":"IF(ISBLANK('Tenant Information'!E2989),\"\",'Tenant Information'!E2989)","v":""}]
[null,null,null,{"$f":"IF(ISBLANK('Tenant Information'!E2990),\"\",'Tenant Information'!E2990)","v":""}]
[null,null,null,{"$f":"IF(ISBLANK('Tenant Information'!E2991),\"\",'Tenant Information'!E2991)","v":""}]
[null,null,null,{"$f":"IF(ISBLANK('Tenant Information'!E2992),\"\",'Tenant Information'!E2992)","v":""}]
[null,null,null,{"$f":"IF(ISBLANK('Tenant Information'!E2993),\"\",'Tenant Information'!E2993)","v":""}]
[null,null,null,{"$f":"IF(ISBLANK('Tenant Information'!E2994),\"\",'Tenant Information'!E2994)","v":""}]
[null,null,null,{"$f":"IF(ISBLANK('Tenant Information'!E2995),\"\",'Tenant Information'!E2995)","v":""}]
[null,null,null,{"$f":"IF(ISBLANK('Tenant Information'!E2996),\"\",'Tenant Information'!E2996)","v":""}]
[null,null,null,{"$f":"IF(ISBLANK('Tenant Information'!E2997),\"\",'Tenant Information'!E2997)","v":""}]
[null,null,null,{"$f":"IF(ISBLANK('Tenant Information'!E2998),\"\",'Tenant Information'!E2998)","v":""}]
[null,null,null,{"$f":"IF(ISBLANK('Tenant Information'!E2999),\"\",'Tenant Information'!E2999)","v":""}]
[null,null,null,{"$f":"IF(ISBLANK('Tenant Information'!E3000),\"\",'Tenant Information'!E3000)","v":""}]
[null,null,null,{"$f":"IF(ISBLANK('Tenant Information'!E3001),\"\",'Tenant Information'!E3001)","v":""}]
[null,null,null,{"$f":"IF(ISBLANK('Tenant Information'!E3002),\"\",'Tenant Information'!E3002)","v":""}]
[null,null,null,{"$f":"IF(ISBLANK('Tenant Information'!E3003),\"\",'Tenant Information'!E3003)","v":""}]
[null,null,null,{"$f":"IF(ISBLANK('Tenant Information'!E3004),\"\",'Tenant Information'!E3004)","v":""}]
[null,null,null,{"$f":"IF(ISBLANK('Tenant Information'!E3005),\"\",'Tenant Information'!E3005)","v":""}]
[null,null,null,{"$f":"IF(ISBLANK('Tenant Information'!E3006),\"\",'Tenant Information'!E3006)","v":""}]
[null,null,null,{"$f":"IF(ISBLANK('Tenant Information'!E3007),\"\",'Tenant Information'!E3007)","v":""}]
[null,null,null,{"$f":"IF(ISBLANK('Tenant Information'!E3008),\"\",'Tenant Information'!E3008)","v":""}]
[null,null,null,{"$f":"IF(ISBLANK('Tenant Information'!E3009),\"\",'Tenant Information'!E3009)","v":""}]
[null,null,null,{"$f":"IF(ISBLANK('Tenant Information'!E3010),\"\",'Tenant Information'!E3010)","v":""}]
[null,null,null,{"$f":"IF(ISBLANK('Tenant Information'!E3011),\"\",'Tenant Information'!E3011)","v":""}]
[null,null,null,{"$f":"IF(ISBLANK('Tenant Information'!E3012),\"\",'Tenant Information'!E3012)","v":""}]
[null,null,null,{"$f":"IF(ISBLANK('Tenant Information'!E3013),\"\",'Tenant Information'!E3013)","v":""}]
[null,null,null,{"$f":"IF(ISBLANK('Tenant Information'!E3014),\"\",'Tenant Information'!E3014)","v":""}]
[null,null,null,{"$f":"IF(ISBLANK('Tenant Information'!E3015),\"\",'Tenant Information'!E3015)","v":""}]
[null,null,null,{"$f":"IF(ISBLANK('Tenant Information'!E3016),\"\",'Tenant Information'!E3016)","v":""}]
[null,null,null,{"$f":"IF(ISBLANK('Tenant Information'!E3017),\"\",'Tenant Information'!E3017)","v":""}]
[null,null,null,{"$f":"IF(ISBLANK('Tenant Information'!E3018),\"\",'Tenant Information'!E3018)","v":""}]
[null,null,null,{"$f":"IF(ISBLANK('Tenant Information'!E3019),\"\",'Tenant Information'!E3019)","v":""}]
[null,null,null,{"$f":"IF(ISBLANK('Tenant Information'!E3020),\"\",'Tenant Information'!E3020)","v":""}]
[null,null,null,{"$f":"IF(ISBLANK('Tenant Information'!E3021),\"\",'Tenant Information'!E3021)","v":""}]
[null,null,null,{"$f":"IF(ISBLANK('Tenant Information'!E3022),\"\",'Tenant Information'!E3022)","v":""}]
[null,null,null,{"$f":"IF(ISBLANK('Tenant Information'!E3023),\"\",'Tenant Information'!E3023)","v":""}]
[null,null,null,{"$f":"IF(ISBLANK('Tenant Information'!E3024),\"\",'Tenant Information'!E3024)","v":""}]
[null,null,null,{"$f":"IF(ISBLANK('Tenant Information'!E3025),\"\",'Tenant Information'!E3025)","v":""}]
[null,null,null,{"$f":"IF(ISBLANK('Tenant Information'!E3026),\"\",'Tenant Information'!E3026)","v":""}]
[null,null,null,{"$f":"IF(ISBLANK('Tenant Information'!E3027),\"\",'Tenant Information'!E3027)","v":""}]
[null,null,null,{"$f":"IF(ISBLANK('Tenant Information'!E3028),\"\",'Tenant Information'!E3028)","v":""}]
[null,null,null,{"$f":"IF(ISBLANK('Tenant Information'!E3029),\"\",'Tenant Information'!E3029)","v":""}]
[null,null,null,{"$f":"IF(ISBLANK('Tenant Information'!E3030),\"\",'Tenant Information'!E3030)","v":""}]
[null,null,null,{"$f":"IF(ISBLANK('Tenant Information'!E3031),\"\",'Tenant Information'!E3031)","v":""}]
[null,null,null,{"$f":"IF(ISBLANK('Tenant Information'!E3032),\"\",'Tenant Information'!E3032)","v":""}]
[null,null,null,{"$f":"IF(ISBLANK('Tenant Information'!E3033),\"\",'Tenant Information'!E3033)","v":""}]
[null,null,null,{"$f":"IF(ISBLANK('Tenant Information'!E3034),\"\",'Tenant Information'!E3034)","v":""}]
[null,null,null,{"$f":"IF(ISBLANK('Tenant Information'!E3035),\"\",'Tenant Information'!E3035)","v":""}]
[null,null,null,{"$f":"IF(ISBLANK('Tenant Information'!E3036),\"\",'Tenant Information'!E3036)","v":""}]
[null,null,null,{"$f":"IF(ISBLANK('Tenant Information'!E3037),\"\",'Tenant Information'!E3037)","v":""}]
[null,null,null,{"$f":"IF(ISBLANK('Tenant Information'!E3038),\"\",'Tenant Information'!E3038)","v":""}]
[null,null,null,{"$f":"IF(ISBLANK('Tenant Information'!E3039),\"\",'Tenant Information'!E3039)","v":""}]
[null,null,null,{"$f":"IF(ISBLANK('Tenant Information'!E3040),\"\",'Tenant Information'!E3040)","v":""}]
[null,null,null,{"$f":"IF(ISBLANK('Tenant Information'!E3041),\"\",'Tenant Information'!E3041)","v":""}]
[null,null,null,{"$f":"IF(ISBLANK('Tenant Information'!E3042),\"\",'Tenant Information'!E3042)","v":""}]
[null,null,null,{"$f":"IF(ISBLANK('Tenant Information'!E3043),\"\",'Tenant Information'!E3043)","v":""}]
[null,null,null,{"$f":"IF(ISBLANK('Tenant Information'!E3044),\"\",'Tenant Information'!E3044)","v":""}]
[null,null,null,{"$f":"IF(ISBLANK('Tenant Information'!E3045),\"\",'Tenant Information'!E3045)","v":""}]
[null,null,null,{"$f":"IF(ISBLANK('Tenant Information'!E3046),\"\",'Tenant Information'!E3046)","v":""}]
[null,null,null,{"$f":"IF(ISBLANK('Tenant Information'!E3047),\"\",'Tenant Information'!E3047)","v":""}]
[null,null,null,{"$f":"IF(ISBLANK('Tenant Information'!E3048),\"\",'Tenant Information'!E3048)","v":""}]
[null,null,null,{"$f":"IF(ISBLANK('Tenant Information'!E3049),\"\",'Tenant Information'!E3049)","v":""}]
[null,null,null,{"$f":"IF(ISBLANK('Tenant Information'!E3050),\"\",'Tenant Information'!E3050)","v":""}]
[null,null,null,{"$f":"IF(ISBLANK('Tenant Information'!E3051),\"\",'Tenant Information'!E3051)","v":""}]
[null,null,null,{"$f":"IF(ISBLANK('Tenant Information'!E3052),\"\",'Tenant Information'!E3052)","v":""}]
[null,null,null,{"$f":"IF(ISBLANK('Tenant Information'!E3053),\"\",'Tenant Information'!E3053)","v":""}]
[null,null,null,{"$f":"IF(ISBLANK('Tenant Information'!E3054),\"\",'Tenant Information'!E3054)","v":""}]
[null,null,null,{"$f":"IF(ISBLANK('Tenant Information'!E3055),\"\",'Tenant Information'!E3055)","v":""}]
[null,null,null,{"$f":"IF(ISBLANK('Tenant Information'!E3056),\"\",'Tenant Information'!E3056)","v":""}]
[null,null,null,{"$f":"IF(ISBLANK('Tenant Information'!E3057),\"\",'Tenant Information'!E3057)","v":""}]
[null,null,null,{"$f":"IF(ISBLANK('Tenant Information'!E3058),\"\",'Tenant Information'!E3058)","v":""}]
[null,null,null,{"$f":"IF(ISBLANK('Tenant Information'!E3059),\"\",'Tenant Information'!E3059)","v":""}]
[null,null,null,{"$f":"IF(ISBLANK('Tenant Information'!E3060),\"\",'Tenant Information'!E3060)","v":""}]
[null,null,null,{"$f":"IF(ISBLANK('Tenant Information'!E3061),\"\",'Tenant Information'!E3061)","v":""}]
[null,null,null,{"$f":"IF(ISBLANK('Tenant Information'!E3062),\"\",'Tenant Information'!E3062)","v":""}]
[null,null,null,{"$f":"IF(ISBLANK('Tenant Information'!E3063),\"\",'Tenant Information'!E3063)","v":""}]
[null,null,null,{"$f":"IF(ISBLANK('Tenant Information'!E3064),\"\",'Tenant Information'!E3064)","v":""}]
[null,null,null,{"$f":"IF(ISBLANK('Tenant Information'!E3065),\"\",'Tenant Information'!E3065)","v":""}]
[null,null,null,{"$f":"IF(ISBLANK('Tenant Information'!E3066),\"\",'Tenant Information'!E3066)","v":""}]
[null,null,null,{"$f":"IF(ISBLANK('Tenant Information'!E3067),\"\",'Tenant Information'!E3067)","v":""}]
[null,null,null,{"$f":"IF(ISBLANK('Tenant Information'!E3068),\"\",'Tenant Information'!E3068)","v":""}]
[null,null,null,{"$f":"IF(ISBLANK('Tenant Information'!E3069),\"\",'Tenant Information'!E3069)","v":""}]
[null,null,null,{"$f":"IF(ISBLANK('Tenant Information'!E3070),\"\",'Tenant Information'!E3070)","v":""}]
[null,null,null,{"$f":"IF(ISBLANK('Tenant Information'!E3071),\"\",'Tenant Information'!E3071)","v":""}]
[null,null,null,{"$f":"IF(ISBLANK('Tenant Information'!E3072),\"\",'Tenant Information'!E3072)","v":""}]
[null,null,null,{"$f":"IF(ISBLANK('Tenant Information'!E3073),\"\",'Tenant Information'!E3073)","v":""}]
[null,null,null,{"$f":"IF(ISBLANK('Tenant Information'!E3074),\"\",'Tenant Information'!E3074)","v":""}]
[null,null,null,{"$f":"IF(ISBLANK('Tenant Information'!E3075),\"\",'Tenant Information'!E3075)","v":""}]
[null,null,null,{"$f":"IF(ISBLANK('Tenant Information'!E3076),\"\",'Tenant Information'!E3076)","v":""}]
[null,null,null,{"$f":"IF(ISBLANK('Tenant Information'!E3077),\"\",'Tenant Information'!E3077)","v":""}]
[null,null,null,{"$f":"IF(ISBLANK('Tenant Information'!E3078),\"\",'Tenant Information'!E3078)","v":""}]
[null,null,null,{"$f":"IF(ISBLANK('Tenant Information'!E3079),\"\",'Tenant Information'!E3079)","v":""}]
[null,null,null,{"$f":"IF(ISBLANK('Tenant Information'!E3080),\"\",'Tenant Information'!E3080)","v":""}]
[null,null,null,{"$f":"IF(ISBLANK('Tenant Information'!E3081),\"\",'Tenant Information'!E3081)","v":""}]
[null,null,null,{"$f":"IF(ISBLANK('Tenant Information'!E3082),\"\",'Tenant Information'!E3082)","v":""}]
[null,null,null,{"$f":"IF(ISBLANK('Tenant Information'!E3083),\"\",'Tenant Information'!E3083)","v":""}]
[null,null,null,{"$f":"IF(ISBLANK('Tenant Information'!E3084),\"\",'Tenant Information'!E3084)","v":""}]
[null,null,null,{"$f":"IF(ISBLANK('Tenant Information'!E3085),\"\",'Tenant Information'!E3085)","v":""}]
[null,null,null,{"$f":"IF(ISBLANK('Tenant Information'!E3086),\"\",'Tenant Information'!E3086)","v":""}]
[null,null,null,{"$f":"IF(ISBLANK('Tenant Information'!E3087),\"\",'Tenant Information'!E3087)","v":""}]
[null,null,null,{"$f":"IF(ISBLANK('Tenant Information'!E3088),\"\",'Tenant Information'!E3088)","v":""}]
[null,null,null,{"$f":"IF(ISBLANK('Tenant Information'!E3089),\"\",'Tenant Information'!E3089)","v":""}]
[null,null,null,{"$f":"IF(ISBLANK('Tenant Information'!E3090),\"\",'Tenant Information'!E3090)","v":""}]
[null,null,null,{"$f":"IF(ISBLANK('Tenant Information'!E3091),\"\",'Tenant Information'!E3091)","v":""}]
[null,null,null,{"$f":"IF(ISBLANK('Tenant Information'!E3092),\"\",'Tenant Information'!E3092)","v":""}]
[null,null,null,{"$f":"IF(ISBLANK('Tenant Information'!E3093),\"\",'Tenant Information'!E3093)","v":""}]
[null,null,null,{"$f":"IF(ISBLANK('Tenant Information'!E3094),\"\",'Tenant Information'!E3094)","v":""}]
[null,null,null,{"$f":"IF(ISBLANK('Tenant Information'!E3095),\"\",'Tenant Information'!E3095)","v":""}]
[null,null,null,{"$f":"IF(ISBLANK('Tenant Information'!E3096),\"\",'Tenant Information'!E3096)","v":""}]
[null,null,null,{"$f":"IF(ISBLANK('Tenant Information'!E3097),\"\",'Tenant Information'!E3097)","v":""}]
[null,null,null,{"$f":"IF(ISBLANK('Tenant Information'!E3098),\"\",'Tenant Information'!E3098)","v":""}]
[null,null,null,{"$f":"IF(ISBLANK('Tenant Information'!E3099),\"\",'Tenant Information'!E3099)","v":""}]
[null,null,null,{"$f":"IF(ISBLANK('Tenant Information'!E3100),\"\",'Tenant Information'!E3100)","v":""}]
[null,null,null,{"$f":"IF(ISBLANK('Tenant Information'!E3101),\"\",'Tenant Information'!E3101)","v":""}]
[null,null,null,{"$f":"IF(ISBLANK('Tenant Information'!E3102),\"\",'Tenant Information'!E3102)","v":""}]
[null,null,null,{"$f":"IF(ISBLANK('Tenant Information'!E3103),\"\",'Tenant Information'!E3103)","v":""}]
[null,null,null,{"$f":"IF(ISBLANK('Tenant Information'!E3104),\"\",'Tenant Information'!E3104)","v":""}]
[null,null,null,{"$f":"IF(ISBLANK('Tenant Information'!E3105),\"\",'Tenant Information'!E3105)","v":""}]
[null,null,null,{"$f":"IF(ISBLANK('Tenant Information'!E3106),\"\",'Tenant Information'!E3106)","v":""}]
[null,null,null,{"$f":"IF(ISBLANK('Tenant Information'!E3107),\"\",'Tenant Information'!E3107)","v":""}]
[null,null,null,{"$f":"IF(ISBLANK('Tenant Information'!E3108),\"\",'Tenant Information'!E3108)","v":""}]
[null,null,null,{"$f":"IF(ISBLANK('Tenant Information'!E3109),\"\",'Tenant Information'!E3109)","v":""}]
[null,null,null,{"$f":"IF(ISBLANK('Tenant Information'!E3110),\"\",'Tenant Information'!E3110)","v":""}]
[null,null,null,{"$f":"IF(ISBLANK('Tenant Information'!E3111),\"\",'Tenant Information'!E3111)","v":""}]
[null,null,null,{"$f":"IF(ISBLANK('Tenant Information'!E3112),\"\",'Tenant Information'!E3112)","v":""}]
[null,null,null,{"$f":"IF(ISBLANK('Tenant Information'!E3113),\"\",'Tenant Information'!E3113)","v":""}]
[null,null,null,{"$f":"IF(ISBLANK('Tenant Information'!E3114),\"\",'Tenant Information'!E3114)","v":""}]
[null,null,null,{"$f":"IF(ISBLANK('Tenant Information'!E3115),\"\",'Tenant Information'!E3115)","v":""}]
[null,null,null,{"$f":"IF(ISBLANK('Tenant Information'!E3116),\"\",'Tenant Information'!E3116)","v":""}]
[null,null,null,{"$f":"IF(ISBLANK('Tenant Information'!E3117),\"\",'Tenant Information'!E3117)","v":""}]
[null,null,null,{"$f":"IF(ISBLANK('Tenant Information'!E3118),\"\",'Tenant Information'!E3118)","v":""}]
[null,null,null,{"$f":"IF(ISBLANK('Tenant Information'!E3119),\"\",'Tenant Information'!E3119)","v":""}]
[null,null,null,{"$f":"IF(ISBLANK('Tenant Information'!E3120),\"\",'Tenant Information'!E3120)","v":""}]
[null,null,null,{"$f":"IF(ISBLANK('Tenant Information'!E3121),\"\",'Tenant Information'!E3121)","v":""}]
[null,null,null,{"$f":"IF(ISBLANK('Tenant Information'!E3122),\"\",'Tenant Information'!E3122)","v":""}]
[null,null,null,{"$f":"IF(ISBLANK('Tenant Information'!E3123),\"\",'Tenant Information'!E3123)","v":""}]
[null,null,null,{"$f":"IF(ISBLANK('Tenant Information'!E3124),\"\",'Tenant Information'!E3124)","v":""}]
[null,null,null,{"$f":"IF(ISBLANK('Tenant Information'!E3125),\"\",'Tenant Information'!E3125)","v":""}]
[null,null,null,{"$f":"IF(ISBLANK('Tenant Information'!E3126),\"\",'Tenant Information'!E3126)","v":""}]
[null,null,null,{"$f":"IF(ISBLANK('Tenant Information'!E3127),\"\",'Tenant Information'!E3127)","v":""}]
[null,null,null,{"$f":"IF(ISBLANK('Tenant Information'!E3128),\"\",'Tenant Information'!E3128)","v":""}]
[null,null,null,{"$f":"IF(ISBLANK('Tenant Information'!E3129),\"\",'Tenant Information'!E3129)","v":""}]
[null,null,null,{"$f":"IF(ISBLANK('Tenant Information'!E3130),\"\",'Tenant Information'!E3130)","v":""}]
[null,null,null,{"$f":"IF(ISBLANK('Tenant Information'!E3131),\"\",'Tenant Information'!E3131)","v":""}]
[null,null,null,{"$f":"IF(ISBLANK('Tenant Information'!E3132),\"\",'Tenant Information'!E3132)","v":""}]
[null,null,null,{"$f":"IF(ISBLANK('Tenant Information'!E3133),\"\",'Tenant Information'!E3133)","v":""}]
[null,null,null,{"$f":"IF(ISBLANK('Tenant Information'!E3134),\"\",'Tenant Information'!E3134)","v":""}]
[null,null,null,{"$f":"IF(ISBLANK('Tenant Information'!E3135),\"\",'Tenant Information'!E3135)","v":""}]
[null,null,null,{"$f":"IF(ISBLANK('Tenant Information'!E3136),\"\",'Tenant Information'!E3136)","v":""}]
[null,null,null,{"$f":"IF(ISBLANK('Tenant Information'!E3137),\"\",'Tenant Information'!E3137)","v":""}]
[null,null,null,{"$f":"IF(ISBLANK('Tenant Information'!E3138),\"\",'Tenant Information'!E3138)","v":""}]
[null,null,null,{"$f":"IF(ISBLANK('Tenant Information'!E3139),\"\",'Tenant Information'!E3139)","v":""}]
[null,null,null,{"$f":"IF(ISBLANK('Tenant Information'!E3140),\"\",'Tenant Information'!E3140)","v":""}]
[null,null,null,{"$f":"IF(ISBLANK('Tenant Information'!E3141),\"\",'Tenant Information'!E3141)","v":""}]
[null,null,null,{"$f":"IF(ISBLANK('Tenant Information'!E3142),\"\",'Tenant Information'!E3142)","v":""}]
[null,null,null,{"$f":"IF(ISBLANK('Tenant Information'!E3143),\"\",'Tenant Information'!E3143)","v":""}]
[null,null,null,{"$f":"IF(ISBLANK('Tenant Information'!E3144),\"\",'Tenant Information'!E3144)","v":""}]
[null,null,null,{"$f":"IF(ISBLANK('Tenant Information'!E3145),\"\",'Tenant Information'!E3145)","v":""}]
[null,null,null,{"$f":"IF(ISBLANK('Tenant Information'!E3146),\"\",'Tenant Information'!E3146)","v":""}]
[null,null,null,{"$f":"IF(ISBLANK('Tenant Information'!E3147),\"\",'Tenant Information'!E3147)","v":""}]
[null,null,null,{"$f":"IF(ISBLANK('Tenant Information'!E3148),\"\",'Tenant Information'!E3148)","v":""}]
[null,null,null,{"$f":"IF(ISBLANK('Tenant Information'!E3149),\"\",'Tenant Information'!E3149)","v":""}]
[null,null,null,{"$f":"IF(ISBLANK('Tenant Information'!E3150),\"\",'Tenant Information'!E3150)","v":""}]
[null,null,null,{"$f":"IF(ISBLANK('Tenant Information'!E3151),\"\",'Tenant Information'!E3151)","v":""}]
[null,null,null,{"$f":"IF(ISBLANK('Tenant Information'!E3152),\"\",'Tenant Information'!E3152)","v":""}]
[null,null,null,{"$f":"IF(ISBLANK('Tenant Information'!E3153),\"\",'Tenant Information'!E3153)","v":""}]
[null,null,null,{"$f":"IF(ISBLANK('Tenant Information'!E3154),\"\",'Tenant Information'!E3154)","v":""}]
[null,null,null,{"$f":"IF(ISBLANK('Tenant Information'!E3155),\"\",'Tenant Information'!E3155)","v":""}]
[null,null,null,{"$f":"IF(ISBLANK('Tenant Information'!E3156),\"\",'Tenant Information'!E3156)","v":""}]
[null,null,null,{"$f":"IF(ISBLANK('Tenant Information'!E3157),\"\",'Tenant Information'!E3157)","v":""}]
[null,null,null,{"$f":"IF(ISBLANK('Tenant Information'!E3158),\"\",'Tenant Information'!E3158)","v":""}]
[null,null,null,{"$f":"IF(ISBLANK('Tenant Information'!E3159),\"\",'Tenant Information'!E3159)","v":""}]
[null,null,null,{"$f":"IF(ISBLANK('Tenant Information'!E3160),\"\",'Tenant Information'!E3160)","v":""}]
[null,null,null,{"$f":"IF(ISBLANK('Tenant Information'!E3161),\"\",'Tenant Information'!E3161)","v":""}]
[null,null,null,{"$f":"IF(ISBLANK('Tenant Information'!E3162),\"\",'Tenant Information'!E3162)","v":""}]
[null,null,null,{"$f":"IF(ISBLANK('Tenant Information'!E3163),\"\",'Tenant Information'!E3163)","v":""}]
[null,null,null,{"$f":"IF(ISBLANK('Tenant Information'!E3164),\"\",'Tenant Information'!E3164)","v":""}]
[null,null,null,{"$f":"IF(ISBLANK('Tenant Information'!E3165),\"\",'Tenant Information'!E3165)","v":""}]
[null,null,null,{"$f":"IF(ISBLANK('Tenant Information'!E3166),\"\",'Tenant Information'!E3166)","v":""}]
[null,null,null,{"$f":"IF(ISBLANK('Tenant Information'!E3167),\"\",'Tenant Information'!E3167)","v":""}]
[null,null,null,{"$f":"IF(ISBLANK('Tenant Information'!E3168),\"\",'Tenant Information'!E3168)","v":""}]
[null,null,null,{"$f":"IF(ISBLANK('Tenant Information'!E3169),\"\",'Tenant Information'!E3169)","v":""}]
[null,null,null,{"$f":"IF(ISBLANK('Tenant Information'!E3170),\"\",'Tenant Information'!E3170)","v":""}]
[null,null,null,{"$f":"IF(ISBLANK('Tenant Information'!E3171),\"\",'Tenant Information'!E3171)","v":""}]
[null,null,null,{"$f":"IF(ISBLANK('Tenant Information'!E3172),\"\",'Tenant Information'!E3172)","v":""}]
[null,null,null,{"$f":"IF(ISBLANK('Tenant Information'!E3173),\"\",'Tenant Information'!E3173)","v":""}]
[null,null,null,{"$f":"IF(ISBLANK('Tenant Information'!E3174),\"\",'Tenant Information'!E3174)","v":""}]
[null,null,null,{"$f":"IF(ISBLANK('Tenant Information'!E3175),\"\",'Tenant Information'!E3175)","v":""}]
[null,null,null,{"$f":"IF(ISBLANK('Tenant Information'!E3176),\"\",'Tenant Information'!E3176)","v":""}]
[null,null,null,{"$f":"IF(ISBLANK('Tenant Information'!E3177),\"\",'Tenant Information'!E3177)","v":""}]
[null,null,null,{"$f":"IF(ISBLANK('Tenant Information'!E3178),\"\",'Tenant Information'!E3178)","v":""}]
[null,null,null,{"$f":"IF(ISBLANK('Tenant Information'!E3179),\"\",'Tenant Information'!E3179)","v":""}]
[null,null,null,{"$f":"IF(ISBLANK('Tenant Information'!E3180),\"\",'Tenant Information'!E3180)","v":""}]
[null,null,null,{"$f":"IF(ISBLANK('Tenant Information'!E3181),\"\",'Tenant Information'!E3181)","v":""}]
[null,null,null,{"$f":"IF(ISBLANK('Tenant Information'!E3182),\"\",'Tenant Information'!E3182)","v":""}]
[null,null,null,{"$f":"IF(ISBLANK('Tenant Information'!E3183),\"\",'Tenant Information'!E3183)","v":""}]
[null,null,null,{"$f":"IF(ISBLANK('Tenant Information'!E3184),\"\",'Tenant Information'!E3184)","v":""}]
[null,null,null,{"$f":"IF(ISBLANK('Tenant Information'!E3185),\"\",'Tenant Information'!E3185)","v":""}]
[null,null,null,{"$f":"IF(ISBLANK('Tenant Information'!E3186),\"\",'Tenant Information'!E3186)","v":""}]
[null,null,null,{"$f":"IF(ISBLANK('Tenant Information'!E3187),\"\",'Tenant Information'!E3187)","v":""}]
[null,null,null,{"$f":"IF(ISBLANK('Tenant Information'!E3188),\"\",'Tenant Information'!E3188)","v":""}]
[null,null,null,{"$f":"IF(ISBLANK('Tenant Information'!E3189),\"\",'Tenant Information'!E3189)","v":""}]
[null,null,null,{"$f":"IF(ISBLANK('Tenant Information'!E3190),\"\",'Tenant Information'!E3190)","v":""}]
[null,null,null,{"$f":"IF(ISBLANK('Tenant Information'!E3191),\"\",'Tenant Information'!E3191)","v":""}]
[null,null,null,{"$f":"IF(ISBLANK('Tenant Information'!E3192),\"\",'Tenant Information'!E3192)","v":""}]
[null,null,null,{"$f":"IF(ISBLANK('Tenant Information'!E3193),\"\",'Tenant Information'!E3193)","v":""}]
[null,null,null,{"$f":"IF(ISBLANK('Tenant Information'!E3194),\"\",'Tenant Information'!E3194)","v":""}]
[null,null,null,{"$f":"IF(ISBLANK('Tenant Information'!E3195),\"\",'Tenant Information'!E3195)","v":""}]
[null,null,null,{"$f":"IF(ISBLANK('Tenant Information'!E3196),\"\",'Tenant Information'!E3196)","v":""}]
[null,null,null,{"$f":"IF(ISBLANK('Tenant Information'!E3197),\"\",'Tenant Information'!E3197)","v":""}]
[null,null,null,{"$f":"IF(ISBLANK('Tenant Information'!E3198),\"\",'Tenant Information'!E3198)","v":""}]
[null,null,null,{"$f":"IF(ISBLANK('Tenant Information'!E3199),\"\",'Tenant Information'!E3199)","v":""}]
[null,null,null,{"$f":"IF(ISBLANK('Tenant Information'!E3200),\"\",'Tenant Information'!E3200)","v":""}]
[null,null,null,{"$f":"IF(ISBLANK('Tenant Information'!E3201),\"\",'Tenant Information'!E3201)","v":""}]
[null,null,null,{"$f":"IF(ISBLANK('Tenant Information'!E3202),\"\",'Tenant Information'!E3202)","v":""}]
[null,null,null,{"$f":"IF(ISBLANK('Tenant Information'!E3203),\"\",'Tenant Information'!E3203)","v":""}]
[null,null,null,{"$f":"IF(ISBLANK('Tenant Information'!E3204),\"\",'Tenant Information'!E3204)","v":""}]
[null,null,null,{"$f":"IF(ISBLANK('Tenant Information'!E3205),\"\",'Tenant Information'!E3205)","v":""}]
[null,null,null,{"$f":"IF(ISBLANK('Tenant Information'!E3206),\"\",'Tenant Information'!E3206)","v":""}]
[null,null,null,{"$f":"IF(ISBLANK('Tenant Information'!E3207),\"\",'Tenant Information'!E3207)","v":""}]
[null,null,null,{"$f":"IF(ISBLANK('Tenant Information'!E3208),\"\",'Tenant Information'!E3208)","v":""}]
[null,null,null,{"$f":"IF(ISBLANK('Tenant Information'!E3209),\"\",'Tenant Information'!E3209)","v":""}]
[null,null,null,{"$f":"IF(ISBLANK('Tenant Information'!E3210),\"\",'Tenant Information'!E3210)","v":""}]
[null,null,null,{"$f":"IF(ISBLANK('Tenant Information'!E3211),\"\",'Tenant Information'!E3211)","v":""}]
[null,null,null,{"$f":"IF(ISBLANK('Tenant Information'!E3212),\"\",'Tenant Information'!E3212)","v":""}]
[null,null,null,{"$f":"IF(ISBLANK('Tenant Information'!E3213),\"\",'Tenant Information'!E3213)","v":""}]
[null,null,null,{"$f":"IF(ISBLANK('Tenant Information'!E3214),\"\",'Tenant Information'!E3214)","v":""}]
[null,null,null,{"$f":"IF(ISBLANK('Tenant Information'!E3215),\"\",'Tenant Information'!E3215)","v":""}]
[null,null,null,{"$f":"IF(ISBLANK('Tenant Information'!E3216),\"\",'Tenant Information'!E3216)","v":""}]
[null,null,null,{"$f":"IF(ISBLANK('Tenant Information'!E3217),\"\",'Tenant Information'!E3217)","v":""}]
[null,null,null,{"$f":"IF(ISBLANK('Tenant Information'!E3218),\"\",'Tenant Information'!E3218)","v":""}]
[null,null,null,{"$f":"IF(ISBLANK('Tenant Information'!E3219),\"\",'Tenant Information'!E3219)","v":""}]
[null,null,null,{"$f":"IF(ISBLANK('Tenant Information'!E3220),\"\",'Tenant Information'!E3220)","v":""}]
[null,null,null,{"$f":"IF(ISBLANK('Tenant Information'!E3221),\"\",'Tenant Information'!E3221)","v":""}]
[null,null,null,{"$f":"IF(ISBLANK('Tenant Information'!E3222),\"\",'Tenant Information'!E3222)","v":""}]
[null,null,null,{"$f":"IF(ISBLANK('Tenant Information'!E3223),\"\",'Tenant Information'!E3223)","v":""}]
[null,null,null,{"$f":"IF(ISBLANK('Tenant Information'!E3224),\"\",'Tenant Information'!E3224)","v":""}]
[null,null,null,{"$f":"IF(ISBLANK('Tenant Information'!E3225),\"\",'Tenant Information'!E3225)","v":""}]
[null,null,null,{"$f":"IF(ISBLANK('Tenant Information'!E3226),\"\",'Tenant Information'!E3226)","v":""}]
[null,null,null,{"$f":"IF(ISBLANK('Tenant Information'!E3227),\"\",'Tenant Information'!E3227)","v":""}]
[null,null,null,{"$f":"IF(ISBLANK('Tenant Information'!E3228),\"\",'Tenant Information'!E3228)","v":""}]
[null,null,null,{"$f":"IF(ISBLANK('Tenant Information'!E3229),\"\",'Tenant Information'!E3229)","v":""}]
[null,null,null,{"$f":"IF(ISBLANK('Tenant Information'!E3230),\"\",'Tenant Information'!E3230)","v":""}]
[null,null,null,{"$f":"IF(ISBLANK('Tenant Information'!E3231),\"\",'Tenant Information'!E3231)","v":""}]
[null,null,null,{"$f":"IF(ISBLANK('Tenant Information'!E3232),\"\",'Tenant Information'!E3232)","v":""}]
[null,null,null,{"$f":"IF(ISBLANK('Tenant Information'!E3233),\"\",'Tenant Information'!E3233)","v":""}]
[null,null,null,{"$f":"IF(ISBLANK('Tenant Information'!E3234),\"\",'Tenant Information'!E3234)","v":""}]
[null,null,null,{"$f":"IF(ISBLANK('Tenant Information'!E3235),\"\",'Tenant Information'!E3235)","v":""}]
[null,null,null,{"$f":"IF(ISBLANK('Tenant Information'!E3236),\"\",'Tenant Information'!E3236)","v":""}]
[null,null,null,{"$f":"IF(ISBLANK('Tenant Information'!E3237),\"\",'Tenant Information'!E3237)","v":""}]
[null,null,null,{"$f":"IF(ISBLANK('Tenant Information'!E3238),\"\",'Tenant Information'!E3238)","v":""}]
[null,null,null,{"$f":"IF(ISBLANK('Tenant Information'!E3239),\"\",'Tenant Information'!E3239)","v":""}]
[null,null,null,{"$f":"IF(ISBLANK('Tenant Information'!E3240),\"\",'Tenant Information'!E3240)","v":""}]
[null,null,null,{"$f":"IF(ISBLANK('Tenant Information'!E3241),\"\",'Tenant Information'!E3241)","v":""}]
[null,null,null,{"$f":"IF(ISBLANK('Tenant Information'!E3242),\"\",'Tenant Information'!E3242)","v":""}]
[null,null,null,{"$f":"IF(ISBLANK('Tenant Information'!E3243),\"\",'Tenant Information'!E3243)","v":""}]
[null,null,null,{"$f":"IF(ISBLANK('Tenant Information'!E3244),\"\",'Tenant Information'!E3244)","v":""}]
[null,null,null,{"$f":"IF(ISBLANK('Tenant Information'!E3245),\"\",'Tenant Information'!E3245)","v":""}]
[null,null,null,{"$f":"IF(ISBLANK('Tenant Information'!E3246),\"\",'Tenant Information'!E3246)","v":""}]
[null,null,null,{"$f":"IF(ISBLANK('Tenant Information'!E3247),\"\",'Tenant Information'!E3247)","v":""}]
[null,null,null,{"$f":"IF(ISBLANK('Tenant Information'!E3248),\"\",'Tenant Information'!E3248)","v":""}]
[null,null,null,{"$f":"IF(ISBLANK('Tenant Information'!E3249),\"\",'Tenant Information'!E3249)","v":""}]
[null,null,null,{"$f":"IF(ISBLANK('Tenant Information'!E3250),\"\",'Tenant Information'!E3250)","v":""}]
[null,null,null,{"$f":"IF(ISBLANK('Tenant Information'!E3251),\"\",'Tenant Information'!E3251)","v":""}]
[null,null,null,{"$f":"IF(ISBLANK('Tenant Information'!E3252),\"\",'Tenant Information'!E3252)","v":""}]
[null,null,null,{"$f":"IF(ISBLANK('Tenant Information'!E3253),\"\",'Tenant Information'!E3253)","v":""}]
[null,null,null,{"$f":"IF(ISBLANK('Tenant Information'!E3254),\"\",'Tenant Information'!E3254)","v":""}]
[null,null,null,{"$f":"IF(ISBLANK('Tenant Information'!E3255),\"\",'Tenant Information'!E3255)","v":""}]
[null,null,null,{"$f":"IF(ISBLANK('Tenant Information'!E3256),\"\",'Tenant Information'!E3256)","v":""}]
[null,null,null,{"$f":"IF(ISBLANK('Tenant Information'!E3257),\"\",'Tenant Information'!E3257)","v":""}]
[null,null,null,{"$f":"IF(ISBLANK('Tenant Information'!E3258),\"\",'Tenant Information'!E3258)","v":""}]
[null,null,null,{"$f":"IF(ISBLANK('Tenant Information'!E3259),\"\",'Tenant Information'!E3259)","v":""}]
[null,null,null,{"$f":"IF(ISBLANK('Tenant Information'!E3260),\"\",'Tenant Information'!E3260)","v":""}]
[null,null,null,{"$f":"IF(ISBLANK('Tenant Information'!E3261),\"\",'Tenant Information'!E3261)","v":""}]
[null,null,null,{"$f":"IF(ISBLANK('Tenant Information'!E3262),\"\",'Tenant Information'!E3262)","v":""}]
[null,null,null,{"$f":"IF(ISBLANK('Tenant Information'!E3263),\"\",'Tenant Information'!E3263)","v":""}]
[null,null,null,{"$f":"IF(ISBLANK('Tenant Information'!E3264),\"\",'Tenant Information'!E3264)","v":""}]
[null,null,null,{"$f":"IF(ISBLANK('Tenant Information'!E3265),\"\",'Tenant Information'!E3265)","v":""}]
[null,null,null,{"$f":"IF(ISBLANK('Tenant Information'!E3266),\"\",'Tenant Information'!E3266)","v":""}]
[null,null,null,{"$f":"IF(ISBLANK('Tenant Information'!E3267),\"\",'Tenant Information'!E3267)","v":""}]
[null,null,null,{"$f":"IF(ISBLANK('Tenant Information'!E3268),\"\",'Tenant Information'!E3268)","v":""}]
[null,null,null,{"$f":"IF(ISBLANK('Tenant Information'!E3269),\"\",'Tenant Information'!E3269)","v":""}]
[null,null,null,{"$f":"IF(ISBLANK('Tenant Information'!E3270),\"\",'Tenant Information'!E3270)","v":""}]
[null,null,null,{"$f":"IF(ISBLANK('Tenant Information'!E3271),\"\",'Tenant Information'!E3271)","v":""}]
[null,null,null,{"$f":"IF(ISBLANK('Tenant Information'!E3272),\"\",'Tenant Information'!E3272)","v":""}]
[null,null,null,{"$f":"IF(ISBLANK('Tenant Information'!E3273),\"\",'Tenant Information'!E3273)","v":""}]
[null,null,null,{"$f":"IF(ISBLANK('Tenant Information'!E3274),\"\",'Tenant Information'!E3274)","v":""}]
[null,null,null,{"$f":"IF(ISBLANK('Tenant Information'!E3275),\"\",'Tenant Information'!E3275)","v":""}]
[null,null,null,{"$f":"IF(ISBLANK('Tenant Information'!E3276),\"\",'Tenant Information'!E3276)","v":""}]
[null,null,null,{"$f":"IF(ISBLANK('Tenant Information'!E3277),\"\",'Tenant Information'!E3277)","v":""}]
[null,null,null,{"$f":"IF(ISBLANK('Tenant Information'!E3278),\"\",'Tenant Information'!E3278)","v":""}]
[null,null,null,{"$f":"IF(ISBLANK('Tenant Information'!E3279),\"\",'Tenant Information'!E3279)","v":""}]
[null,null,null,{"$f":"IF(ISBLANK('Tenant Information'!E3280),\"\",'Tenant Information'!E3280)","v":""}]
[null,null,null,{"$f":"IF(ISBLANK('Tenant Information'!E3281),\"\",'Tenant Information'!E3281)","v":""}]
[null,null,null,{"$f":"IF(ISBLANK('Tenant Information'!E3282),\"\",'Tenant Information'!E3282)","v":""}]
[null,null,null,{"$f":"IF(ISBLANK('Tenant Information'!E3283),\"\",'Tenant Information'!E3283)","v":""}]
[null,null,null,{"$f":"IF(ISBLANK('Tenant Information'!E3284),\"\",'Tenant Information'!E3284)","v":""}]
[null,null,null,{"$f":"IF(ISBLANK('Tenant Information'!E3285),\"\",'Tenant Information'!E3285)","v":""}]
[null,null,null,{"$f":"IF(ISBLANK('Tenant Information'!E3286),\"\",'Tenant Information'!E3286)","v":""}]
[null,null,null,{"$f":"IF(ISBLANK('Tenant Information'!E3287),\"\",'Tenant Information'!E3287)","v":""}]
[null,null,null,{"$f":"IF(ISBLANK('Tenant Information'!E3288),\"\",'Tenant Information'!E3288)","v":""}]
[null,null,null,{"$f":"IF(ISBLANK('Tenant Information'!E3289),\"\",'Tenant Information'!E3289)","v":""}]
[null,null,null,{"$f":"IF(ISBLANK('Tenant Information'!E3290),\"\",'Tenant Information'!E3290)","v":""}]
[null,null,null,{"$f":"IF(ISBLANK('Tenant Information'!E3291),\"\",'Tenant Information'!E3291)","v":""}]
[null,null,null,{"$f":"IF(ISBLANK('Tenant Information'!E3292),\"\",'Tenant Information'!E3292)","v":""}]
[null,null,null,{"$f":"IF(ISBLANK('Tenant Information'!E3293),\"\",'Tenant Information'!E3293)","v":""}]
[null,null,null,{"$f":"IF(ISBLANK('Tenant Information'!E3294),\"\",'Tenant Information'!E3294)","v":""}]
[null,null,null,{"$f":"IF(ISBLANK('Tenant Information'!E3295),\"\",'Tenant Information'!E3295)","v":""}]
[null,null,null,{"$f":"IF(ISBLANK('Tenant Information'!E3296),\"\",'Tenant Information'!E3296)","v":""}]
[null,null,null,{"$f":"IF(ISBLANK('Tenant Information'!E3297),\"\",'Tenant Information'!E3297)","v":""}]
[null,null,null,{"$f":"IF(ISBLANK('Tenant Information'!E3298),\"\",'Tenant Information'!E3298)","v":""}]
[null,null,null,{"$f":"IF(ISBLANK('Tenant Information'!E3299),\"\",'Tenant Information'!E3299)","v":""}]
[null,null,null,{"$f":"IF(ISBLANK('Tenant Information'!E3300),\"\",'Tenant Information'!E3300)","v":""}]
[null,null,null,{"$f":"IF(ISBLANK('Tenant Information'!E3301),\"\",'Tenant Information'!E3301)","v":""}]
[null,null,null,{"$f":"IF(ISBLANK('Tenant Information'!E3302),\"\",'Tenant Information'!E3302)","v":""}]
[null,null,null,{"$f":"IF(ISBLANK('Tenant Information'!E3303),\"\",'Tenant Information'!E3303)","v":""}]
[null,null,null,{"$f":"IF(ISBLANK('Tenant Information'!E3304),\"\",'Tenant Information'!E3304)","v":""}]
[null,null,null,{"$f":"IF(ISBLANK('Tenant Information'!E3305),\"\",'Tenant Information'!E3305)","v":""}]
[null,null,null,{"$f":"IF(ISBLANK('Tenant Information'!E3306),\"\",'Tenant Information'!E3306)","v":""}]
[null,null,null,{"$f":"IF(ISBLANK('Tenant Information'!E3307),\"\",'Tenant Information'!E3307)","v":""}]
[null,null,null,{"$f":"IF(ISBLANK('Tenant Information'!E3308),\"\",'Tenant Information'!E3308)","v":""}]
[null,null,null,{"$f":"IF(ISBLANK('Tenant Information'!E3309),\"\",'Tenant Information'!E3309)","v":""}]
[null,null,null,{"$f":"IF(ISBLANK('Tenant Information'!E3310),\"\",'Tenant Information'!E3310)","v":""}]
[null,null,null,{"$f":"IF(ISBLANK('Tenant Information'!E3311),\"\",'Tenant Information'!E3311)","v":""}]
[null,null,null,{"$f":"IF(ISBLANK('Tenant Information'!E3312),\"\",'Tenant Information'!E3312)","v":""}]
[null,null,null,{"$f":"IF(ISBLANK('Tenant Information'!E3313),\"\",'Tenant Information'!E3313)","v":""}]
[null,null,null,{"$f":"IF(ISBLANK('Tenant Information'!E3314),\"\",'Tenant Information'!E3314)","v":""}]
[null,null,null,{"$f":"IF(ISBLANK('Tenant Information'!E3315),\"\",'Tenant Information'!E3315)","v":""}]
[null,null,null,{"$f":"IF(ISBLANK('Tenant Information'!E3316),\"\",'Tenant Information'!E3316)","v":""}]
[null,null,null,{"$f":"IF(ISBLANK('Tenant Information'!E3317),\"\",'Tenant Information'!E3317)","v":""}]
[null,null,null,{"$f":"IF(ISBLANK('Tenant Information'!E3318),\"\",'Tenant Information'!E3318)","v":""}]
[null,null,null,{"$f":"IF(ISBLANK('Tenant Information'!E3319),\"\",'Tenant Information'!E3319)","v":""}]
[null,null,null,{"$f":"IF(ISBLANK('Tenant Information'!E3320),\"\",'Tenant Information'!E3320)","v":""}]
[null,null,null,{"$f":"IF(ISBLANK('Tenant Information'!E3321),\"\",'Tenant Information'!E3321)","v":""}]
[null,null,null,{"$f":"IF(ISBLANK('Tenant Information'!E3322),\"\",'Tenant Information'!E3322)","v":""}]
[null,null,null,{"$f":"IF(ISBLANK('Tenant Information'!E3323),\"\",'Tenant Information'!E3323)","v":""}]
[null,null,null,{"$f":"IF(ISBLANK('Tenant Information'!E3324),\"\",'Tenant Information'!E3324)","v":""}]
[null,null,null,{"$f":"IF(ISBLANK('Tenant Information'!E3325),\"\",'Tenant Information'!E3325)","v":""}]
[null,null,null,{"$f":"IF(ISBLANK('Tenant Information'!E3326),\"\",'Tenant Information'!E3326)","v":""}]
[null,null,null,{"$f":"IF(ISBLANK('Tenant Information'!E3327),\"\",'Tenant Information'!E3327)","v":""}]
[null,null,null,{"$f":"IF(ISBLANK('Tenant Information'!E3328),\"\",'Tenant Information'!E3328)","v":""}]
[null,null,null,{"$f":"IF(ISBLANK('Tenant Information'!E3329),\"\",'Tenant Information'!E3329)","v":""}]
[null,null,null,{"$f":"IF(ISBLANK('Tenant Information'!E3330),\"\",'Tenant Information'!E3330)","v":""}]
[null,null,null,{"$f":"IF(ISBLANK('Tenant Information'!E3331),\"\",'Tenant Information'!E3331)","v":""}]
[null,null,null,{"$f":"IF(ISBLANK('Tenant Information'!E3332),\"\",'Tenant Information'!E3332)","v":""}]
[null,null,null,{"$f":"IF(ISBLANK('Tenant Information'!E3333),\"\",'Tenant Information'!E3333)","v":""}]
[null,null,null,{"$f":"IF(ISBLANK('Tenant Information'!E3334),\"\",'Tenant Information'!E3334)","v":""}]
[null,null,null,{"$f":"IF(ISBLANK('Tenant Information'!E3335),\"\",'Tenant Information'!E3335)","v":""}]
[null,null,null,{"$f":"IF(ISBLANK('Tenant Information'!E3336),\"\",'Tenant Information'!E3336)","v":""}]
[null,null,null,{"$f":"IF(ISBLANK('Tenant Information'!E3337),\"\",'Tenant Information'!E3337)","v":""}]
[null,null,null,{"$f":"IF(ISBLANK('Tenant Information'!E3338),\"\",'Tenant Information'!E3338)","v":""}]
[null,null,null,{"$f":"IF(ISBLANK('Tenant Information'!E3339),\"\",'Tenant Information'!E3339)","v":""}]
[null,null,null,{"$f":"IF(ISBLANK('Tenant Information'!E3340),\"\",'Tenant Information'!E3340)","v":""}]
[null,null,null,{"$f":"IF(ISBLANK('Tenant Information'!E3341),\"\",'Tenant Information'!E3341)","v":""}]
[null,null,null,{"$f":"IF(ISBLANK('Tenant Information'!E3342),\"\",'Tenant Information'!E3342)","v":""}]
[null,null,null,{"$f":"IF(ISBLANK('Tenant Information'!E3343),\"\",'Tenant Information'!E3343)","v":""}]
[null,null,null,{"$f":"IF(ISBLANK('Tenant Information'!E3344),\"\",'Tenant Information'!E3344)","v":""}]
[null,null,null,{"$f":"IF(ISBLANK('Tenant Information'!E3345),\"\",'Tenant Information'!E3345)","v":""}]
[null,null,null,{"$f":"IF(ISBLANK('Tenant Information'!E3346),\"\",'Tenant Information'!E3346)","v":""}]
[null,null,null,{"$f":"IF(ISBLANK('Tenant Information'!E3347),\"\",'Tenant Information'!E3347)","v":""}]
[null,null,null,{"$f":"IF(ISBLANK('Tenant Information'!E3348),\"\",'Tenant Information'!E3348)","v":""}]
[null,null,null,{"$f":"IF(ISBLANK('Tenant Information'!E3349),\"\",'Tenant Information'!E3349)","v":""}]
[null,null,null,{"$f":"IF(ISBLANK('Tenant Information'!E3350),\"\",'Tenant Information'!E3350)","v":""}]
[null,null,null,{"$f":"IF(ISBLANK('Tenant Information'!E3351),\"\",'Tenant Information'!E3351)","v":""}]
[null,null,null,{"$f":"IF(ISBLANK('Tenant Information'!E3352),\"\",'Tenant Information'!E3352)","v":""}]
[null,null,null,{"$f":"IF(ISBLANK('Tenant Information'!E3353),\"\",'Tenant Information'!E3353)","v":""}]
[null,null,null,{"$f":"IF(ISBLANK('Tenant Information'!E3354),\"\",'Tenant Information'!E3354)","v":""}]
[null,null,null,{"$f":"IF(ISBLANK('Tenant Information'!E3355),\"\",'Tenant Information'!E3355)","v":""}]
[null,null,null,{"$f":"IF(ISBLANK('Tenant Information'!E3356),\"\",'Tenant Information'!E3356)","v":""}]
[null,null,null,{"$f":"IF(ISBLANK('Tenant Information'!E3357),\"\",'Tenant Information'!E3357)","v":""}]
[null,null,null,{"$f":"IF(ISBLANK('Tenant Information'!E3358),\"\",'Tenant Information'!E3358)","v":""}]
[null,null,null,{"$f":"IF(ISBLANK('Tenant Information'!E3359),\"\",'Tenant Information'!E3359)","v":""}]
[null,null,null,{"$f":"IF(ISBLANK('Tenant Information'!E3360),\"\",'Tenant Information'!E3360)","v":""}]
[null,null,null,{"$f":"IF(ISBLANK('Tenant Information'!E3361),\"\",'Tenant Information'!E3361)","v":""}]
[null,null,null,{"$f":"IF(ISBLANK('Tenant Information'!E3362),\"\",'Tenant Information'!E3362)","v":""}]
[null,null,null,{"$f":"IF(ISBLANK('Tenant Information'!E3363),\"\",'Tenant Information'!E3363)","v":""}]
[null,null,null,{"$f":"IF(ISBLANK('Tenant Information'!E3364),\"\",'Tenant Information'!E3364)","v":""}]
[null,null,null,{"$f":"IF(ISBLANK('Tenant Information'!E3365),\"\",'Tenant Information'!E3365)","v":""}]
[null,null,null,{"$f":"IF(ISBLANK('Tenant Information'!E3366),\"\",'Tenant Information'!E3366)","v":""}]
[null,null,null,{"$f":"IF(ISBLANK('Tenant Information'!E3367),\"\",'Tenant Information'!E3367)","v":""}]
[null,null,null,{"$f":"IF(ISBLANK('Tenant Information'!E3368),\"\",'Tenant Information'!E3368)","v":""}]
[null,null,null,{"$f":"IF(ISBLANK('Tenant Information'!E3369),\"\",'Tenant Information'!E3369)","v":""}]
[null,null,null,{"$f":"IF(ISBLANK('Tenant Information'!E3370),\"\",'Tenant Information'!E3370)","v":""}]
[null,null,null,{"$f":"IF(ISBLANK('Tenant Information'!E3371),\"\",'Tenant Information'!E3371)","v":""}]
[null,null,null,{"$f":"IF(ISBLANK('Tenant Information'!E3372),\"\",'Tenant Information'!E3372)","v":""}]
[null,null,null,{"$f":"IF(ISBLANK('Tenant Information'!E3373),\"\",'Tenant Information'!E3373)","v":""}]
[null,null,null,{"$f":"IF(ISBLANK('Tenant Information'!E3374),\"\",'Tenant Information'!E3374)","v":""}]
[null,null,null,{"$f":"IF(ISBLANK('Tenant Information'!E3375),\"\",'Tenant Information'!E3375)","v":""}]
[null,null,null,{"$f":"IF(ISBLANK('Tenant Information'!E3376),\"\",'Tenant Information'!E3376)","v":""}]
[null,null,null,{"$f":"IF(ISBLANK('Tenant Information'!E3377),\"\",'Tenant Information'!E3377)","v":""}]
[null,null,null,{"$f":"IF(ISBLANK('Tenant Information'!E3378),\"\",'Tenant Information'!E3378)","v":""}]
[null,null,null,{"$f":"IF(ISBLANK('Tenant Information'!E3379),\"\",'Tenant Information'!E3379)","v":""}]
[null,null,null,{"$f":"IF(ISBLANK('Tenant Information'!E3380),\"\",'Tenant Information'!E3380)","v":""}]
[null,null,null,{"$f":"IF(ISBLANK('Tenant Information'!E3381),\"\",'Tenant Information'!E3381)","v":""}]
[null,null,null,{"$f":"IF(ISBLANK('Tenant Information'!E3382),\"\",'Tenant Information'!E3382)","v":""}]
[null,null,null,{"$f":"IF(ISBLANK('Tenant Information'!E3383),\"\",'Tenant Information'!E3383)","v":""}]
[null,null,null,{"$f":"IF(ISBLANK('Tenant Information'!E3384),\"\",'Tenant Information'!E3384)","v":""}]
[null,null,null,{"$f":"IF(ISBLANK('Tenant Information'!E3385),\"\",'Tenant Information'!E3385)","v":""}]
[null,null,null,{"$f":"IF(ISBLANK('Tenant Information'!E3386),\"\",'Tenant Information'!E3386)","v":""}]
[null,null,null,{"$f":"IF(ISBLANK('Tenant Information'!E3387),\"\",'Tenant Information'!E3387)","v":""}]
[null,null,null,{"$f":"IF(ISBLANK('Tenant Information'!E3388),\"\",'Tenant Information'!E3388)","v":""}]
[null,null,null,{"$f":"IF(ISBLANK('Tenant Information'!E3389),\"\",'Tenant Information'!E3389)","v":""}]
[null,null,null,{"$f":"IF(ISBLANK('Tenant Information'!E3390),\"\",'Tenant Information'!E3390)","v":""}]
[null,null,null,{"$f":"IF(ISBLANK('Tenant Information'!E3391),\"\",'Tenant Information'!E3391)","v":""}]
[null,null,null,{"$f":"IF(ISBLANK('Tenant Information'!E3392),\"\",'Tenant Information'!E3392)","v":""}]
[null,null,null,{"$f":"IF(ISBLANK('Tenant Information'!E3393),\"\",'Tenant Information'!E3393)","v":""}]
[null,null,null,{"$f":"IF(ISBLANK('Tenant Information'!E3394),\"\",'Tenant Information'!E3394)","v":""}]
[null,null,null,{"$f":"IF(ISBLANK('Tenant Information'!E3395),\"\",'Tenant Information'!E3395)","v":""}]
[null,null,null,{"$f":"IF(ISBLANK('Tenant Information'!E3396),\"\",'Tenant Information'!E3396)","v":""}]
[null,null,null,{"$f":"IF(ISBLANK('Tenant Information'!E3397),\"\",'Tenant Information'!E3397)","v":""}]
[null,null,null,{"$f":"IF(ISBLANK('Tenant Information'!E3398),\"\",'Tenant Information'!E3398)","v":""}]
[null,null,null,{"$f":"IF(ISBLANK('Tenant Information'!E3399),\"\",'Tenant Information'!E3399)","v":""}]
[null,null,null,{"$f":"IF(ISBLANK('Tenant Information'!E3400),\"\",'Tenant Information'!E3400)","v":""}]
[null,null,null,{"$f":"IF(ISBLANK('Tenant Information'!E3401),\"\",'Tenant Information'!E3401)","v":""}]
[null,null,null,{"$f":"IF(ISBLANK('Tenant Information'!E3402),\"\",'Tenant Information'!E3402)","v":""}]
[null,null,null,{"$f":"IF(ISBLANK('Tenant Information'!E3403),\"\",'Tenant Information'!E3403)","v":""}]
[null,null,null,{"$f":"IF(ISBLANK('Tenant Information'!E3404),\"\",'Tenant Information'!E3404)","v":""}]
[null,null,null,{"$f":"IF(ISBLANK('Tenant Information'!E3405),\"\",'Tenant Information'!E3405)","v":""}]
[null,null,null,{"$f":"IF(ISBLANK('Tenant Information'!E3406),\"\",'Tenant Information'!E3406)","v":""}]
[null,null,null,{"$f":"IF(ISBLANK('Tenant Information'!E3407),\"\",'Tenant Information'!E3407)","v":""}]
[null,null,null,{"$f":"IF(ISBLANK('Tenant Information'!E3408),\"\",'Tenant Information'!E3408)","v":""}]
[null,null,null,{"$f":"IF(ISBLANK('Tenant Information'!E3409),\"\",'Tenant Information'!E3409)","v":""}]
[null,null,null,{"$f":"IF(ISBLANK('Tenant Information'!E3410),\"\",'Tenant Information'!E3410)","v":""}]
[null,null,null,{"$f":"IF(ISBLANK('Tenant Information'!E3411),\"\",'Tenant Information'!E3411)","v":""}]
[null,null,null,{"$f":"IF(ISBLANK('Tenant Information'!E3412),\"\",'Tenant Information'!E3412)","v":""}]
[null,null,null,{"$f":"IF(ISBLANK('Tenant Information'!E3413),\"\",'Tenant Information'!E3413)","v":""}]
[null,null,null,{"$f":"IF(ISBLANK('Tenant Information'!E3414),\"\",'Tenant Information'!E3414)","v":""}]
[null,null,null,{"$f":"IF(ISBLANK('Tenant Information'!E3415),\"\",'Tenant Information'!E3415)","v":""}]
[null,null,null,{"$f":"IF(ISBLANK('Tenant Information'!E3416),\"\",'Tenant Information'!E3416)","v":""}]
[null,null,null,{"$f":"IF(ISBLANK('Tenant Information'!E3417),\"\",'Tenant Information'!E3417)","v":""}]
[null,null,null,{"$f":"IF(ISBLANK('Tenant Information'!E3418),\"\",'Tenant Information'!E3418)","v":""}]
[null,null,null,{"$f":"IF(ISBLANK('Tenant Information'!E3419),\"\",'Tenant Information'!E3419)","v":""}]
[null,null,null,{"$f":"IF(ISBLANK('Tenant Information'!E3420),\"\",'Tenant Information'!E3420)","v":""}]
[null,null,null,{"$f":"IF(ISBLANK('Tenant Information'!E3421),\"\",'Tenant Information'!E3421)","v":""}]
[null,null,null,{"$f":"IF(ISBLANK('Tenant Information'!E3422),\"\",'Tenant Information'!E3422)","v":""}]
[null,null,null,{"$f":"IF(ISBLANK('Tenant Information'!E3423),\"\",'Tenant Information'!E3423)","v":""}]
[null,null,null,{"$f":"IF(ISBLANK('Tenant Information'!E3424),\"\",'Tenant Information'!E3424)","v":""}]
[null,null,null,{"$f":"IF(ISBLANK('Tenant Information'!E3425),\"\",'Tenant Information'!E3425)","v":""}]
[null,null,null,{"$f":"IF(ISBLANK('Tenant Information'!E3426),\"\",'Tenant Information'!E3426)","v":""}]
[null,null,null,{"$f":"IF(ISBLANK('Tenant Information'!E3427),\"\",'Tenant Information'!E3427)","v":""}]
[null,null,null,{"$f":"IF(ISBLANK('Tenant Information'!E3428),\"\",'Tenant Information'!E3428)","v":""}]
[null,null,null,{"$f":"IF(ISBLANK('Tenant Information'!E3429),\"\",'Tenant Information'!E3429)","v":""}]
[null,null,null,{"$f":"IF(ISBLANK('Tenant Information'!E3430),\"\",'Tenant Information'!E3430)","v":""}]
[null,null,null,{"$f":"IF(ISBLANK('Tenant Information'!E3431),\"\",'Tenant Information'!E3431)","v":""}]
[null,null,null,{"$f":"IF(ISBLANK('Tenant Information'!E3432),\"\",'Tenant Information'!E3432)","v":""}]
[null,null,null,{"$f":"IF(ISBLANK('Tenant Information'!E3433),\"\",'Tenant Information'!E3433)","v":""}]
[null,null,null,{"$f":"IF(ISBLANK('Tenant Information'!E3434),\"\",'Tenant Information'!E3434)","v":""}]
[null,null,null,{"$f":"IF(ISBLANK('Tenant Information'!E3435),\"\",'Tenant Information'!E3435)","v":""}]
[null,null,null,{"$f":"IF(ISBLANK('Tenant Information'!E3436),\"\",'Tenant Information'!E3436)","v":""}]
[null,null,null,{"$f":"IF(ISBLANK('Tenant Information'!E3437),\"\",'Tenant Information'!E3437)","v":""}]
[null,null,null,{"$f":"IF(ISBLANK('Tenant Information'!E3438),\"\",'Tenant Information'!E3438)","v":""}]
[null,null,null,{"$f":"IF(ISBLANK('Tenant Information'!E3439),\"\",'Tenant Information'!E3439)","v":""}]
[null,null,null,{"$f":"IF(ISBLANK('Tenant Information'!E3440),\"\",'Tenant Information'!E3440)","v":""}]
[null,null,null,{"$f":"IF(ISBLANK('Tenant Information'!E3441),\"\",'Tenant Information'!E3441)","v":""}]
[null,null,null,{"$f":"IF(ISBLANK('Tenant Information'!E3442),\"\",'Tenant Information'!E3442)","v":""}]
[null,null,null,{"$f":"IF(ISBLANK('Tenant Information'!E3443),\"\",'Tenant Information'!E3443)","v":""}]
[null,null,null,{"$f":"IF(ISBLANK('Tenant Information'!E3444),\"\",'Tenant Information'!E3444)","v":""}]
[null,null,null,{"$f":"IF(ISBLANK('Tenant Information'!E3445),\"\",'Tenant Information'!E3445)","v":""}]
[null,null,null,{"$f":"IF(ISBLANK('Tenant Information'!E3446),\"\",'Tenant Information'!E3446)","v":""}]
[null,null,null,{"$f":"IF(ISBLANK('Tenant Information'!E3447),\"\",'Tenant Information'!E3447)","v":""}]
[null,null,null,{"$f":"IF(ISBLANK('Tenant Information'!E3448),\"\",'Tenant Information'!E3448)","v":""}]
[null,null,null,{"$f":"IF(ISBLANK('Tenant Information'!E3449),\"\",'Tenant Information'!E3449)","v":""}]
[null,null,null,{"$f":"IF(ISBLANK('Tenant Information'!E3450),\"\",'Tenant Information'!E3450)","v":""}]
[null,null,null,{"$f":"IF(ISBLANK('Tenant Information'!E3451),\"\",'Tenant Information'!E3451)","v":""}]
[null,null,null,{"$f":"IF(ISBLANK('Tenant Information'!E3452),\"\",'Tenant Information'!E3452)","v":""}]
[null,null,null,{"$f":"IF(ISBLANK('Tenant Information'!E3453),\"\",'Tenant Information'!E3453)","v":""}]
[null,null,null,{"$f":"IF(ISBLANK('Tenant Information'!E3454),\"\",'Tenant Information'!E3454)","v":""}]
[null,null,null,{"$f":"IF(ISBLANK('Tenant Information'!E3455),\"\",'Tenant Information'!E3455)","v":""}]
[null,null,null,{"$f":"IF(ISBLANK('Tenant Information'!E3456),\"\",'Tenant Information'!E3456)","v":""}]
[null,null,null,{"$f":"IF(ISBLANK('Tenant Information'!E3457),\"\",'Tenant Information'!E3457)","v":""}]
[null,null,null,{"$f":"IF(ISBLANK('Tenant Information'!E3458),\"\",'Tenant Information'!E3458)","v":""}]
[null,null,null,{"$f":"IF(ISBLANK('Tenant Information'!E3459),\"\",'Tenant Information'!E3459)","v":""}]
[null,null,null,{"$f":"IF(ISBLANK('Tenant Information'!E3460),\"\",'Tenant Information'!E3460)","v":""}]
[null,null,null,{"$f":"IF(ISBLANK('Tenant Information'!E3461),\"\",'Tenant Information'!E3461)","v":""}]
[null,null,null,{"$f":"IF(ISBLANK('Tenant Information'!E3462),\"\",'Tenant Information'!E3462)","v":""}]
[null,null,null,{"$f":"IF(ISBLANK('Tenant Information'!E3463),\"\",'Tenant Information'!E3463)","v":""}]
[null,null,null,{"$f":"IF(ISBLANK('Tenant Information'!E3464),\"\",'Tenant Information'!E3464)","v":""}]
[null,null,null,{"$f":"IF(ISBLANK('Tenant Information'!E3465),\"\",'Tenant Information'!E3465)","v":""}]
[null,null,null,{"$f":"IF(ISBLANK('Tenant Information'!E3466),\"\",'Tenant Information'!E3466)","v":""}]
[null,null,null,{"$f":"IF(ISBLANK('Tenant Information'!E3467),\"\",'Tenant Information'!E3467)","v":""}]
[null,null,null,{"$f":"IF(ISBLANK('Tenant Information'!E3468),\"\",'Tenant Information'!E3468)","v":""}]
[null,null,null,{"$f":"IF(ISBLANK('Tenant Information'!E3469),\"\",'Tenant Information'!E3469)","v":""}]
[null,null,null,{"$f":"IF(ISBLANK('Tenant Information'!E3470),\"\",'Tenant Information'!E3470)","v":""}]
[null,null,null,{"$f":"IF(ISBLANK('Tenant Information'!E3471),\"\",'Tenant Information'!E3471)","v":""}]
[null,null,null,{"$f":"IF(ISBLANK('Tenant Information'!E3472),\"\",'Tenant Information'!E3472)","v":""}]
[null,null,null,{"$f":"IF(ISBLANK('Tenant Information'!E3473),\"\",'Tenant Information'!E3473)","v":""}]
[null,null,null,{"$f":"IF(ISBLANK('Tenant Information'!E3474),\"\",'Tenant Information'!E3474)","v":""}]
[null,null,null,{"$f":"IF(ISBLANK('Tenant Information'!E3475),\"\",'Tenant Information'!E3475)","v":""}]
[null,null,null,{"$f":"IF(ISBLANK('Tenant Information'!E3476),\"\",'Tenant Information'!E3476)","v":""}]
[null,null,null,{"$f":"IF(ISBLANK('Tenant Information'!E3477),\"\",'Tenant Information'!E3477)","v":""}]
[null,null,null,{"$f":"IF(ISBLANK('Tenant Information'!E3478),\"\",'Tenant Information'!E3478)","v":""}]
[null,null,null,{"$f":"IF(ISBLANK('Tenant Information'!E3479),\"\",'Tenant Information'!E3479)","v":""}]
[null,null,null,{"$f":"IF(ISBLANK('Tenant Information'!E3480),\"\",'Tenant Information'!E3480)","v":""}]
[null,null,null,{"$f":"IF(ISBLANK('Tenant Information'!E3481),\"\",'Tenant Information'!E3481)","v":""}]
[null,null,null,{"$f":"IF(ISBLANK('Tenant Information'!E3482),\"\",'Tenant Information'!E3482)","v":""}]
[null,null,null,{"$f":"IF(ISBLANK('Tenant Information'!E3483),\"\",'Tenant Information'!E3483)","v":""}]
[null,null,null,{"$f":"IF(ISBLANK('Tenant Information'!E3484),\"\",'Tenant Information'!E3484)","v":""}]
[null,null,null,{"$f":"IF(ISBLANK('Tenant Information'!E3485),\"\",'Tenant Information'!E3485)","v":""}]
[null,null,null,{"$f":"IF(ISBLANK('Tenant Information'!E3486),\"\",'Tenant Information'!E3486)","v":""}]
[null,null,null,{"$f":"IF(ISBLANK('Tenant Information'!E3487),\"\",'Tenant Information'!E3487)","v":""}]
[null,null,null,{"$f":"IF(ISBLANK('Tenant Information'!E3488),\"\",'Tenant Information'!E3488)","v":""}]
[null,null,null,{"$f":"IF(ISBLANK('Tenant Information'!E3489),\"\",'Tenant Information'!E3489)","v":""}]
[null,null,null,{"$f":"IF(ISBLANK('Tenant Information'!E3490),\"\",'Tenant Information'!E3490)","v":""}]
[null,null,null,{"$f":"IF(ISBLANK('Tenant Information'!E3491),\"\",'Tenant Information'!E3491)","v":""}]
[null,null,null,{"$f":"IF(ISBLANK('Tenant Information'!E3492),\"\",'Tenant Information'!E3492)","v":""}]
[null,null,null,{"$f":"IF(ISBLANK('Tenant Information'!E3493),\"\",'Tenant Information'!E3493)","v":""}]
[null,null,null,{"$f":"IF(ISBLANK('Tenant Information'!E3494),\"\",'Tenant Information'!E3494)","v":""}]
[null,null,null,{"$f":"IF(ISBLANK('Tenant Information'!E3495),\"\",'Tenant Information'!E3495)","v":""}]
[null,null,null,{"$f":"IF(ISBLANK('Tenant Information'!E3496),\"\",'Tenant Information'!E3496)","v":""}]
[null,null,null,{"$f":"IF(ISBLANK('Tenant Information'!E3497),\"\",'Tenant Information'!E3497)","v":""}]
[null,null,null,{"$f":"IF(ISBLANK('Tenant Information'!E3498),\"\",'Tenant Information'!E3498)","v":""}]
[null,null,null,{"$f":"IF(ISBLANK('Tenant Information'!E3499),\"\",'Tenant Information'!E3499)","v":""}]
[null,null,null,{"$f":"IF(ISBLANK('Tenant Information'!E3500),\"\",'Tenant Information'!E3500)","v":""}]
[null,null,null,{"$f":"IF(ISBLANK('Tenant Information'!E3501),\"\",'Tenant Information'!E3501)","v":""}]
[null,null,null,{"$f":"IF(ISBLANK('Tenant Information'!E3502),\"\",'Tenant Information'!E3502)","v":""}]
[null,null,null,{"$f":"IF(ISBLANK('Tenant Information'!E3503),\"\",'Tenant Information'!E3503)","v":""}]
[null,null,null,{"$f":"IF(ISBLANK('Tenant Information'!E3504),\"\",'Tenant Information'!E3504)","v":""}]
[null,null,null,{"$f":"IF(ISBLANK('Tenant Information'!E3505),\"\",'Tenant Information'!E3505)","v":""}]
[null,null,null,{"$f":"IF(ISBLANK('Tenant Information'!E3506),\"\",'Tenant Information'!E3506)","v":""}]
[null,null,null,{"$f":"IF(ISBLANK('Tenant Information'!E3507),\"\",'Tenant Information'!E3507)","v":""}]
[null,null,null,{"$f":"IF(ISBLANK('Tenant Information'!E3508),\"\",'Tenant Information'!E3508)","v":""}]
[null,null,null,{"$f":"IF(ISBLANK('Tenant Information'!E3509),\"\",'Tenant Information'!E3509)","v":""}]
[null,null,null,{"$f":"IF(ISBLANK('Tenant Information'!E3510),\"\",'Tenant Information'!E3510)","v":""}]
[null,null,null,{"$f":"IF(ISBLANK('Tenant Information'!E3511),\"\",'Tenant Information'!E3511)","v":""}]
[null,null,null,{"$f":"IF(ISBLANK('Tenant Information'!E3512),\"\",'Tenant Information'!E3512)","v":""}]
[null,null,null,{"$f":"IF(ISBLANK('Tenant Information'!E3513),\"\",'Tenant Information'!E3513)","v":""}]
[null,null,null,{"$f":"IF(ISBLANK('Tenant Information'!E3514),\"\",'Tenant Information'!E3514)","v":""}]
[null,null,null,{"$f":"IF(ISBLANK('Tenant Information'!E3515),\"\",'Tenant Information'!E3515)","v":""}]
[null,null,null,{"$f":"IF(ISBLANK('Tenant Information'!E3516),\"\",'Tenant Information'!E3516)","v":""}]
[null,null,null,{"$f":"IF(ISBLANK('Tenant Information'!E3517),\"\",'Tenant Information'!E3517)","v":""}]
[null,null,null,{"$f":"IF(ISBLANK('Tenant Information'!E3518),\"\",'Tenant Information'!E3518)","v":""}]
[null,null,null,{"$f":"IF(ISBLANK('Tenant Information'!E3519),\"\",'Tenant Information'!E3519)","v":""}]
[null,null,null,{"$f":"IF(ISBLANK('Tenant Information'!E3520),\"\",'Tenant Information'!E3520)","v":""}]
[null,null,null,{"$f":"IF(ISBLANK('Tenant Information'!E3521),\"\",'Tenant Information'!E3521)","v":""}]
[null,null,null,{"$f":"IF(ISBLANK('Tenant Information'!E3522),\"\",'Tenant Information'!E3522)","v":""}]
[null,null,null,{"$f":"IF(ISBLANK('Tenant Information'!E3523),\"\",'Tenant Information'!E3523)","v":""}]
[null,null,null,{"$f":"IF(ISBLANK('Tenant Information'!E3524),\"\",'Tenant Information'!E3524)","v":""}]
[null,null,null,{"$f":"IF(ISBLANK('Tenant Information'!E3525),\"\",'Tenant Information'!E3525)","v":""}]
[null,null,null,{"$f":"IF(ISBLANK('Tenant Information'!E3526),\"\",'Tenant Information'!E3526)","v":""}]
[null,null,null,{"$f":"IF(ISBLANK('Tenant Information'!E3527),\"\",'Tenant Information'!E3527)","v":""}]
[null,null,null,{"$f":"IF(ISBLANK('Tenant Information'!E3528),\"\",'Tenant Information'!E3528)","v":""}]
[null,null,null,{"$f":"IF(ISBLANK('Tenant Information'!E3529),\"\",'Tenant Information'!E3529)","v":""}]
[null,null,null,{"$f":"IF(ISBLANK('Tenant Information'!E3530),\"\",'Tenant Information'!E3530)","v":""}]
[null,null,null,{"$f":"IF(ISBLANK('Tenant Information'!E3531),\"\",'Tenant Information'!E3531)","v":""}]
[null,null,null,{"$f":"IF(ISBLANK('Tenant Information'!E3532),\"\",'Tenant Information'!E3532)","v":""}]
[null,null,null,{"$f":"IF(ISBLANK('Tenant Information'!E3533),\"\",'Tenant Information'!E3533)","v":""}]
[null,null,null,{"$f":"IF(ISBLANK('Tenant Information'!E3534),\"\",'Tenant Information'!E3534)","v":""}]
[null,null,null,{"$f":"IF(ISBLANK('Tenant Information'!E3535),\"\",'Tenant Information'!E3535)","v":""}]
[null,null,null,{"$f":"IF(ISBLANK('Tenant Information'!E3536),\"\",'Tenant Information'!E3536)","v":""}]
[null,null,null,{"$f":"IF(ISBLANK('Tenant Information'!E3537),\"\",'Tenant Information'!E3537)","v":""}]
[null,null,null,{"$f":"IF(ISBLANK('Tenant Information'!E3538),\"\",'Tenant Information'!E3538)","v":""}]
[null,null,null,{"$f":"IF(ISBLANK('Tenant Information'!E3539),\"\",'Tenant Information'!E3539)","v":""}]
[null,null,null,{"$f":"IF(ISBLANK('Tenant Information'!E3540),\"\",'Tenant Information'!E3540)","v":""}]
[null,null,null,{"$f":"IF(ISBLANK('Tenant Information'!E3541),\"\",'Tenant Information'!E3541)","v":""}]
[null,null,null,{"$f":"IF(ISBLANK('Tenant Information'!E3542),\"\",'Tenant Information'!E3542)","v":""}]
[null,null,null,{"$f":"IF(ISBLANK('Tenant Information'!E3543),\"\",'Tenant Information'!E3543)","v":""}]
[null,null,null,{"$f":"IF(ISBLANK('Tenant Information'!E3544),\"\",'Tenant Information'!E3544)","v":""}]
[null,null,null,{"$f":"IF(ISBLANK('Tenant Information'!E3545),\"\",'Tenant Information'!E3545)","v":""}]
[null,null,null,{"$f":"IF(ISBLANK('Tenant Information'!E3546),\"\",'Tenant Information'!E3546)","v":""}]
[null,null,null,{"$f":"IF(ISBLANK('Tenant Information'!E3547),\"\",'Tenant Information'!E3547)","v":""}]
[null,null,null,{"$f":"IF(ISBLANK('Tenant Information'!E3548),\"\",'Tenant Information'!E3548)","v":""}]
[null,null,null,{"$f":"IF(ISBLANK('Tenant Information'!E3549),\"\",'Tenant Information'!E3549)","v":""}]
[null,null,null,{"$f":"IF(ISBLANK('Tenant Information'!E3550),\"\",'Tenant Information'!E3550)","v":""}]
[null,null,null,{"$f":"IF(ISBLANK('Tenant Information'!E3551),\"\",'Tenant Information'!E3551)","v":""}]
[null,null,null,{"$f":"IF(ISBLANK('Tenant Information'!E3552),\"\",'Tenant Information'!E3552)","v":""}]
[null,null,null,{"$f":"IF(ISBLANK('Tenant Information'!E3553),\"\",'Tenant Information'!E3553)","v":""}]
[null,null,null,{"$f":"IF(ISBLANK('Tenant Information'!E3554),\"\",'Tenant Information'!E3554)","v":""}]
[null,null,null,{"$f":"IF(ISBLANK('Tenant Information'!E3555),\"\",'Tenant Information'!E3555)","v":""}]
[null,null,null,{"$f":"IF(ISBLANK('Tenant Information'!E3556),\"\",'Tenant Information'!E3556)","v":""}]
[null,null,null,{"$f":"IF(ISBLANK('Tenant Information'!E3557),\"\",'Tenant Information'!E3557)","v":""}]
[null,null,null,{"$f":"IF(ISBLANK('Tenant Information'!E3558),\"\",'Tenant Information'!E3558)","v":""}]
[null,null,null,{"$f":"IF(ISBLANK('Tenant Information'!E3559),\"\",'Tenant Information'!E3559)","v":""}]
[null,null,null,{"$f":"IF(ISBLANK('Tenant Information'!E3560),\"\",'Tenant Information'!E3560)","v":""}]
[null,null,null,{"$f":"IF(ISBLANK('Tenant Information'!E3561),\"\",'Tenant Information'!E3561)","v":""}]
[null,null,null,{"$f":"IF(ISBLANK('Tenant Information'!E3562),\"\",'Tenant Information'!E3562)","v":""}]
[null,null,null,{"$f":"IF(ISBLANK('Tenant Information'!E3563),\"\",'Tenant Information'!E3563)","v":""}]
[null,null,null,{"$f":"IF(ISBLANK('Tenant Information'!E3564),\"\",'Tenant Information'!E3564)","v":""}]
[null,null,null,{"$f":"IF(ISBLANK('Tenant Information'!E3565),\"\",'Tenant Information'!E3565)","v":""}]
[null,null,null,{"$f":"IF(ISBLANK('Tenant Information'!E3566),\"\",'Tenant Information'!E3566)","v":""}]
[null,null,null,{"$f":"IF(ISBLANK('Tenant Information'!E3567),\"\",'Tenant Information'!E3567)","v":""}]
[null,null,null,{"$f":"IF(ISBLANK('Tenant Information'!E3568),\"\",'Tenant Information'!E3568)","v":""}]
[null,null,null,{"$f":"IF(ISBLANK('Tenant Information'!E3569),\"\",'Tenant Information'!E3569)","v":""}]
[null,null,null,{"$f":"IF(ISBLANK('Tenant Information'!E3570),\"\",'Tenant Information'!E3570)","v":""}]
[null,null,null,{"$f":"IF(ISBLANK('Tenant Information'!E3571),\"\",'Tenant Information'!E3571)","v":""}]
[null,null,null,{"$f":"IF(ISBLANK('Tenant Information'!E3572),\"\",'Tenant Information'!E3572)","v":""}]
[null,null,null,{"$f":"IF(ISBLANK('Tenant Information'!E3573),\"\",'Tenant Information'!E3573)","v":""}]
[null,null,null,{"$f":"IF(ISBLANK('Tenant Information'!E3574),\"\",'Tenant Information'!E3574)","v":""}]
[null,null,null,{"$f":"IF(ISBLANK('Tenant Information'!E3575),\"\",'Tenant Information'!E3575)","v":""}]
[null,null,null,{"$f":"IF(ISBLANK('Tenant Information'!E3576),\"\",'Tenant Information'!E3576)","v":""}]
[null,null,null,{"$f":"IF(ISBLANK('Tenant Information'!E3577),\"\",'Tenant Information'!E3577)","v":""}]
[null,null,null,{"$f":"IF(ISBLANK('Tenant Information'!E3578),\"\",'Tenant Information'!E3578)","v":""}]
[null,null,null,{"$f":"IF(ISBLANK('Tenant Information'!E3579),\"\",'Tenant Information'!E3579)","v":""}]
[null,null,null,{"$f":"IF(ISBLANK('Tenant Information'!E3580),\"\",'Tenant Information'!E3580)","v":""}]
[null,null,null,{"$f":"IF(ISBLANK('Tenant Information'!E3581),\"\",'Tenant Information'!E3581)","v":""}]
[null,null,null,{"$f":"IF(ISBLANK('Tenant Information'!E3582),\"\",'Tenant Information'!E3582)","v":""}]
[null,null,null,{"$f":"IF(ISBLANK('Tenant Information'!E3583),\"\",'Tenant Information'!E3583)","v":""}]
[null,null,null,{"$f":"IF(ISBLANK('Tenant Information'!E3584),\"\",'Tenant Information'!E3584)","v":""}]
[null,null,null,{"$f":"IF(ISBLANK('Tenant Information'!E3585),\"\",'Tenant Information'!E3585)","v":""}]
[null,null,null,{"$f":"IF(ISBLANK('Tenant Information'!E3586),\"\",'Tenant Information'!E3586)","v":""}]
[null,null,null,{"$f":"IF(ISBLANK('Tenant Information'!E3587),\"\",'Tenant Information'!E3587)","v":""}]
[null,null,null,{"$f":"IF(ISBLANK('Tenant Information'!E3588),\"\",'Tenant Information'!E3588)","v":""}]
[null,null,null,{"$f":"IF(ISBLANK('Tenant Information'!E3589),\"\",'Tenant Information'!E3589)","v":""}]
[null,null,null,{"$f":"IF(ISBLANK('Tenant Information'!E3590),\"\",'Tenant Information'!E3590)","v":""}]
[null,null,null,{"$f":"IF(ISBLANK('Tenant Information'!E3591),\"\",'Tenant Information'!E3591)","v":""}]
[null,null,null,{"$f":"IF(ISBLANK('Tenant Information'!E3592),\"\",'Tenant Information'!E3592)","v":""}]
[null,null,null,{"$f":"IF(ISBLANK('Tenant Information'!E3593),\"\",'Tenant Information'!E3593)","v":""}]
[null,null,null,{"$f":"IF(ISBLANK('Tenant Information'!E3594),\"\",'Tenant Information'!E3594)","v":""}]
[null,null,null,{"$f":"IF(ISBLANK('Tenant Information'!E3595),\"\",'Tenant Information'!E3595)","v":""}]
[null,null,null,{"$f":"IF(ISBLANK('Tenant Information'!E3596),\"\",'Tenant Information'!E3596)","v":""}]
[null,null,null,{"$f":"IF(ISBLANK('Tenant Information'!E3597),\"\",'Tenant Information'!E3597)","v":""}]
[null,null,null,{"$f":"IF(ISBLANK('Tenant Information'!E3598),\"\",'Tenant Information'!E3598)","v":""}]
[null,null,null,{"$f":"IF(ISBLANK('Tenant Information'!E3599),\"\",'Tenant Information'!E3599)","v":""}]
[null,null,null,{"$f":"IF(ISBLANK('Tenant Information'!E3600),\"\",'Tenant Information'!E3600)","v":""}]
[null,null,null,{"$f":"IF(ISBLANK('Tenant Information'!E3601),\"\",'Tenant Information'!E3601)","v":""}]
[null,null,null,{"$f":"IF(ISBLANK('Tenant Information'!E3602),\"\",'Tenant Information'!E3602)","v":""}]
[null,null,null,{"$f":"IF(ISBLANK('Tenant Information'!E3603),\"\",'Tenant Information'!E3603)","v":""}]
[null,null,null,{"$f":"IF(ISBLANK('Tenant Information'!E3604),\"\",'Tenant Information'!E3604)","v":""}]
[null,null,null,{"$f":"IF(ISBLANK('Tenant Information'!E3605),\"\",'Tenant Information'!E3605)","v":""}]
[null,null,null,{"$f":"IF(ISBLANK('Tenant Information'!E3606),\"\",'Tenant Information'!E3606)","v":""}]
[null,null,null,{"$f":"IF(ISBLANK('Tenant Information'!E3607),\"\",'Tenant Information'!E3607)","v":""}]
[null,null,null,{"$f":"IF(ISBLANK('Tenant Information'!E3608),\"\",'Tenant Information'!E3608)","v":""}]
[null,null,null,{"$f":"IF(ISBLANK('Tenant Information'!E3609),\"\",'Tenant Information'!E3609)","v":""}]
[null,null,null,{"$f":"IF(ISBLANK('Tenant Information'!E3610),\"\",'Tenant Information'!E3610)","v":""}]
[null,null,null,{"$f":"IF(ISBLANK('Tenant Information'!E3611),\"\",'Tenant Information'!E3611)","v":""}]
[null,null,null,{"$f":"IF(ISBLANK('Tenant Information'!E3612),\"\",'Tenant Information'!E3612)","v":""}]
[null,null,null,{"$f":"IF(ISBLANK('Tenant Information'!E3613),\"\",'Tenant Information'!E3613)","v":""}]
[null,null,null,{"$f":"IF(ISBLANK('Tenant Information'!E3614),\"\",'Tenant Information'!E3614)","v":""}]
[null,null,null,{"$f":"IF(ISBLANK('Tenant Information'!E3615),\"\",'Tenant Information'!E3615)","v":""}]
[null,null,null,{"$f":"IF(ISBLANK('Tenant Information'!E3616),\"\",'Tenant Information'!E3616)","v":""}]
[null,null,null,{"$f":"IF(ISBLANK('Tenant Information'!E3617),\"\",'Tenant Information'!E3617)","v":""}]
[null,null,null,{"$f":"IF(ISBLANK('Tenant Information'!E3618),\"\",'Tenant Information'!E3618)","v":""}]
[null,null,null,{"$f":"IF(ISBLANK('Tenant Information'!E3619),\"\",'Tenant Information'!E3619)","v":""}]
[null,null,null,{"$f":"IF(ISBLANK('Tenant Information'!E3620),\"\",'Tenant Information'!E3620)","v":""}]
[null,null,null,{"$f":"IF(ISBLANK('Tenant Information'!E3621),\"\",'Tenant Information'!E3621)","v":""}]
[null,null,null,{"$f":"IF(ISBLANK('Tenant Information'!E3622),\"\",'Tenant Information'!E3622)","v":""}]
[null,null,null,{"$f":"IF(ISBLANK('Tenant Information'!E3623),\"\",'Tenant Information'!E3623)","v":""}]
[null,null,null,{"$f":"IF(ISBLANK('Tenant Information'!E3624),\"\",'Tenant Information'!E3624)","v":""}]
[null,null,null,{"$f":"IF(ISBLANK('Tenant Information'!E3625),\"\",'Tenant Information'!E3625)","v":""}]
[null,null,null,{"$f":"IF(ISBLANK('Tenant Information'!E3626),\"\",'Tenant Information'!E3626)","v":""}]
[null,null,null,{"$f":"IF(ISBLANK('Tenant Information'!E3627),\"\",'Tenant Information'!E3627)","v":""}]
[null,null,null,{"$f":"IF(ISBLANK('Tenant Information'!E3628),\"\",'Tenant Information'!E3628)","v":""}]
[null,null,null,{"$f":"IF(ISBLANK('Tenant Information'!E3629),\"\",'Tenant Information'!E3629)","v":""}]
[null,null,null,{"$f":"IF(ISBLANK('Tenant Information'!E3630),\"\",'Tenant Information'!E3630)","v":""}]
[null,null,null,{"$f":"IF(ISBLANK('Tenant Information'!E3631),\"\",'Tenant Information'!E3631)","v":""}]
[null,null,null,{"$f":"IF(ISBLANK('Tenant Information'!E3632),\"\",'Tenant Information'!E3632)","v":""}]
[null,null,null,{"$f":"IF(ISBLANK('Tenant Information'!E3633),\"\",'Tenant Information'!E3633)","v":""}]
[null,null,null,{"$f":"IF(ISBLANK('Tenant Information'!E3634),\"\",'Tenant Information'!E3634)","v":""}]
[null,null,null,{"$f":"IF(ISBLANK('Tenant Information'!E3635),\"\",'Tenant Information'!E3635)","v":""}]
[null,null,null,{"$f":"IF(ISBLANK('Tenant Information'!E3636),\"\",'Tenant Information'!E3636)","v":""}]
[null,null,null,{"$f":"IF(ISBLANK('Tenant Information'!E3637),\"\",'Tenant Information'!E3637)","v":""}]
[null,null,null,{"$f":"IF(ISBLANK('Tenant Information'!E3638),\"\",'Tenant Information'!E3638)","v":""}]
[null,null,null,{"$f":"IF(ISBLANK('Tenant Information'!E3639),\"\",'Tenant Information'!E3639)","v":""}]
[null,null,null,{"$f":"IF(ISBLANK('Tenant Information'!E3640),\"\",'Tenant Information'!E3640)","v":""}]
[null,null,null,{"$f":"IF(ISBLANK('Tenant Information'!E3641),\"\",'Tenant Information'!E3641)","v":""}]
[null,null,null,{"$f":"IF(ISBLANK('Tenant Information'!E3642),\"\",'Tenant Information'!E3642)","v":""}]
[null,null,null,{"$f":"IF(ISBLANK('Tenant Information'!E3643),\"\",'Tenant Information'!E3643)","v":""}]
[null,null,null,{"$f":"IF(ISBLANK('Tenant Information'!E3644),\"\",'Tenant Information'!E3644)","v":""}]
[null,null,null,{"$f":"IF(ISBLANK('Tenant Information'!E3645),\"\",'Tenant Information'!E3645)","v":""}]
[null,null,null,{"$f":"IF(ISBLANK('Tenant Information'!E3646),\"\",'Tenant Information'!E3646)","v":""}]
[null,null,null,{"$f":"IF(ISBLANK('Tenant Information'!E3647),\"\",'Tenant Information'!E3647)","v":""}]
[null,null,null,{"$f":"IF(ISBLANK('Tenant Information'!E3648),\"\",'Tenant Information'!E3648)","v":""}]
[null,null,null,{"$f":"IF(ISBLANK('Tenant Information'!E3649),\"\",'Tenant Information'!E3649)","v":""}]
[null,null,null,{"$f":"IF(ISBLANK('Tenant Information'!E3650),\"\",'Tenant Information'!E3650)","v":""}]
[null,null,null,{"$f":"IF(ISBLANK('Tenant Information'!E3651),\"\",'Tenant Information'!E3651)","v":""}]
[null,null,null,{"$f":"IF(ISBLANK('Tenant Information'!E3652),\"\",'Tenant Information'!E3652)","v":""}]
[null,null,null,{"$f":"IF(ISBLANK('Tenant Information'!E3653),\"\",'Tenant Information'!E3653)","v":""}]
[null,null,null,{"$f":"IF(ISBLANK('Tenant Information'!E3654),\"\",'Tenant Information'!E3654)","v":""}]
[null,null,null,{"$f":"IF(ISBLANK('Tenant Information'!E3655),\"\",'Tenant Information'!E3655)","v":""}]
[null,null,null,{"$f":"IF(ISBLANK('Tenant Information'!E3656),\"\",'Tenant Information'!E3656)","v":""}]
[null,null,null,{"$f":"IF(ISBLANK('Tenant Information'!E3657),\"\",'Tenant Information'!E3657)","v":""}]
[null,null,null,{"$f":"IF(ISBLANK('Tenant Information'!E3658),\"\",'Tenant Information'!E3658)","v":""}]
[null,null,null,{"$f":"IF(ISBLANK('Tenant Information'!E3659),\"\",'Tenant Information'!E3659)","v":""}]
[null,null,null,{"$f":"IF(ISBLANK('Tenant Information'!E3660),\"\",'Tenant Information'!E3660)","v":""}]
[null,null,null,{"$f":"IF(ISBLANK('Tenant Information'!E3661),\"\",'Tenant Information'!E3661)","v":""}]
[null,null,null,{"$f":"IF(ISBLANK('Tenant Information'!E3662),\"\",'Tenant Information'!E3662)","v":""}]
[null,null,null,{"$f":"IF(ISBLANK('Tenant Information'!E3663),\"\",'Tenant Information'!E3663)","v":""}]
[null,null,null,{"$f":"IF(ISBLANK('Tenant Information'!E3664),\"\",'Tenant Information'!E3664)","v":""}]
[null,null,null,{"$f":"IF(ISBLANK('Tenant Information'!E3665),\"\",'Tenant Information'!E3665)","v":""}]
[null,null,null,{"$f":"IF(ISBLANK('Tenant Information'!E3666),\"\",'Tenant Information'!E3666)","v":""}]
[null,null,null,{"$f":"IF(ISBLANK('Tenant Information'!E3667),\"\",'Tenant Information'!E3667)","v":""}]
[null,null,null,{"$f":"IF(ISBLANK('Tenant Information'!E3668),\"\",'Tenant Information'!E3668)","v":""}]
[null,null,null,{"$f":"IF(ISBLANK('Tenant Information'!E3669),\"\",'Tenant Information'!E3669)","v":""}]
[null,null,null,{"$f":"IF(ISBLANK('Tenant Information'!E3670),\"\",'Tenant Information'!E3670)","v":""}]
[null,null,null,{"$f":"IF(ISBLANK('Tenant Information'!E3671),\"\",'Tenant Information'!E3671)","v":""}]
[null,null,null,{"$f":"IF(ISBLANK('Tenant Information'!E3672),\"\",'Tenant Information'!E3672)","v":""}]
[null,null,null,{"$f":"IF(ISBLANK('Tenant Information'!E3673),\"\",'Tenant Information'!E3673)","v":""}]
[null,null,null,{"$f":"IF(ISBLANK('Tenant Information'!E3674),\"\",'Tenant Information'!E3674)","v":""}]
[null,null,null,{"$f":"IF(ISBLANK('Tenant Information'!E3675),\"\",'Tenant Information'!E3675)","v":""}]
[null,null,null,{"$f":"IF(ISBLANK('Tenant Information'!E3676),\"\",'Tenant Information'!E3676)","v":""}]
[null,null,null,{"$f":"IF(ISBLANK('Tenant Information'!E3677),\"\",'Tenant Information'!E3677)","v":""}]
[null,null,null,{"$f":"IF(ISBLANK('Tenant Information'!E3678),\"\",'Tenant Information'!E3678)","v":""}]
[null,null,null,{"$f":"IF(ISBLANK('Tenant Information'!E3679),\"\",'Tenant Information'!E3679)","v":""}]
[null,null,null,{"$f":"IF(ISBLANK('Tenant Information'!E3680),\"\",'Tenant Information'!E3680)","v":""}]
[null,null,null,{"$f":"IF(ISBLANK('Tenant Information'!E3681),\"\",'Tenant Information'!E3681)","v":""}]
[null,null,null,{"$f":"IF(ISBLANK('Tenant Information'!E3682),\"\",'Tenant Information'!E3682)","v":""}]
[null,null,null,{"$f":"IF(ISBLANK('Tenant Information'!E3683),\"\",'Tenant Information'!E3683)","v":""}]
[null,null,null,{"$f":"IF(ISBLANK('Tenant Information'!E3684),\"\",'Tenant Information'!E3684)","v":""}]
[null,null,null,{"$f":"IF(ISBLANK('Tenant Information'!E3685),\"\",'Tenant Information'!E3685)","v":""}]
[null,null,null,{"$f":"IF(ISBLANK('Tenant Information'!E3686),\"\",'Tenant Information'!E3686)","v":""}]
[null,null,null,{"$f":"IF(ISBLANK('Tenant Information'!E3687),\"\",'Tenant Information'!E3687)","v":""}]
[null,null,null,{"$f":"IF(ISBLANK('Tenant Information'!E3688),\"\",'Tenant Information'!E3688)","v":""}]
[null,null,null,{"$f":"IF(ISBLANK('Tenant Information'!E3689),\"\",'Tenant Information'!E3689)","v":""}]
[null,null,null,{"$f":"IF(ISBLANK('Tenant Information'!E3690),\"\",'Tenant Information'!E3690)","v":""}]
[null,null,null,{"$f":"IF(ISBLANK('Tenant Information'!E3691),\"\",'Tenant Information'!E3691)","v":""}]
[null,null,null,{"$f":"IF(ISBLANK('Tenant Information'!E3692),\"\",'Tenant Information'!E3692)","v":""}]
[null,null,null,{"$f":"IF(ISBLANK('Tenant Information'!E3693),\"\",'Tenant Information'!E3693)","v":""}]
[null,null,null,{"$f":"IF(ISBLANK('Tenant Information'!E3694),\"\",'Tenant Information'!E3694)","v":""}]
[null,null,null,{"$f":"IF(ISBLANK('Tenant Information'!E3695),\"\",'Tenant Information'!E3695)","v":""}]
[null,null,null,{"$f":"IF(ISBLANK('Tenant Information'!E3696),\"\",'Tenant Information'!E3696)","v":""}]
[null,null,null,{"$f":"IF(ISBLANK('Tenant Information'!E3697),\"\",'Tenant Information'!E3697)","v":""}]
[null,null,null,{"$f":"IF(ISBLANK('Tenant Information'!E3698),\"\",'Tenant Information'!E3698)","v":""}]
[null,null,null,{"$f":"IF(ISBLANK('Tenant Information'!E3699),\"\",'Tenant Information'!E3699)","v":""}]
[null,null,null,{"$f":"IF(ISBLANK('Tenant Information'!E3700),\"\",'Tenant Information'!E3700)","v":""}]
[null,null,null,{"$f":"IF(ISBLANK('Tenant Information'!E3701),\"\",'Tenant Information'!E3701)","v":""}]
[null,null,null,{"$f":"IF(ISBLANK('Tenant Information'!E3702),\"\",'Tenant Information'!E3702)","v":""}]
[null,null,null,{"$f":"IF(ISBLANK('Tenant Information'!E3703),\"\",'Tenant Information'!E3703)","v":""}]
[null,null,null,{"$f":"IF(ISBLANK('Tenant Information'!E3704),\"\",'Tenant Information'!E3704)","v":""}]
[null,null,null,{"$f":"IF(ISBLANK('Tenant Information'!E3705),\"\",'Tenant Information'!E3705)","v":""}]
[null,null,null,{"$f":"IF(ISBLANK('Tenant Information'!E3706),\"\",'Tenant Information'!E3706)","v":""}]
[null,null,null,{"$f":"IF(ISBLANK('Tenant Information'!E3707),\"\",'Tenant Information'!E3707)","v":""}]
[null,null,null,{"$f":"IF(ISBLANK('Tenant Information'!E3708),\"\",'Tenant Information'!E3708)","v":""}]
[null,null,null,{"$f":"IF(ISBLANK('Tenant Information'!E3709),\"\",'Tenant Information'!E3709)","v":""}]
[null,null,null,{"$f":"IF(ISBLANK('Tenant Information'!E3710),\"\",'Tenant Information'!E3710)","v":""}]
[null,null,null,{"$f":"IF(ISBLANK('Tenant Information'!E3711),\"\",'Tenant Information'!E3711)","v":""}]
[null,null,null,{"$f":"IF(ISBLANK('Tenant Information'!E3712),\"\",'Tenant Information'!E3712)","v":""}]
[null,null,null,{"$f":"IF(ISBLANK('Tenant Information'!E3713),\"\",'Tenant Information'!E3713)","v":""}]
[null,null,null,{"$f":"IF(ISBLANK('Tenant Information'!E3714),\"\",'Tenant Information'!E3714)","v":""}]
[null,null,null,{"$f":"IF(ISBLANK('Tenant Information'!E3715),\"\",'Tenant Information'!E3715)","v":""}]
[null,null,null,{"$f":"IF(ISBLANK('Tenant Information'!E3716),\"\",'Tenant Information'!E3716)","v":""}]
[null,null,null,{"$f":"IF(ISBLANK('Tenant Information'!E3717),\"\",'Tenant Information'!E3717)","v":""}]
[null,null,null,{"$f":"IF(ISBLANK('Tenant Information'!E3718),\"\",'Tenant Information'!E3718)","v":""}]
[null,null,null,{"$f":"IF(ISBLANK('Tenant Information'!E3719),\"\",'Tenant Information'!E3719)","v":""}]
[null,null,null,{"$f":"IF(ISBLANK('Tenant Information'!E3720),\"\",'Tenant Information'!E3720)","v":""}]
[null,null,null,{"$f":"IF(ISBLANK('Tenant Information'!E3721),\"\",'Tenant Information'!E3721)","v":""}]
[null,null,null,{"$f":"IF(ISBLANK('Tenant Information'!E3722),\"\",'Tenant Information'!E3722)","v":""}]
[null,null,null,{"$f":"IF(ISBLANK('Tenant Information'!E3723),\"\",'Tenant Information'!E3723)","v":""}]
[null,null,null,{"$f":"IF(ISBLANK('Tenant Information'!E3724),\"\",'Tenant Information'!E3724)","v":""}]
[null,null,null,{"$f":"IF(ISBLANK('Tenant Information'!E3725),\"\",'Tenant Information'!E3725)","v":""}]
[null,null,null,{"$f":"IF(ISBLANK('Tenant Information'!E3726),\"\",'Tenant Information'!E3726)","v":""}]
[null,null,null,{"$f":"IF(ISBLANK('Tenant Information'!E3727),\"\",'Tenant Information'!E3727)","v":""}]
[null,null,null,{"$f":"IF(ISBLANK('Tenant Information'!E3728),\"\",'Tenant Information'!E3728)","v":""}]
[null,null,null,{"$f":"IF(ISBLANK('Tenant Information'!E3729),\"\",'Tenant Information'!E3729)","v":""}]
[null,null,null,{"$f":"IF(ISBLANK('Tenant Information'!E3730),\"\",'Tenant Information'!E3730)","v":""}]
[null,null,null,{"$f":"IF(ISBLANK('Tenant Information'!E3731),\"\",'Tenant Information'!E3731)","v":""}]
[null,null,null,{"$f":"IF(ISBLANK('Tenant Information'!E3732),\"\",'Tenant Information'!E3732)","v":""}]
[null,null,null,{"$f":"IF(ISBLANK('Tenant Information'!E3733),\"\",'Tenant Information'!E3733)","v":""}]
[null,null,null,{"$f":"IF(ISBLANK('Tenant Information'!E3734),\"\",'Tenant Information'!E3734)","v":""}]
[null,null,null,{"$f":"IF(ISBLANK('Tenant Information'!E3735),\"\",'Tenant Information'!E3735)","v":""}]
[null,null,null,{"$f":"IF(ISBLANK('Tenant Information'!E3736),\"\",'Tenant Information'!E3736)","v":""}]
[null,null,null,{"$f":"IF(ISBLANK('Tenant Information'!E3737),\"\",'Tenant Information'!E3737)","v":""}]
[null,null,null,{"$f":"IF(ISBLANK('Tenant Information'!E3738),\"\",'Tenant Information'!E3738)","v":""}]
[null,null,null,{"$f":"IF(ISBLANK('Tenant Information'!E3739),\"\",'Tenant Information'!E3739)","v":""}]
[null,null,null,{"$f":"IF(ISBLANK('Tenant Information'!E3740),\"\",'Tenant Information'!E3740)","v":""}]
[null,null,null,{"$f":"IF(ISBLANK('Tenant Information'!E3741),\"\",'Tenant Information'!E3741)","v":""}]
[null,null,null,{"$f":"IF(ISBLANK('Tenant Information'!E3742),\"\",'Tenant Information'!E3742)","v":""}]
[null,null,null,{"$f":"IF(ISBLANK('Tenant Information'!E3743),\"\",'Tenant Information'!E3743)","v":""}]
[null,null,null,{"$f":"IF(ISBLANK('Tenant Information'!E3744),\"\",'Tenant Information'!E3744)","v":""}]
[null,null,null,{"$f":"IF(ISBLANK('Tenant Information'!E3745),\"\",'Tenant Information'!E3745)","v":""}]
[null,null,null,{"$f":"IF(ISBLANK('Tenant Information'!E3746),\"\",'Tenant Information'!E3746)","v":""}]
[null,null,null,{"$f":"IF(ISBLANK('Tenant Information'!E3747),\"\",'Tenant Information'!E3747)","v":""}]
[null,null,null,{"$f":"IF(ISBLANK('Tenant Information'!E3748),\"\",'Tenant Information'!E3748)","v":""}]
[null,null,null,{"$f":"IF(ISBLANK('Tenant Information'!E3749),\"\",'Tenant Information'!E3749)","v":""}]
[null,null,null,{"$f":"IF(ISBLANK('Tenant Information'!E3750),\"\",'Tenant Information'!E3750)","v":""}]
[null,null,null,{"$f":"IF(ISBLANK('Tenant Information'!E3751),\"\",'Tenant Information'!E3751)","v":""}]
[null,null,null,{"$f":"IF(ISBLANK('Tenant Information'!E3752),\"\",'Tenant Information'!E3752)","v":""}]
[null,null,null,{"$f":"IF(ISBLANK('Tenant Information'!E3753),\"\",'Tenant Information'!E3753)","v":""}]
[null,null,null,{"$f":"IF(ISBLANK('Tenant Information'!E3754),\"\",'Tenant Information'!E3754)","v":""}]
[null,null,null,{"$f":"IF(ISBLANK('Tenant Information'!E3755),\"\",'Tenant Information'!E3755)","v":""}]
[null,null,null,{"$f":"IF(ISBLANK('Tenant Information'!E3756),\"\",'Tenant Information'!E3756)","v":""}]
[null,null,null,{"$f":"IF(ISBLANK('Tenant Information'!E3757),\"\",'Tenant Information'!E3757)","v":""}]
[null,null,null,{"$f":"IF(ISBLANK('Tenant Information'!E3758),\"\",'Tenant Information'!E3758)","v":""}]
[null,null,null,{"$f":"IF(ISBLANK('Tenant Information'!E3759),\"\",'Tenant Information'!E3759)","v":""}]
[null,null,null,{"$f":"IF(ISBLANK('Tenant Information'!E3760),\"\",'Tenant Information'!E3760)","v":""}]
[null,null,null,{"$f":"IF(ISBLANK('Tenant Information'!E3761),\"\",'Tenant Information'!E3761)","v":""}]
[null,null,null,{"$f":"IF(ISBLANK('Tenant Information'!E3762),\"\",'Tenant Information'!E3762)","v":""}]
[null,null,null,{"$f":"IF(ISBLANK('Tenant Information'!E3763),\"\",'Tenant Information'!E3763)","v":""}]
[null,null,null,{"$f":"IF(ISBLANK('Tenant Information'!E3764),\"\",'Tenant Information'!E3764)","v":""}]
[null,null,null,{"$f":"IF(ISBLANK('Tenant Information'!E3765),\"\",'Tenant Information'!E3765)","v":""}]
[null,null,null,{"$f":"IF(ISBLANK('Tenant Information'!E3766),\"\",'Tenant Information'!E3766)","v":""}]
[null,null,null,{"$f":"IF(ISBLANK('Tenant Information'!E3767),\"\",'Tenant Information'!E3767)","v":""}]
[null,null,null,{"$f":"IF(ISBLANK('Tenant Information'!E3768),\"\",'Tenant Information'!E3768)","v":""}]
[null,null,null,{"$f":"IF(ISBLANK('Tenant Information'!E3769),\"\",'Tenant Information'!E3769)","v":""}]
[null,null,null,{"$f":"IF(ISBLANK('Tenant Information'!E3770),\"\",'Tenant Information'!E3770)","v":""}]
[null,null,null,{"$f":"IF(ISBLANK('Tenant Information'!E3771),\"\",'Tenant Information'!E3771)","v":""}]
[null,null,null,{"$f":"IF(ISBLANK('Tenant Information'!E3772),\"\",'Tenant Information'!E3772)","v":""}]
[null,null,null,{"$f":"IF(ISBLANK('Tenant Information'!E3773),\"\",'Tenant Information'!E3773)","v":""}]
[null,null,null,{"$f":"IF(ISBLANK('Tenant Information'!E3774),\"\",'Tenant Information'!E3774)","v":""}]
[null,null,null,{"$f":"IF(ISBLANK('Tenant Information'!E3775),\"\",'Tenant Information'!E3775)","v":""}]
[null,null,null,{"$f":"IF(ISBLANK('Tenant Information'!E3776),\"\",'Tenant Information'!E3776)","v":""}]
[null,null,null,{"$f":"IF(ISBLANK('Tenant Information'!E3777),\"\",'Tenant Information'!E3777)","v":""}]
[null,null,null,{"$f":"IF(ISBLANK('Tenant Information'!E3778),\"\",'Tenant Information'!E3778)","v":""}]
[null,null,null,{"$f":"IF(ISBLANK('Tenant Information'!E3779),\"\",'Tenant Information'!E3779)","v":""}]
[null,null,null,{"$f":"IF(ISBLANK('Tenant Information'!E3780),\"\",'Tenant Information'!E3780)","v":""}]
[null,null,null,{"$f":"IF(ISBLANK('Tenant Information'!E3781),\"\",'Tenant Information'!E3781)","v":""}]
[null,null,null,{"$f":"IF(ISBLANK('Tenant Information'!E3782),\"\",'Tenant Information'!E3782)","v":""}]
[null,null,null,{"$f":"IF(ISBLANK('Tenant Information'!E3783),\"\",'Tenant Information'!E3783)","v":""}]
[null,null,null,{"$f":"IF(ISBLANK('Tenant Information'!E3784),\"\",'Tenant Information'!E3784)","v":""}]
[null,null,null,{"$f":"IF(ISBLANK('Tenant Information'!E3785),\"\",'Tenant Information'!E3785)","v":""}]
[null,null,null,{"$f":"IF(ISBLANK('Tenant Information'!E3786),\"\",'Tenant Information'!E3786)","v":""}]
[null,null,null,{"$f":"IF(ISBLANK('Tenant Information'!E3787),\"\",'Tenant Information'!E3787)","v":""}]
[null,null,null,{"$f":"IF(ISBLANK('Tenant Information'!E3788),\"\",'Tenant Information'!E3788)","v":""}]
[null,null,null,{"$f":"IF(ISBLANK('Tenant Information'!E3789),\"\",'Tenant Information'!E3789)","v":""}]
[null,null,null,{"$f":"IF(ISBLANK('Tenant Information'!E3790),\"\",'Tenant Information'!E3790)","v":""}]
[null,null,null,{"$f":"IF(ISBLANK('Tenant Information'!E3791),\"\",'Tenant Information'!E3791)","v":""}]
[null,null,null,{"$f":"IF(ISBLANK('Tenant Information'!E3792),\"\",'Tenant Information'!E3792)","v":""}]
[null,null,null,{"$f":"IF(ISBLANK('Tenant Information'!E3793),\"\",'Tenant Information'!E3793)","v":""}]
[null,null,null,{"$f":"IF(ISBLANK('Tenant Information'!E3794),\"\",'Tenant Information'!E3794)","v":""}]
[null,null,null,{"$f":"IF(ISBLANK('Tenant Information'!E3795),\"\",'Tenant Information'!E3795)","v":""}]
[null,null,null,{"$f":"IF(ISBLANK('Tenant Information'!E3796),\"\",'Tenant Information'!E3796)","v":""}]
[null,null,null,{"$f":"IF(ISBLANK('Tenant Information'!E3797),\"\",'Tenant Information'!E3797)","v":""}]
[null,null,null,{"$f":"IF(ISBLANK('Tenant Information'!E3798),\"\",'Tenant Information'!E3798)","v":""}]
[null,null,null,{"$f":"IF(ISBLANK('Tenant Information'!E3799),\"\",'Tenant Information'!E3799)","v":""}]
[null,null,null,{"$f":"IF(ISBLANK('Tenant Information'!E3800),\"\",'Tenant Information'!E3800)","v":""}]
[null,null,null,{"$f":"IF(ISBLANK('Tenant Information'!E3801),\"\",'Tenant Information'!E3801)","v":""}]
[null,null,null,{"$f":"IF(ISBLANK('Tenant Information'!E3802),\"\",'Tenant Information'!E3802)","v":""}]
[null,null,null,{"$f":"IF(ISBLANK('Tenant Information'!E3803),\"\",'Tenant Information'!E3803)","v":""}]
[null,null,null,{"$f":"IF(ISBLANK('Tenant Information'!E3804),\"\",'Tenant Information'!E3804)","v":""}]
[null,null,null,{"$f":"IF(ISBLANK('Tenant Information'!E3805),\"\",'Tenant Information'!E3805)","v":""}]
[null,null,null,{"$f":"IF(ISBLANK('Tenant Information'!E3806),\"\",'Tenant Information'!E3806)","v":""}]
[null,null,null,{"$f":"IF(ISBLANK('Tenant Information'!E3807),\"\",'Tenant Information'!E3807)","v":""}]
[null,null,null,{"$f":"IF(ISBLANK('Tenant Information'!E3808),\"\",'Tenant Information'!E3808)","v":""}]
[null,null,null,{"$f":"IF(ISBLANK('Tenant Information'!E3809),\"\",'Tenant Information'!E3809)","v":""}]
[null,null,null,{"$f":"IF(ISBLANK('Tenant Information'!E3810),\"\",'Tenant Information'!E3810)","v":""}]
[null,null,null,{"$f":"IF(ISBLANK('Tenant Information'!E3811),\"\",'Tenant Information'!E3811)","v":""}]
[null,null,null,{"$f":"IF(ISBLANK('Tenant Information'!E3812),\"\",'Tenant Information'!E3812)","v":""}]
[null,null,null,{"$f":"IF(ISBLANK('Tenant Information'!E3813),\"\",'Tenant Information'!E3813)","v":""}]
[null,null,null,{"$f":"IF(ISBLANK('Tenant Information'!E3814),\"\",'Tenant Information'!E3814)","v":""}]
[null,null,null,{"$f":"IF(ISBLANK('Tenant Information'!E3815),\"\",'Tenant Information'!E3815)","v":""}]
[null,null,null,{"$f":"IF(ISBLANK('Tenant Information'!E3816),\"\",'Tenant Information'!E3816)","v":""}]
[null,null,null,{"$f":"IF(ISBLANK('Tenant Information'!E3817),\"\",'Tenant Information'!E3817)","v":""}]
[null,null,null,{"$f":"IF(ISBLANK('Tenant Information'!E3818),\"\",'Tenant Information'!E3818)","v":""}]
[null,null,null,{"$f":"IF(ISBLANK('Tenant Information'!E3819),\"\",'Tenant Information'!E3819)","v":""}]
[null,null,null,{"$f":"IF(ISBLANK('Tenant Information'!E3820),\"\",'Tenant Information'!E3820)","v":""}]
[null,null,null,{"$f":"IF(ISBLANK('Tenant Information'!E3821),\"\",'Tenant Information'!E3821)","v":""}]
[null,null,null,{"$f":"IF(ISBLANK('Tenant Information'!E3822),\"\",'Tenant Information'!E3822)","v":""}]
[null,null,null,{"$f":"IF(ISBLANK('Tenant Information'!E3823),\"\",'Tenant Information'!E3823)","v":""}]
[null,null,null,{"$f":"IF(ISBLANK('Tenant Information'!E3824),\"\",'Tenant Information'!E3824)","v":""}]
[null,null,null,{"$f":"IF(ISBLANK('Tenant Information'!E3825),\"\",'Tenant Information'!E3825)","v":""}]
[null,null,null,{"$f":"IF(ISBLANK('Tenant Information'!E3826),\"\",'Tenant Information'!E3826)","v":""}]
[null,null,null,{"$f":"IF(ISBLANK('Tenant Information'!E3827),\"\",'Tenant Information'!E3827)","v":""}]
[null,null,null,{"$f":"IF(ISBLANK('Tenant Information'!E3828),\"\",'Tenant Information'!E3828)","v":""}]
[null,null,null,{"$f":"IF(ISBLANK('Tenant Information'!E3829),\"\",'Tenant Information'!E3829)","v":""}]
[null,null,null,{"$f":"IF(ISBLANK('Tenant Information'!E3830),\"\",'Tenant Information'!E3830)","v":""}]
[null,null,null,{"$f":"IF(ISBLANK('Tenant Information'!E3831),\"\",'Tenant Information'!E3831)","v":""}]
[null,null,null,{"$f":"IF(ISBLANK('Tenant Information'!E3832),\"\",'Tenant Information'!E3832)","v":""}]
[null,null,null,{"$f":"IF(ISBLANK('Tenant Information'!E3833),\"\",'Tenant Information'!E3833)","v":""}]
[null,null,null,{"$f":"IF(ISBLANK('Tenant Information'!E3834),\"\",'Tenant Information'!E3834)","v":""}]
[null,null,null,{"$f":"IF(ISBLANK('Tenant Information'!E3835),\"\",'Tenant Information'!E3835)","v":""}]
[null,null,null,{"$f":"IF(ISBLANK('Tenant Information'!E3836),\"\",'Tenant Information'!E3836)","v":""}]
[null,null,null,{"$f":"IF(ISBLANK('Tenant Information'!E3837),\"\",'Tenant Information'!E3837)","v":""}]
[null,null,null,{"$f":"IF(ISBLANK('Tenant Information'!E3838),\"\",'Tenant Information'!E3838)","v":""}]
[null,null,null,{"$f":"IF(ISBLANK('Tenant Information'!E3839),\"\",'Tenant Information'!E3839)","v":""}]
[null,null,null,{"$f":"IF(ISBLANK('Tenant Information'!E3840),\"\",'Tenant Information'!E3840)","v":""}]
[null,null,null,{"$f":"IF(ISBLANK('Tenant Information'!E3841),\"\",'Tenant Information'!E3841)","v":""}]
[null,null,null,{"$f":"IF(ISBLANK('Tenant Information'!E3842),\"\",'Tenant Information'!E3842)","v":""}]
[null,null,null,{"$f":"IF(ISBLANK('Tenant Information'!E3843),\"\",'Tenant Information'!E3843)","v":""}]
[null,null,null,{"$f":"IF(ISBLANK('Tenant Information'!E3844),\"\",'Tenant Information'!E3844)","v":""}]
[null,null,null,{"$f":"IF(ISBLANK('Tenant Information'!E3845),\"\",'Tenant Information'!E3845)","v":""}]
[null,null,null,{"$f":"IF(ISBLANK('Tenant Information'!E3846),\"\",'Tenant Information'!E3846)","v":""}]
[null,null,null,{"$f":"IF(ISBLANK('Tenant Information'!E3847),\"\",'Tenant Information'!E3847)","v":""}]
[null,null,null,{"$f":"IF(ISBLANK('Tenant Information'!E3848),\"\",'Tenant Information'!E3848)","v":""}]
[null,null,null,{"$f":"IF(ISBLANK('Tenant Information'!E3849),\"\",'Tenant Information'!E3849)","v":""}]
[null,null,null,{"$f":"IF(ISBLANK('Tenant Information'!E3850),\"\",'Tenant Information'!E3850)","v":""}]
[null,null,null,{"$f":"IF(ISBLANK('Tenant Information'!E3851),\"\",'Tenant Information'!E3851)","v":""}]
[null,null,null,{"$f":"IF(ISBLANK('Tenant Information'!E3852),\"\",'Tenant Information'!E3852)","v":""}]
[null,null,null,{"$f":"IF(ISBLANK('Tenant Information'!E3853),\"\",'Tenant Information'!E3853)","v":""}]
[null,null,null,{"$f":"IF(ISBLANK('Tenant Information'!E3854),\"\",'Tenant Information'!E3854)","v":""}]
[null,null,null,{"$f":"IF(ISBLANK('Tenant Information'!E3855),\"\",'Tenant Information'!E3855)","v":""}]
[null,null,null,{"$f":"IF(ISBLANK('Tenant Information'!E3856),\"\",'Tenant Information'!E3856)","v":""}]
[null,null,null,{"$f":"IF(ISBLANK('Tenant Information'!E3857),\"\",'Tenant Information'!E3857)","v":""}]
[null,null,null,{"$f":"IF(ISBLANK('Tenant Information'!E3858),\"\",'Tenant Information'!E3858)","v":""}]
[null,null,null,{"$f":"IF(ISBLANK('Tenant Information'!E3859),\"\",'Tenant Information'!E3859)","v":""}]
[null,null,null,{"$f":"IF(ISBLANK('Tenant Information'!E3860),\"\",'Tenant Information'!E3860)","v":""}]
[null,null,null,{"$f":"IF(ISBLANK('Tenant Information'!E3861),\"\",'Tenant Information'!E3861)","v":""}]
[null,null,null,{"$f":"IF(ISBLANK('Tenant Information'!E3862),\"\",'Tenant Information'!E3862)","v":""}]
[null,null,null,{"$f":"IF(ISBLANK('Tenant Information'!E3863),\"\",'Tenant Information'!E3863)","v":""}]
[null,null,null,{"$f":"IF(ISBLANK('Tenant Information'!E3864),\"\",'Tenant Information'!E3864)","v":""}]
[null,null,null,{"$f":"IF(ISBLANK('Tenant Information'!E3865),\"\",'Tenant Information'!E3865)","v":""}]
[null,null,null,{"$f":"IF(ISBLANK('Tenant Information'!E3866),\"\",'Tenant Information'!E3866)","v":""}]
[null,null,null,{"$f":"IF(ISBLANK('Tenant Information'!E3867),\"\",'Tenant Information'!E3867)","v":""}]
[null,null,null,{"$f":"IF(ISBLANK('Tenant Information'!E3868),\"\",'Tenant Information'!E3868)","v":""}]
[null,null,null,{"$f":"IF(ISBLANK('Tenant Information'!E3869),\"\",'Tenant Information'!E3869)","v":""}]
[null,null,null,{"$f":"IF(ISBLANK('Tenant Information'!E3870),\"\",'Tenant Information'!E3870)","v":""}]
[null,null,null,{"$f":"IF(ISBLANK('Tenant Information'!E3871),\"\",'Tenant Information'!E3871)","v":""}]
[null,null,null,{"$f":"IF(ISBLANK('Tenant Information'!E3872),\"\",'Tenant Information'!E3872)","v":""}]
[null,null,null,{"$f":"IF(ISBLANK('Tenant Information'!E3873),\"\",'Tenant Information'!E3873)","v":""}]
[null,null,null,{"$f":"IF(ISBLANK('Tenant Information'!E3874),\"\",'Tenant Information'!E3874)","v":""}]
[null,null,null,{"$f":"IF(ISBLANK('Tenant Information'!E3875),\"\",'Tenant Information'!E3875)","v":""}]
[null,null,null,{"$f":"IF(ISBLANK('Tenant Information'!E3876),\"\",'Tenant Information'!E3876)","v":""}]
[null,null,null,{"$f":"IF(ISBLANK('Tenant Information'!E3877),\"\",'Tenant Information'!E3877)","v":""}]
[null,null,null,{"$f":"IF(ISBLANK('Tenant Information'!E3878),\"\",'Tenant Information'!E3878)","v":""}]
[null,null,null,{"$f":"IF(ISBLANK('Tenant Information'!E3879),\"\",'Tenant Information'!E3879)","v":""}]
[null,null,null,{"$f":"IF(ISBLANK('Tenant Information'!E3880),\"\",'Tenant Information'!E3880)","v":""}]
[null,null,null,{"$f":"IF(ISBLANK('Tenant Information'!E3881),\"\",'Tenant Information'!E3881)","v":""}]
[null,null,null,{"$f":"IF(ISBLANK('Tenant Information'!E3882),\"\",'Tenant Information'!E3882)","v":""}]
[null,null,null,{"$f":"IF(ISBLANK('Tenant Information'!E3883),\"\",'Tenant Information'!E3883)","v":""}]
[null,null,null,{"$f":"IF(ISBLANK('Tenant Information'!E3884),\"\",'Tenant Information'!E3884)","v":""}]
[null,null,null,{"$f":"IF(ISBLANK('Tenant Information'!E3885),\"\",'Tenant Information'!E3885)","v":""}]
[null,null,null,{"$f":"IF(ISBLANK('Tenant Information'!E3886),\"\",'Tenant Information'!E3886)","v":""}]
[null,null,null,{"$f":"IF(ISBLANK('Tenant Information'!E3887),\"\",'Tenant Information'!E3887)","v":""}]
[null,null,null,{"$f":"IF(ISBLANK('Tenant Information'!E3888),\"\",'Tenant Information'!E3888)","v":""}]
[null,null,null,{"$f":"IF(ISBLANK('Tenant Information'!E3889),\"\",'Tenant Information'!E3889)","v":""}]
[null,null,null,{"$f":"IF(ISBLANK('Tenant Information'!E3890),\"\",'Tenant Information'!E3890)","v":""}]
[null,null,null,{"$f":"IF(ISBLANK('Tenant Information'!E3891),\"\",'Tenant Information'!E3891)","v":""}]
[null,null,null,{"$f":"IF(ISBLANK('Tenant Information'!E3892),\"\",'Tenant Information'!E3892)","v":""}]
[null,null,null,{"$f":"IF(ISBLANK('Tenant Information'!E3893),\"\",'Tenant Information'!E3893)","v":""}]
[null,null,null,{"$f":"IF(ISBLANK('Tenant Information'!E3894),\"\",'Tenant Information'!E3894)","v":""}]
[null,null,null,{"$f":"IF(ISBLANK('Tenant Information'!E3895),\"\",'Tenant Information'!E3895)","v":""}]
[null,null,null,{"$f":"IF(ISBLANK('Tenant Information'!E3896),\"\",'Tenant Information'!E3896)","v":""}]
[null,null,null,{"$f":"IF(ISBLANK('Tenant Information'!E3897),\"\",'Tenant Information'!E3897)","v":""}]
[null,null,null,{"$f":"IF(ISBLANK('Tenant Information'!E3898),\"\",'Tenant Information'!E3898)","v":""}]
[null,null,null,{"$f":"IF(ISBLANK('Tenant Information'!E3899),\"\",'Tenant Information'!E3899)","v":""}]
[null,null,null,{"$f":"IF(ISBLANK('Tenant Information'!E3900),\"\",'Tenant Information'!E3900)","v":""}]
[null,null,null,{"$f":"IF(ISBLANK('Tenant Information'!E3901),\"\",'Tenant Information'!E3901)","v":""}]
[null,null,null,{"$f":"IF(ISBLANK('Tenant Information'!E3902),\"\",'Tenant Information'!E3902)","v":""}]
[null,null,null,{"$f":"IF(ISBLANK('Tenant Information'!E3903),\"\",'Tenant Information'!E3903)","v":""}]
[null,null,null,{"$f":"IF(ISBLANK('Tenant Information'!E3904),\"\",'Tenant Information'!E3904)","v":""}]
[null,null,null,{"$f":"IF(ISBLANK('Tenant Information'!E3905),\"\",'Tenant Information'!E3905)","v":""}]
[null,null,null,{"$f":"IF(ISBLANK('Tenant Information'!E3906),\"\",'Tenant Information'!E3906)","v":""}]
[null,null,null,{"$f":"IF(ISBLANK('Tenant Information'!E3907),\"\",'Tenant Information'!E3907)","v":""}]
[null,null,null,{"$f":"IF(ISBLANK('Tenant Information'!E3908),\"\",'Tenant Information'!E3908)","v":""}]
[null,null,null,{"$f":"IF(ISBLANK('Tenant Information'!E3909),\"\",'Tenant Information'!E3909)","v":""}]
[null,null,null,{"$f":"IF(ISBLANK('Tenant Information'!E3910),\"\",'Tenant Information'!E3910)","v":""}]
[null,null,null,{"$f":"IF(ISBLANK('Tenant Information'!E3911),\"\",'Tenant Information'!E3911)","v":""}]
[null,null,null,{"$f":"IF(ISBLANK('Tenant Information'!E3912),\"\",'Tenant Information'!E3912)","v":""}]
[null,null,null,{"$f":"IF(ISBLANK('Tenant Information'!E3913),\"\",'Tenant Information'!E3913)","v":""}]
[null,null,null,{"$f":"IF(ISBLANK('Tenant Information'!E3914),\"\",'Tenant Information'!E3914)","v":""}]
[null,null,null,{"$f":"IF(ISBLANK('Tenant Information'!E3915),\"\",'Tenant Information'!E3915)","v":""}]
[null,null,null,{"$f":"IF(ISBLANK('Tenant Information'!E3916),\"\",'Tenant Information'!E3916)","v":""}]
[null,null,null,{"$f":"IF(ISBLANK('Tenant Information'!E3917),\"\",'Tenant Information'!E3917)","v":""}]
[null,null,null,{"$f":"IF(ISBLANK('Tenant Information'!E3918),\"\",'Tenant Information'!E3918)","v":""}]
[null,null,null,{"$f":"IF(ISBLANK('Tenant Information'!E3919),\"\",'Tenant Information'!E3919)","v":""}]
[null,null,null,{"$f":"IF(ISBLANK('Tenant Information'!E3920),\"\",'Tenant Information'!E3920)","v":""}]
[null,null,null,{"$f":"IF(ISBLANK('Tenant Information'!E3921),\"\",'Tenant Information'!E3921)","v":""}]
[null,null,null,{"$f":"IF(ISBLANK('Tenant Information'!E3922),\"\",'Tenant Information'!E3922)","v":""}]
[null,null,null,{"$f":"IF(ISBLANK('Tenant Information'!E3923),\"\",'Tenant Information'!E3923)","v":""}]
[null,null,null,{"$f":"IF(ISBLANK('Tenant Information'!E3924),\"\",'Tenant Information'!E3924)","v":""}]
[null,null,null,{"$f":"IF(ISBLANK('Tenant Information'!E3925),\"\",'Tenant Information'!E3925)","v":""}]
[null,null,null,{"$f":"IF(ISBLANK('Tenant Information'!E3926),\"\",'Tenant Information'!E3926)","v":""}]
[null,null,null,{"$f":"IF(ISBLANK('Tenant Information'!E3927),\"\",'Tenant Information'!E3927)","v":""}]
[null,null,null,{"$f":"IF(ISBLANK('Tenant Information'!E3928),\"\",'Tenant Information'!E3928)","v":""}]
[null,null,null,{"$f":"IF(ISBLANK('Tenant Information'!E3929),\"\",'Tenant Information'!E3929)","v":""}]
[null,null,null,{"$f":"IF(ISBLANK('Tenant Information'!E3930),\"\",'Tenant Information'!E3930)","v":""}]
[null,null,null,{"$f":"IF(ISBLANK('Tenant Information'!E3931),\"\",'Tenant Information'!E3931)","v":""}]
[null,null,null,{"$f":"IF(ISBLANK('Tenant Information'!E3932),\"\",'Tenant Information'!E3932)","v":""}]
[null,null,null,{"$f":"IF(ISBLANK('Tenant Information'!E3933),\"\",'Tenant Information'!E3933)","v":""}]
[null,null,null,{"$f":"IF(ISBLANK('Tenant Information'!E3934),\"\",'Tenant Information'!E3934)","v":""}]
[null,null,null,{"$f":"IF(ISBLANK('Tenant Information'!E3935),\"\",'Tenant Information'!E3935)","v":""}]
[null,null,null,{"$f":"IF(ISBLANK('Tenant Information'!E3936),\"\",'Tenant Information'!E3936)","v":""}]
[null,null,null,{"$f":"IF(ISBLANK('Tenant Information'!E3937),\"\",'Tenant Information'!E3937)","v":""}]
[null,null,null,{"$f":"IF(ISBLANK('Tenant Information'!E3938),\"\",'Tenant Information'!E3938)","v":""}]
[null,null,null,{"$f":"IF(ISBLANK('Tenant Information'!E3939),\"\",'Tenant Information'!E3939)","v":""}]
[null,null,null,{"$f":"IF(ISBLANK('Tenant Information'!E3940),\"\",'Tenant Information'!E3940)","v":""}]
[null,null,null,{"$f":"IF(ISBLANK('Tenant Information'!E3941),\"\",'Tenant Information'!E3941)","v":""}]
[null,null,null,{"$f":"IF(ISBLANK('Tenant Information'!E3942),\"\",'Tenant Information'!E3942)","v":""}]
[null,null,null,{"$f":"IF(ISBLANK('Tenant Information'!E3943),\"\",'Tenant Information'!E3943)","v":""}]
[null,null,null,{"$f":"IF(ISBLANK('Tenant Information'!E3944),\"\",'Tenant Information'!E3944)","v":""}]
[null,null,null,{"$f":"IF(ISBLANK('Tenant Information'!E3945),\"\",'Tenant Information'!E3945)","v":""}]
[null,null,null,{"$f":"IF(ISBLANK('Tenant Information'!E3946),\"\",'Tenant Information'!E3946)","v":""}]
[null,null,null,{"$f":"IF(ISBLANK('Tenant Information'!E3947),\"\",'Tenant Information'!E3947)","v":""}]
[null,null,null,{"$f":"IF(ISBLANK('Tenant Information'!E3948),\"\",'Tenant Information'!E3948)","v":""}]
[null,null,null,{"$f":"IF(ISBLANK('Tenant Information'!E3949),\"\",'Tenant Information'!E3949)","v":""}]
[null,null,null,{"$f":"IF(ISBLANK('Tenant Information'!E3950),\"\",'Tenant Information'!E3950)","v":""}]
[null,null,null,{"$f":"IF(ISBLANK('Tenant Information'!E3951),\"\",'Tenant Information'!E3951)","v":""}]
[null,null,null,{"$f":"IF(ISBLANK('Tenant Information'!E3952),\"\",'Tenant Information'!E3952)","v":""}]
[null,null,null,{"$f":"IF(ISBLANK('Tenant Information'!E3953),\"\",'Tenant Information'!E3953)","v":""}]
[null,null,null,{"$f":"IF(ISBLANK('Tenant Information'!E3954),\"\",'Tenant Information'!E3954)","v":""}]
[null,null,null,{"$f":"IF(ISBLANK('Tenant Information'!E3955),\"\",'Tenant Information'!E3955)","v":""}]
[null,null,null,{"$f":"IF(ISBLANK('Tenant Information'!E3956),\"\",'Tenant Information'!E3956)","v":""}]
[null,null,null,{"$f":"IF(ISBLANK('Tenant Information'!E3957),\"\",'Tenant Information'!E3957)","v":""}]
[null,null,null,{"$f":"IF(ISBLANK('Tenant Information'!E3958),\"\",'Tenant Information'!E3958)","v":""}]
[null,null,null,{"$f":"IF(ISBLANK('Tenant Information'!E3959),\"\",'Tenant Information'!E3959)","v":""}]
[null,null,null,{"$f":"IF(ISBLANK('Tenant Information'!E3960),\"\",'Tenant Information'!E3960)","v":""}]
[null,null,null,{"$f":"IF(ISBLANK('Tenant Information'!E3961),\"\",'Tenant Information'!E3961)","v":""}]
[null,null,null,{"$f":"IF(ISBLANK('Tenant Information'!E3962),\"\",'Tenant Information'!E3962)","v":""}]
[null,null,null,{"$f":"IF(ISBLANK('Tenant Information'!E3963),\"\",'Tenant Information'!E3963)","v":""}]
[null,null,null,{"$f":"IF(ISBLANK('Tenant Information'!E3964),\"\",'Tenant Information'!E3964)","v":""}]
[null,null,null,{"$f":"IF(ISBLANK('Tenant Information'!E3965),\"\",'Tenant Information'!E3965)","v":""}]
[null,null,null,{"$f":"IF(ISBLANK('Tenant Information'!E3966),\"\",'Tenant Information'!E3966)","v":""}]
[null,null,null,{"$f":"IF(ISBLANK('Tenant Information'!E3967),\"\",'Tenant Information'!E3967)","v":""}]
[null,null,null,{"$f":"IF(ISBLANK('Tenant Information'!E3968),\"\",'Tenant Information'!E3968)","v":""}]
[null,null,null,{"$f":"IF(ISBLANK('Tenant Information'!E3969),\"\",'Tenant Information'!E3969)","v":""}]
[null,null,null,{"$f":"IF(ISBLANK('Tenant Information'!E3970),\"\",'Tenant Information'!E3970)","v":""}]
[null,null,null,{"$f":"IF(ISBLANK('Tenant Information'!E3971),\"\",'Tenant Information'!E3971)","v":""}]
[null,null,null,{"$f":"IF(ISBLANK('Tenant Information'!E3972),\"\",'Tenant Information'!E3972)","v":""}]
[null,null,null,{"$f":"IF(ISBLANK('Tenant Information'!E3973),\"\",'Tenant Information'!E3973)","v":""}]
[null,null,null,{"$f":"IF(ISBLANK('Tenant Information'!E3974),\"\",'Tenant Information'!E3974)","v":""}]
[null,null,null,{"$f":"IF(ISBLANK('Tenant Information'!E3975),\"\",'Tenant Information'!E3975)","v":""}]
[null,null,null,{"$f":"IF(ISBLANK('Tenant Information'!E3976),\"\",'Tenant Information'!E3976)","v":""}]
[null,null,null,{"$f":"IF(ISBLANK('Tenant Information'!E3977),\"\",'Tenant Information'!E3977)","v":""}]
[null,null,null,{"$f":"IF(ISBLANK('Tenant Information'!E3978),\"\",'Tenant Information'!E3978)","v":""}]
[null,null,null,{"$f":"IF(ISBLANK('Tenant Information'!E3979),\"\",'Tenant Information'!E3979)","v":""}]
[null,null,null,{"$f":"IF(ISBLANK('Tenant Information'!E3980),\"\",'Tenant Information'!E3980)","v":""}]
[null,null,null,{"$f":"IF(ISBLANK('Tenant Information'!E3981),\"\",'Tenant Information'!E3981)","v":""}]
[null,null,null,{"$f":"IF(ISBLANK('Tenant Information'!E3982),\"\",'Tenant Information'!E3982)","v":""}]
[null,null,null,{"$f":"IF(ISBLANK('Tenant Information'!E3983),\"\",'Tenant Information'!E3983)","v":""}]
[null,null,null,{"$f":"IF(ISBLANK('Tenant Information'!E3984),\"\",'Tenant Information'!E3984)","v":""}]
[null,null,null,{"$f":"IF(ISBLANK('Tenant Information'!E3985),\"\",'Tenant Information'!E3985)","v":""}]
[null,null,null,{"$f":"IF(ISBLANK('Tenant Information'!E3986),\"\",'Tenant Information'!E3986)","v":""}]
[null,null,null,{"$f":"IF(ISBLANK('Tenant Information'!E3987),\"\",'Tenant Information'!E3987)","v":""}]
[null,null,null,{"$f":"IF(ISBLANK('Tenant Information'!E3988),\"\",'Tenant Information'!E3988)","v":""}]
[null,null,null,{"$f":"IF(ISBLANK('Tenant Information'!E3989),\"\",'Tenant Information'!E3989)","v":""}]
[null,null,null,{"$f":"IF(ISBLANK('Tenant Information'!E3990),\"\",'Tenant Information'!E3990)","v":""}]
[null,null,null,{"$f":"IF(ISBLANK('Tenant Information'!E3991),\"\",'Tenant Information'!E3991)","v":""}]
[null,null,null,{"$f":"IF(ISBLANK('Tenant Information'!E3992),\"\",'Tenant Information'!E3992)","v":""}]
[null,null,null,{"$f":"IF(ISBLANK('Tenant Information'!E3993),\"\",'Tenant Information'!E3993)","v":""}]
[null,null,null,{"$f":"IF(ISBLANK('Tenant Information'!E3994),\"\",'Tenant Information'!E3994)","v":""}]
[null,null,null,{"$f":"IF(ISBLANK('Tenant Information'!E3995),\"\",'Tenant Information'!E3995)","v":""}]
[null,null,null,{"$f":"IF(ISBLANK('Tenant Information'!E3996),\"\",'Tenant Information'!E3996)","v":""}]
[null,null,null,{"$f":"IF(ISBLANK('Tenant Information'!E3997),\"\",'Tenant Information'!E3997)","v":""}]
[null,null,null,{"$f":"IF(ISBLANK('Tenant Information'!E3998),\"\",'Tenant Information'!E3998)","v":""}]
[null,null,null,{"$f":"IF(ISBLANK('Tenant Information'!E3999),\"\",'Tenant Information'!E3999)","v":""}]
[null,null,null,{"$f":"IF(ISBLANK('Tenant Information'!E4000),\"\",'Tenant Information'!E4000)","v":""}]
[null,null,null,{"$f":"IF(ISBLANK('Tenant Information'!E4001),\"\",'Tenant Information'!E4001)","v":""}]
[null,null,null,{"$f":"IF(ISBLANK('Tenant Information'!E4002),\"\",'Tenant Information'!E4002)","v":""}]
[null,null,null,{"$f":"IF(ISBLANK('Tenant Information'!E4003),\"\",'Tenant Information'!E4003)","v":""}]
[null,null,null,{"$f":"IF(ISBLANK('Tenant Information'!E4004),\"\",'Tenant Information'!E4004)","v":""}]
[null,null,null,{"$f":"IF(ISBLANK('Tenant Information'!E4005),\"\",'Tenant Information'!E4005)","v":""}]
[null,null,null,{"$f":"IF(ISBLANK('Tenant Information'!E4006),\"\",'Tenant Information'!E4006)","v":""}]
[null,null,null,{"$f":"IF(ISBLANK('Tenant Information'!E4007),\"\",'Tenant Information'!E4007)","v":""}]
[null,null,null,{"$f":"IF(ISBLANK('Tenant Information'!E4008),\"\",'Tenant Information'!E4008)","v":""}]
[null,null,null,{"$f":"IF(ISBLANK('Tenant Information'!E4009),\"\",'Tenant Information'!E4009)","v":""}]
[null,null,null,{"$f":"IF(ISBLANK('Tenant Information'!E4010),\"\",'Tenant Information'!E4010)","v":""}]
[null,null,null,{"$f":"IF(ISBLANK('Tenant Information'!E4011),\"\",'Tenant Information'!E4011)","v":""}]
[null,null,null,{"$f":"IF(ISBLANK('Tenant Information'!E4012),\"\",'Tenant Information'!E4012)","v":""}]
[null,null,null,{"$f":"IF(ISBLANK('Tenant Information'!E4013),\"\",'Tenant Information'!E4013)","v":""}]
[null,null,null,{"$f":"IF(ISBLANK('Tenant Information'!E4014),\"\",'Tenant Information'!E4014)","v":""}]
[null,null,null,{"$f":"IF(ISBLANK('Tenant Information'!E4015),\"\",'Tenant Information'!E4015)","v":""}]
[null,null,null,{"$f":"IF(ISBLANK('Tenant Information'!E4016),\"\",'Tenant Information'!E4016)","v":""}]
[null,null,null,{"$f":"IF(ISBLANK('Tenant Information'!E4017),\"\",'Tenant Information'!E4017)","v":""}]
[null,null,null,{"$f":"IF(ISBLANK('Tenant Information'!E4018),\"\",'Tenant Information'!E4018)","v":""}]
[null,null,null,{"$f":"IF(ISBLANK('Tenant Information'!E4019),\"\",'Tenant Information'!E4019)","v":""}]
[null,null,null,{"$f":"IF(ISBLANK('Tenant Information'!E4020),\"\",'Tenant Information'!E4020)","v":""}]
[null,null,null,{"$f":"IF(ISBLANK('Tenant Information'!E4021),\"\",'Tenant Information'!E4021)","v":""}]
[null,null,null,{"$f":"IF(ISBLANK('Tenant Information'!E4022),\"\",'Tenant Information'!E4022)","v":""}]
[null,null,null,{"$f":"IF(ISBLANK('Tenant Information'!E4023),\"\",'Tenant Information'!E4023)","v":""}]
[null,null,null,{"$f":"IF(ISBLANK('Tenant Information'!E4024),\"\",'Tenant Information'!E4024)","v":""}]
[null,null,null,{"$f":"IF(ISBLANK('Tenant Information'!E4025),\"\",'Tenant Information'!E4025)","v":""}]
[null,null,null,{"$f":"IF(ISBLANK('Tenant Information'!E4026),\"\",'Tenant Information'!E4026)","v":""}]
[null,null,null,{"$f":"IF(ISBLANK('Tenant Information'!E4027),\"\",'Tenant Information'!E4027)","v":""}]
[null,null,null,{"$f":"IF(ISBLANK('Tenant Information'!E4028),\"\",'Tenant Information'!E4028)","v":""}]
[null,null,null,{"$f":"IF(ISBLANK('Tenant Information'!E4029),\"\",'Tenant Information'!E4029)","v":""}]
[null,null,null,{"$f":"IF(ISBLANK('Tenant Information'!E4030),\"\",'Tenant Information'!E4030)","v":""}]
[null,null,null,{"$f":"IF(ISBLANK('Tenant Information'!E4031),\"\",'Tenant Information'!E4031)","v":""}]
[null,null,null,{"$f":"IF(ISBLANK('Tenant Information'!E4032),\"\",'Tenant Information'!E4032)","v":""}]
[null,null,null,{"$f":"IF(ISBLANK('Tenant Information'!E4033),\"\",'Tenant Information'!E4033)","v":""}]
[null,null,null,{"$f":"IF(ISBLANK('Tenant Information'!E4034),\"\",'Tenant Information'!E4034)","v":""}]
[null,null,null,{"$f":"IF(ISBLANK('Tenant Information'!E4035),\"\",'Tenant Information'!E4035)","v":""}]
[null,null,null,{"$f":"IF(ISBLANK('Tenant Information'!E4036),\"\",'Tenant Information'!E4036)","v":""}]
[null,null,null,{"$f":"IF(ISBLANK('Tenant Information'!E4037),\"\",'Tenant Information'!E4037)","v":""}]
[null,null,null,{"$f":"IF(ISBLANK('Tenant Information'!E4038),\"\",'Tenant Information'!E4038)","v":""}]
[null,null,null,{"$f":"IF(ISBLANK('Tenant Information'!E4039),\"\",'Tenant Information'!E4039)","v":""}]
[null,null,null,{"$f":"IF(ISBLANK('Tenant Information'!E4040),\"\",'Tenant Information'!E4040)","v":""}]
[null,null,null,{"$f":"IF(ISBLANK('Tenant Information'!E4041),\"\",'Tenant Information'!E4041)","v":""}]
[null,null,null,{"$f":"IF(ISBLANK('Tenant Information'!E4042),\"\",'Tenant Information'!E4042)","v":""}]
[null,null,null,{"$f":"IF(ISBLANK('Tenant Information'!E4043),\"\",'Tenant Information'!E4043)","v":""}]
[null,null,null,{"$f":"IF(ISBLANK('Tenant Information'!E4044),\"\",'Tenant Information'!E4044)","v":""}]
[null,null,null,{"$f":"IF(ISBLANK('Tenant Information'!E4045),\"\",'Tenant Information'!E4045)","v":""}]
[null,null,null,{"$f":"IF(ISBLANK('Tenant Information'!E4046),\"\",'Tenant Information'!E4046)","v":""}]
[null,null,null,{"$f":"IF(ISBLANK('Tenant Information'!E4047),\"\",'Tenant Information'!E4047)","v":""}]
[null,null,null,{"$f":"IF(ISBLANK('Tenant Information'!E4048),\"\",'Tenant Information'!E4048)","v":""}]
[null,null,null,{"$f":"IF(ISBLANK('Tenant Information'!E4049),\"\",'Tenant Information'!E4049)","v":""}]
[null,null,null,{"$f":"IF(ISBLANK('Tenant Information'!E4050),\"\",'Tenant Information'!E4050)","v":""}]
[null,null,null,{"$f":"IF(ISBLANK('Tenant Information'!E4051),\"\",'Tenant Information'!E4051)","v":""}]
[null,null,null,{"$f":"IF(ISBLANK('Tenant Information'!E4052),\"\",'Tenant Information'!E4052)","v":""}]
[null,null,null,{"$f":"IF(ISBLANK('Tenant Information'!E4053),\"\",'Tenant Information'!E4053)","v":""}]
[null,null,null,{"$f":"IF(ISBLANK('Tenant Information'!E4054),\"\",'Tenant Information'!E4054)","v":""}]
[null,null,null,{"$f":"IF(ISBLANK('Tenant Information'!E4055),\"\",'Tenant Information'!E4055)","v":""}]
[null,null,null,{"$f":"IF(ISBLANK('Tenant Information'!E4056),\"\",'Tenant Information'!E4056)","v":""}]
[null,null,null,{"$f":"IF(ISBLANK('Tenant Information'!E4057),\"\",'Tenant Information'!E4057)","v":""}]
[null,null,null,{"$f":"IF(ISBLANK('Tenant Information'!E4058),\"\",'Tenant Information'!E4058)","v":""}]
[null,null,null,{"$f":"IF(ISBLANK('Tenant Information'!E4059),\"\",'Tenant Information'!E4059)","v":""}]
[null,null,null,{"$f":"IF(ISBLANK('Tenant Information'!E4060),\"\",'Tenant Information'!E4060)","v":""}]
[null,null,null,{"$f":"IF(ISBLANK('Tenant Information'!E4061),\"\",'Tenant Information'!E4061)","v":""}]
[null,null,null,{"$f":"IF(ISBLANK('Tenant Information'!E4062),\"\",'Tenant Information'!E4062)","v":""}]
[null,null,null,{"$f":"IF(ISBLANK('Tenant Information'!E4063),\"\",'Tenant Information'!E4063)","v":""}]
[null,null,null,{"$f":"IF(ISBLANK('Tenant Information'!E4064),\"\",'Tenant Information'!E4064)","v":""}]
[null,null,null,{"$f":"IF(ISBLANK('Tenant Information'!E4065),\"\",'Tenant Information'!E4065)","v":""}]
[null,null,null,{"$f":"IF(ISBLANK('Tenant Information'!E4066),\"\",'Tenant Information'!E4066)","v":""}]
[null,null,null,{"$f":"IF(ISBLANK('Tenant Information'!E4067),\"\",'Tenant Information'!E4067)","v":""}]
[null,null,null,{"$f":"IF(ISBLANK('Tenant Information'!E4068),\"\",'Tenant Information'!E4068)","v":""}]
[null,null,null,{"$f":"IF(ISBLANK('Tenant Information'!E4069),\"\",'Tenant Information'!E4069)","v":""}]
[null,null,null,{"$f":"IF(ISBLANK('Tenant Information'!E4070),\"\",'Tenant Information'!E4070)","v":""}]
[null,null,null,{"$f":"IF(ISBLANK('Tenant Information'!E4071),\"\",'Tenant Information'!E4071)","v":""}]
[null,null,null,{"$f":"IF(ISBLANK('Tenant Information'!E4072),\"\",'Tenant Information'!E4072)","v":""}]
[null,null,null,{"$f":"IF(ISBLANK('Tenant Information'!E4073),\"\",'Tenant Information'!E4073)","v":""}]
[null,null,null,{"$f":"IF(ISBLANK('Tenant Information'!E4074),\"\",'Tenant Information'!E4074)","v":""}]
[null,null,null,{"$f":"IF(ISBLANK('Tenant Information'!E4075),\"\",'Tenant Information'!E4075)","v":""}]
[null,null,null,{"$f":"IF(ISBLANK('Tenant Information'!E4076),\"\",'Tenant Information'!E4076)","v":""}]
[null,null,null,{"$f":"IF(ISBLANK('Tenant Information'!E4077),\"\",'Tenant Information'!E4077)","v":""}]
[null,null,null,{"$f":"IF(ISBLANK('Tenant Information'!E4078),\"\",'Tenant Information'!E4078)","v":""}]
[null,null,null,{"$f":"IF(ISBLANK('Tenant Information'!E4079),\"\",'Tenant Information'!E4079)","v":""}]
[null,null,null,{"$f":"IF(ISBLANK('Tenant Information'!E4080),\"\",'Tenant Information'!E4080)","v":""}]
[null,null,null,{"$f":"IF(ISBLANK('Tenant Information'!E4081),\"\",'Tenant Information'!E4081)","v":""}]
[null,null,null,{"$f":"IF(ISBLANK('Tenant Information'!E4082),\"\",'Tenant Information'!E4082)","v":""}]
[null,null,null,{"$f":"IF(ISBLANK('Tenant Information'!E4083),\"\",'Tenant Information'!E4083)","v":""}]
[null,null,null,{"$f":"IF(ISBLANK('Tenant Information'!E4084),\"\",'Tenant Information'!E4084)","v":""}]
[null,null,null,{"$f":"IF(ISBLANK('Tenant Information'!E4085),\"\",'Tenant Information'!E4085)","v":""}]
[null,null,null,{"$f":"IF(ISBLANK('Tenant Information'!E4086),\"\",'Tenant Information'!E4086)","v":""}]
[null,null,null,{"$f":"IF(ISBLANK('Tenant Information'!E4087),\"\",'Tenant Information'!E4087)","v":""}]
[null,null,null,{"$f":"IF(ISBLANK('Tenant Information'!E4088),\"\",'Tenant Information'!E4088)","v":""}]
[null,null,null,{"$f":"IF(ISBLANK('Tenant Information'!E4089),\"\",'Tenant Information'!E4089)","v":""}]
[null,null,null,{"$f":"IF(ISBLANK('Tenant Information'!E4090),\"\",'Tenant Information'!E4090)","v":""}]
[null,null,null,{"$f":"IF(ISBLANK('Tenant Information'!E4091),\"\",'Tenant Information'!E4091)","v":""}]
[null,null,null,{"$f":"IF(ISBLANK('Tenant Information'!E4092),\"\",'Tenant Information'!E4092)","v":""}]
[null,null,null,{"$f":"IF(ISBLANK('Tenant Information'!E4093),\"\",'Tenant Information'!E4093)","v":""}]
[null,null,null,{"$f":"IF(ISBLANK('Tenant Information'!E4094),\"\",'Tenant Information'!E4094)","v":""}]
[null,null,null,{"$f":"IF(ISBLANK('Tenant Information'!E4095),\"\",'Tenant Information'!E4095)","v":""}]
[null,null,null,{"$f":"IF(ISBLANK('Tenant Information'!E4096),\"\",'Tenant Information'!E4096)","v":""}]
[null,null,null,{"$f":"IF(ISBLANK('Tenant Information'!E4097),\"\",'Tenant Information'!E4097)","v":""}]
[null,null,null,{"$f":"IF(ISBLANK('Tenant Information'!E4098),\"\",'Tenant Information'!E4098)","v":""}]
[null,null,null,{"$f":"IF(ISBLANK('Tenant Information'!E4099),\"\",'Tenant Information'!E4099)","v":""}]
[null,null,null,{"$f":"IF(ISBLANK('Tenant Information'!E4100),\"\",'Tenant Information'!E4100)","v":""}]
[null,null,null,{"$f":"IF(ISBLANK('Tenant Information'!E4101),\"\",'Tenant Information'!E4101)","v":""}]
[null,null,null,{"$f":"IF(ISBLANK('Tenant Information'!E4102),\"\",'Tenant Information'!E4102)","v":""}]
[null,null,null,{"$f":"IF(ISBLANK('Tenant Information'!E4103),\"\",'Tenant Information'!E4103)","v":""}]
[null,null,null,{"$f":"IF(ISBLANK('Tenant Information'!E4104),\"\",'Tenant Information'!E4104)","v":""}]
[null,null,null,{"$f":"IF(ISBLANK('Tenant Information'!E4105),\"\",'Tenant Information'!E4105)","v":""}]
[null,null,null,{"$f":"IF(ISBLANK('Tenant Information'!E4106),\"\",'Tenant Information'!E4106)","v":""}]
[null,null,null,{"$f":"IF(ISBLANK('Tenant Information'!E4107),\"\",'Tenant Information'!E4107)","v":""}]
[null,null,null,{"$f":"IF(ISBLANK('Tenant Information'!E4108),\"\",'Tenant Information'!E4108)","v":""}]
[null,null,null,{"$f":"IF(ISBLANK('Tenant Information'!E4109),\"\",'Tenant Information'!E4109)","v":""}]
[null,null,null,{"$f":"IF(ISBLANK('Tenant Information'!E4110),\"\",'Tenant Information'!E4110)","v":""}]
[null,null,null,{"$f":"IF(ISBLANK('Tenant Information'!E4111),\"\",'Tenant Information'!E4111)","v":""}]
[null,null,null,{"$f":"IF(ISBLANK('Tenant Information'!E4112),\"\",'Tenant Information'!E4112)","v":""}]
[null,null,null,{"$f":"IF(ISBLANK('Tenant Information'!E4113),\"\",'Tenant Information'!E4113)","v":""}]
[null,null,null,{"$f":"IF(ISBLANK('Tenant Information'!E4114),\"\",'Tenant Information'!E4114)","v":""}]
[null,null,null,{"$f":"IF(ISBLANK('Tenant Information'!E4115),\"\",'Tenant Information'!E4115)","v":""}]
[null,null,null,{"$f":"IF(ISBLANK('Tenant Information'!E4116),\"\",'Tenant Information'!E4116)","v":""}]
[null,null,null,{"$f":"IF(ISBLANK('Tenant Information'!E4117),\"\",'Tenant Information'!E4117)","v":""}]
[null,null,null,{"$f":"IF(ISBLANK('Tenant Information'!E4118),\"\",'Tenant Information'!E4118)","v":""}]
[null,null,null,{"$f":"IF(ISBLANK('Tenant Information'!E4119),\"\",'Tenant Information'!E4119)","v":""}]
[null,null,null,{"$f":"IF(ISBLANK('Tenant Information'!E4120),\"\",'Tenant Information'!E4120)","v":""}]
[null,null,null,{"$f":"IF(ISBLANK('Tenant Information'!E4121),\"\",'Tenant Information'!E4121)","v":""}]
[null,null,null,{"$f":"IF(ISBLANK('Tenant Information'!E4122),\"\",'Tenant Information'!E4122)","v":""}]
[null,null,null,{"$f":"IF(ISBLANK('Tenant Information'!E4123),\"\",'Tenant Information'!E4123)","v":""}]
[null,null,null,{"$f":"IF(ISBLANK('Tenant Information'!E4124),\"\",'Tenant Information'!E4124)","v":""}]
[null,null,null,{"$f":"IF(ISBLANK('Tenant Information'!E4125),\"\",'Tenant Information'!E4125)","v":""}]
[null,null,null,{"$f":"IF(ISBLANK('Tenant Information'!E4126),\"\",'Tenant Information'!E4126)","v":""}]
[null,null,null,{"$f":"IF(ISBLANK('Tenant Information'!E4127),\"\",'Tenant Information'!E4127)","v":""}]
[null,null,null,{"$f":"IF(ISBLANK('Tenant Information'!E4128),\"\",'Tenant Information'!E4128)","v":""}]
[null,null,null,{"$f":"IF(ISBLANK('Tenant Information'!E4129),\"\",'Tenant Information'!E4129)","v":""}]
[null,null,null,{"$f":"IF(ISBLANK('Tenant Information'!E4130),\"\",'Tenant Information'!E4130)","v":""}]
[null,null,null,{"$f":"IF(ISBLANK('Tenant Information'!E4131),\"\",'Tenant Information'!E4131)","v":""}]
[null,null,null,{"$f":"IF(ISBLANK('Tenant Information'!E4132),\"\",'Tenant Information'!E4132)","v":""}]
[null,null,null,{"$f":"IF(ISBLANK('Tenant Information'!E4133),\"\",'Tenant Information'!E4133)","v":""}]
[null,null,null,{"$f":"IF(ISBLANK('Tenant Information'!E4134),\"\",'Tenant Information'!E4134)","v":""}]
[null,null,null,{"$f":"IF(ISBLANK('Tenant Information'!E4135),\"\",'Tenant Information'!E4135)","v":""}]
[null,null,null,{"$f":"IF(ISBLANK('Tenant Information'!E4136),\"\",'Tenant Information'!E4136)","v":""}]
[null,null,null,{"$f":"IF(ISBLANK('Tenant Information'!E4137),\"\",'Tenant Information'!E4137)","v":""}]
[null,null,null,{"$f":"IF(ISBLANK('Tenant Information'!E4138),\"\",'Tenant Information'!E4138)","v":""}]
[null,null,null,{"$f":"IF(ISBLANK('Tenant Information'!E4139),\"\",'Tenant Information'!E4139)","v":""}]
[null,null,null,{"$f":"IF(ISBLANK('Tenant Information'!E4140),\"\",'Tenant Information'!E4140)","v":""}]
[null,null,null,{"$f":"IF(ISBLANK('Tenant Information'!E4141),\"\",'Tenant Information'!E4141)","v":""}]
[null,null,null,{"$f":"IF(ISBLANK('Tenant Information'!E4142),\"\",'Tenant Information'!E4142)","v":""}]
[null,null,null,{"$f":"IF(ISBLANK('Tenant Information'!E4143),\"\",'Tenant Information'!E4143)","v":""}]
[null,null,null,{"$f":"IF(ISBLANK('Tenant Information'!E4144),\"\",'Tenant Information'!E4144)","v":""}]
[null,null,null,{"$f":"IF(ISBLANK('Tenant Information'!E4145),\"\",'Tenant Information'!E4145)","v":""}]
[null,null,null,{"$f":"IF(ISBLANK('Tenant Information'!E4146),\"\",'Tenant Information'!E4146)","v":""}]
[null,null,null,{"$f":"IF(ISBLANK('Tenant Information'!E4147),\"\",'Tenant Information'!E4147)","v":""}]
[null,null,null,{"$f":"IF(ISBLANK('Tenant Information'!E4148),\"\",'Tenant Information'!E4148)","v":""}]
[null,null,null,{"$f":"IF(ISBLANK('Tenant Information'!E4149),\"\",'Tenant Information'!E4149)","v":""}]
[null,null,null,{"$f":"IF(ISBLANK('Tenant Information'!E4150),\"\",'Tenant Information'!E4150)","v":""}]
[null,null,null,{"$f":"IF(ISBLANK('Tenant Information'!E4151),\"\",'Tenant Information'!E4151)","v":""}]
[null,null,null,{"$f":"IF(ISBLANK('Tenant Information'!E4152),\"\",'Tenant Information'!E4152)","v":""}]
[null,null,null,{"$f":"IF(ISBLANK('Tenant Information'!E4153),\"\",'Tenant Information'!E4153)","v":""}]
[null,null,null,{"$f":"IF(ISBLANK('Tenant Information'!E4154),\"\",'Tenant Information'!E4154)","v":""}]
[null,null,null,{"$f":"IF(ISBLANK('Tenant Information'!E4155),\"\",'Tenant Information'!E4155)","v":""}]
[null,null,null,{"$f":"IF(ISBLANK('Tenant Information'!E4156),\"\",'Tenant Information'!E4156)","v":""}]
[null,null,null,{"$f":"IF(ISBLANK('Tenant Information'!E4157),\"\",'Tenant Information'!E4157)","v":""}]
[null,null,null,{"$f":"IF(ISBLANK('Tenant Information'!E4158),\"\",'Tenant Information'!E4158)","v":""}]
[null,null,null,{"$f":"IF(ISBLANK('Tenant Information'!E4159),\"\",'Tenant Information'!E4159)","v":""}]
[null,null,null,{"$f":"IF(ISBLANK('Tenant Information'!E4160),\"\",'Tenant Information'!E4160)","v":""}]
[null,null,null,{"$f":"IF(ISBLANK('Tenant Information'!E4161),\"\",'Tenant Information'!E4161)","v":""}]
[null,null,null,{"$f":"IF(ISBLANK('Tenant Information'!E4162),\"\",'Tenant Information'!E4162)","v":""}]
[null,null,null,{"$f":"IF(ISBLANK('Tenant Information'!E4163),\"\",'Tenant Information'!E4163)","v":""}]
[null,null,null,{"$f":"IF(ISBLANK('Tenant Information'!E4164),\"\",'Tenant Information'!E4164)","v":""}]
[null,null,null,{"$f":"IF(ISBLANK('Tenant Information'!E4165),\"\",'Tenant Information'!E4165)","v":""}]
[null,null,null,{"$f":"IF(ISBLANK('Tenant Information'!E4166),\"\",'Tenant Information'!E4166)","v":""}]
[null,null,null,{"$f":"IF(ISBLANK('Tenant Information'!E4167),\"\",'Tenant Information'!E4167)","v":""}]
[null,null,null,{"$f":"IF(ISBLANK('Tenant Information'!E4168),\"\",'Tenant Information'!E4168)","v":""}]
[null,null,null,{"$f":"IF(ISBLANK('Tenant Information'!E4169),\"\",'Tenant Information'!E4169)","v":""}]
[null,null,null,{"$f":"IF(ISBLANK('Tenant Information'!E4170),\"\",'Tenant Information'!E4170)","v":""}]
[null,null,null,{"$f":"IF(ISBLANK('Tenant Information'!E4171),\"\",'Tenant Information'!E4171)","v":""}]
[null,null,null,{"$f":"IF(ISBLANK('Tenant Information'!E4172),\"\",'Tenant Information'!E4172)","v":""}]
[null,null,null,{"$f":"IF(ISBLANK('Tenant Information'!E4173),\"\",'Tenant Information'!E4173)","v":""}]
[null,null,null,{"$f":"IF(ISBLANK('Tenant Information'!E4174),\"\",'Tenant Information'!E4174)","v":""}]
[null,null,null,{"$f":"IF(ISBLANK('Tenant Information'!E4175),\"\",'Tenant Information'!E4175)","v":""}]
[null,null,null,{"$f":"IF(ISBLANK('Tenant Information'!E4176),\"\",'Tenant Information'!E4176)","v":""}]
[null,null,null,{"$f":"IF(ISBLANK('Tenant Information'!E4177),\"\",'Tenant Information'!E4177)","v":""}]
[null,null,null,{"$f":"IF(ISBLANK('Tenant Information'!E4178),\"\",'Tenant Information'!E4178)","v":""}]
[null,null,null,{"$f":"IF(ISBLANK('Tenant Information'!E4179),\"\",'Tenant Information'!E4179)","v":""}]
[null,null,null,{"$f":"IF(ISBLANK('Tenant Information'!E4180),\"\",'Tenant Information'!E4180)","v":""}]
[null,null,null,{"$f":"IF(ISBLANK('Tenant Information'!E4181),\"\",'Tenant Information'!E4181)","v":""}]
[null,null,null,{"$f":"IF(ISBLANK('Tenant Information'!E4182),\"\",'Tenant Information'!E4182)","v":""}]
[null,null,null,{"$f":"IF(ISBLANK('Tenant Information'!E4183),\"\",'Tenant Information'!E4183)","v":""}]
[null,null,null,{"$f":"IF(ISBLANK('Tenant Information'!E4184),\"\",'Tenant Information'!E4184)","v":""}]
[null,null,null,{"$f":"IF(ISBLANK('Tenant Information'!E4185),\"\",'Tenant Information'!E4185)","v":""}]
[null,null,null,{"$f":"IF(ISBLANK('Tenant Information'!E4186),\"\",'Tenant Information'!E4186)","v":""}]
[null,null,null,{"$f":"IF(ISBLANK('Tenant Information'!E4187),\"\",'Tenant Information'!E4187)","v":""}]
[null,null,null,{"$f":"IF(ISBLANK('Tenant Information'!E4188),\"\",'Tenant Information'!E4188)","v":""}]
[null,null,null,{"$f":"IF(ISBLANK('Tenant Information'!E4189),\"\",'Tenant Information'!E4189)","v":""}]
[null,null,null,{"$f":"IF(ISBLANK('Tenant Information'!E4190),\"\",'Tenant Information'!E4190)","v":""}]
[null,null,null,{"$f":"IF(ISBLANK('Tenant Information'!E4191),\"\",'Tenant Information'!E4191)","v":""}]
[null,null,null,{"$f":"IF(ISBLANK('Tenant Information'!E4192),\"\",'Tenant Information'!E4192)","v":""}]
[null,null,null,{"$f":"IF(ISBLANK('Tenant Information'!E4193),\"\",'Tenant Information'!E4193)","v":""}]
[null,null,null,{"$f":"IF(ISBLANK('Tenant Information'!E4194),\"\",'Tenant Information'!E4194)","v":""}]
[null,null,null,{"$f":"IF(ISBLANK('Tenant Information'!E4195),\"\",'Tenant Information'!E4195)","v":""}]
[null,null,null,{"$f":"IF(ISBLANK('Tenant Information'!E4196),\"\",'Tenant Information'!E4196)","v":""}]
[null,null,null,{"$f":"IF(ISBLANK('Tenant Information'!E4197),\"\",'Tenant Information'!E4197)","v":""}]
[null,null,null,{"$f":"IF(ISBLANK('Tenant Information'!E4198),\"\",'Tenant Information'!E4198)","v":""}]
[null,null,null,{"$f":"IF(ISBLANK('Tenant Information'!E4199),\"\",'Tenant Information'!E4199)","v":""}]
[null,null,null,{"$f":"IF(ISBLANK('Tenant Information'!E4200),\"\",'Tenant Information'!E4200)","v":""}]
[null,null,null,{"$f":"IF(ISBLANK('Tenant Information'!E4201),\"\",'Tenant Information'!E4201)","v":""}]
[null,null,null,{"$f":"IF(ISBLANK('Tenant Information'!E4202),\"\",'Tenant Information'!E4202)","v":""}]
[null,null,null,{"$f":"IF(ISBLANK('Tenant Information'!E4203),\"\",'Tenant Information'!E4203)","v":""}]
[null,null,null,{"$f":"IF(ISBLANK('Tenant Information'!E4204),\"\",'Tenant Information'!E4204)","v":""}]
[null,null,null,{"$f":"IF(ISBLANK('Tenant Information'!E4205),\"\",'Tenant Information'!E4205)","v":""}]
[null,null,null,{"$f":"IF(ISBLANK('Tenant Information'!E4206),\"\",'Tenant Information'!E4206)","v":""}]
[null,null,null,{"$f":"IF(ISBLANK('Tenant Information'!E4207),\"\",'Tenant Information'!E4207)","v":""}]
[null,null,null,{"$f":"IF(ISBLANK('Tenant Information'!E4208),\"\",'Tenant Information'!E4208)","v":""}]
[null,null,null,{"$f":"IF(ISBLANK('Tenant Information'!E4209),\"\",'Tenant Information'!E4209)","v":""}]
[null,null,null,{"$f":"IF(ISBLANK('Tenant Information'!E4210),\"\",'Tenant Information'!E4210)","v":""}]
[null,null,null,{"$f":"IF(ISBLANK('Tenant Information'!E4211),\"\",'Tenant Information'!E4211)","v":""}]
[null,null,null,{"$f":"IF(ISBLANK('Tenant Information'!E4212),\"\",'Tenant Information'!E4212)","v":""}]
[null,null,null,{"$f":"IF(ISBLANK('Tenant Information'!E4213),\"\",'Tenant Information'!E4213)","v":""}]
[null,null,null,{"$f":"IF(ISBLANK('Tenant Information'!E4214),\"\",'Tenant Information'!E4214)","v":""}]
[null,null,null,{"$f":"IF(ISBLANK('Tenant Information'!E4215),\"\",'Tenant Information'!E4215)","v":""}]
[null,null,null,{"$f":"IF(ISBLANK('Tenant Information'!E4216),\"\",'Tenant Information'!E4216)","v":""}]
[null,null,null,{"$f":"IF(ISBLANK('Tenant Information'!E4217),\"\",'Tenant Information'!E4217)","v":""}]
[null,null,null,{"$f":"IF(ISBLANK('Tenant Information'!E4218),\"\",'Tenant Information'!E4218)","v":""}]
[null,null,null,{"$f":"IF(ISBLANK('Tenant Information'!E4219),\"\",'Tenant Information'!E4219)","v":""}]
[null,null,null,{"$f":"IF(ISBLANK('Tenant Information'!E4220),\"\",'Tenant Information'!E4220)","v":""}]
[null,null,null,{"$f":"IF(ISBLANK('Tenant Information'!E4221),\"\",'Tenant Information'!E4221)","v":""}]
[null,null,null,{"$f":"IF(ISBLANK('Tenant Information'!E4222),\"\",'Tenant Information'!E4222)","v":""}]
[null,null,null,{"$f":"IF(ISBLANK('Tenant Information'!E4223),\"\",'Tenant Information'!E4223)","v":""}]
[null,null,null,{"$f":"IF(ISBLANK('Tenant Information'!E4224),\"\",'Tenant Information'!E4224)","v":""}]
[null,null,null,{"$f":"IF(ISBLANK('Tenant Information'!E4225),\"\",'Tenant Information'!E4225)","v":""}]
[null,null,null,{"$f":"IF(ISBLANK('Tenant Information'!E4226),\"\",'Tenant Information'!E4226)","v":""}]
[null,null,null,{"$f":"IF(ISBLANK('Tenant Information'!E4227),\"\",'Tenant Information'!E4227)","v":""}]
[null,null,null,{"$f":"IF(ISBLANK('Tenant Information'!E4228),\"\",'Tenant Information'!E4228)","v":""}]
[null,null,null,{"$f":"IF(ISBLANK('Tenant Information'!E4229),\"\",'Tenant Information'!E4229)","v":""}]
[null,null,null,{"$f":"IF(ISBLANK('Tenant Information'!E4230),\"\",'Tenant Information'!E4230)","v":""}]
[null,null,null,{"$f":"IF(ISBLANK('Tenant Information'!E4231),\"\",'Tenant Information'!E4231)","v":""}]
[null,null,null,{"$f":"IF(ISBLANK('Tenant Information'!E4232),\"\",'Tenant Information'!E4232)","v":""}]
[null,null,null,{"$f":"IF(ISBLANK('Tenant Information'!E4233),\"\",'Tenant Information'!E4233)","v":""}]
[null,null,null,{"$f":"IF(ISBLANK('Tenant Information'!E4234),\"\",'Tenant Information'!E4234)","v":""}]
[null,null,null,{"$f":"IF(ISBLANK('Tenant Information'!E4235),\"\",'Tenant Information'!E4235)","v":""}]
[null,null,null,{"$f":"IF(ISBLANK('Tenant Information'!E4236),\"\",'Tenant Information'!E4236)","v":""}]
[null,null,null,{"$f":"IF(ISBLANK('Tenant Information'!E4237),\"\",'Tenant Information'!E4237)","v":""}]
[null,null,null,{"$f":"IF(ISBLANK('Tenant Information'!E4238),\"\",'Tenant Information'!E4238)","v":""}]
[null,null,null,{"$f":"IF(ISBLANK('Tenant Information'!E4239),\"\",'Tenant Information'!E4239)","v":""}]
[null,null,null,{"$f":"IF(ISBLANK('Tenant Information'!E4240),\"\",'Tenant Information'!E4240)","v":""}]
[null,null,null,{"$f":"IF(ISBLANK('Tenant Information'!E4241),\"\",'Tenant Information'!E4241)","v":""}]
[null,null,null,{"$f":"IF(ISBLANK('Tenant Information'!E4242),\"\",'Tenant Information'!E4242)","v":""}]
[null,null,null,{"$f":"IF(ISBLANK('Tenant Information'!E4243),\"\",'Tenant Information'!E4243)","v":""}]
[null,null,null,{"$f":"IF(ISBLANK('Tenant Information'!E4244),\"\",'Tenant Information'!E4244)","v":""}]
[null,null,null,{"$f":"IF(ISBLANK('Tenant Information'!E4245),\"\",'Tenant Information'!E4245)","v":""}]
[null,null,null,{"$f":"IF(ISBLANK('Tenant Information'!E4246),\"\",'Tenant Information'!E4246)","v":""}]
[null,null,null,{"$f":"IF(ISBLANK('Tenant Information'!E4247),\"\",'Tenant Information'!E4247)","v":""}]
[null,null,null,{"$f":"IF(ISBLANK('Tenant Information'!E4248),\"\",'Tenant Information'!E4248)","v":""}]
[null,null,null,{"$f":"IF(ISBLANK('Tenant Information'!E4249),\"\",'Tenant Information'!E4249)","v":""}]
[null,null,null,{"$f":"IF(ISBLANK('Tenant Information'!E4250),\"\",'Tenant Information'!E4250)","v":""}]
[null,null,null,{"$f":"IF(ISBLANK('Tenant Information'!E4251),\"\",'Tenant Information'!E4251)","v":""}]
[null,null,null,{"$f":"IF(ISBLANK('Tenant Information'!E4252),\"\",'Tenant Information'!E4252)","v":""}]
[null,null,null,{"$f":"IF(ISBLANK('Tenant Information'!E4253),\"\",'Tenant Information'!E4253)","v":""}]
[null,null,null,{"$f":"IF(ISBLANK('Tenant Information'!E4254),\"\",'Tenant Information'!E4254)","v":""}]
[null,null,null,{"$f":"IF(ISBLANK('Tenant Information'!E4255),\"\",'Tenant Information'!E4255)","v":""}]
[null,null,null,{"$f":"IF(ISBLANK('Tenant Information'!E4256),\"\",'Tenant Information'!E4256)","v":""}]
[null,null,null,{"$f":"IF(ISBLANK('Tenant Information'!E4257),\"\",'Tenant Information'!E4257)","v":""}]
[null,null,null,{"$f":"IF(ISBLANK('Tenant Information'!E4258),\"\",'Tenant Information'!E4258)","v":""}]
[null,null,null,{"$f":"IF(ISBLANK('Tenant Information'!E4259),\"\",'Tenant Information'!E4259)","v":""}]
[null,null,null,{"$f":"IF(ISBLANK('Tenant Information'!E4260),\"\",'Tenant Information'!E4260)","v":""}]
[null,null,null,{"$f":"IF(ISBLANK('Tenant Information'!E4261),\"\",'Tenant Information'!E4261)","v":""}]
[null,null,null,{"$f":"IF(ISBLANK('Tenant Information'!E4262),\"\",'Tenant Information'!E4262)","v":""}]
[null,null,null,{"$f":"IF(ISBLANK('Tenant Information'!E4263),\"\",'Tenant Information'!E4263)","v":""}]
[null,null,null,{"$f":"IF(ISBLANK('Tenant Information'!E4264),\"\",'Tenant Information'!E4264)","v":""}]
[null,null,null,{"$f":"IF(ISBLANK('Tenant Information'!E4265),\"\",'Tenant Information'!E4265)","v":""}]
[null,null,null,{"$f":"IF(ISBLANK('Tenant Information'!E4266),\"\",'Tenant Information'!E4266)","v":""}]
[null,null,null,{"$f":"IF(ISBLANK('Tenant Information'!E4267),\"\",'Tenant Information'!E4267)","v":""}]
[null,null,null,{"$f":"IF(ISBLANK('Tenant Information'!E4268),\"\",'Tenant Information'!E4268)","v":""}]
[null,null,null,{"$f":"IF(ISBLANK('Tenant Information'!E4269),\"\",'Tenant Information'!E4269)","v":""}]
[null,null,null,{"$f":"IF(ISBLANK('Tenant Information'!E4270),\"\",'Tenant Information'!E4270)","v":""}]
[null,null,null,{"$f":"IF(ISBLANK('Tenant Information'!E4271),\"\",'Tenant Information'!E4271)","v":""}]
[null,null,null,{"$f":"IF(ISBLANK('Tenant Information'!E4272),\"\",'Tenant Information'!E4272)","v":""}]
[null,null,null,{"$f":"IF(ISBLANK('Tenant Information'!E4273),\"\",'Tenant Information'!E4273)","v":""}]
[null,null,null,{"$f":"IF(ISBLANK('Tenant Information'!E4274),\"\",'Tenant Information'!E4274)","v":""}]
[null,null,null,{"$f":"IF(ISBLANK('Tenant Information'!E4275),\"\",'Tenant Information'!E4275)","v":""}]
[null,null,null,{"$f":"IF(ISBLANK('Tenant Information'!E4276),\"\",'Tenant Information'!E4276)","v":""}]
[null,null,null,{"$f":"IF(ISBLANK('Tenant Information'!E4277),\"\",'Tenant Information'!E4277)","v":""}]
[null,null,null,{"$f":"IF(ISBLANK('Tenant Information'!E4278),\"\",'Tenant Information'!E4278)","v":""}]
[null,null,null,{"$f":"IF(ISBLANK('Tenant Information'!E4279),\"\",'Tenant Information'!E4279)","v":""}]
[null,null,null,{"$f":"IF(ISBLANK('Tenant Information'!E4280),\"\",'Tenant Information'!E4280)","v":""}]
[null,null,null,{"$f":"IF(ISBLANK('Tenant Information'!E4281),\"\",'Tenant Information'!E4281)","v":""}]
[null,null,null,{"$f":"IF(ISBLANK('Tenant Information'!E4282),\"\",'Tenant Information'!E4282)","v":""}]
[null,null,null,{"$f":"IF(ISBLANK('Tenant Information'!E4283),\"\",'Tenant Information'!E4283)","v":""}]
[null,null,null,{"$f":"IF(ISBLANK('Tenant Information'!E4284),\"\",'Tenant Information'!E4284)","v":""}]
[null,null,null,{"$f":"IF(ISBLANK('Tenant Information'!E4285),\"\",'Tenant Information'!E4285)","v":""}]
[null,null,null,{"$f":"IF(ISBLANK('Tenant Information'!E4286),\"\",'Tenant Information'!E4286)","v":""}]
[null,null,null,{"$f":"IF(ISBLANK('Tenant Information'!E4287),\"\",'Tenant Information'!E4287)","v":""}]
[null,null,null,{"$f":"IF(ISBLANK('Tenant Information'!E4288),\"\",'Tenant Information'!E4288)","v":""}]
[null,null,null,{"$f":"IF(ISBLANK('Tenant Information'!E4289),\"\",'Tenant Information'!E4289)","v":""}]
[null,null,null,{"$f":"IF(ISBLANK('Tenant Information'!E4290),\"\",'Tenant Information'!E4290)","v":""}]
[null,null,null,{"$f":"IF(ISBLANK('Tenant Information'!E4291),\"\",'Tenant Information'!E4291)","v":""}]
[null,null,null,{"$f":"IF(ISBLANK('Tenant Information'!E4292),\"\",'Tenant Information'!E4292)","v":""}]
[null,null,null,{"$f":"IF(ISBLANK('Tenant Information'!E4293),\"\",'Tenant Information'!E4293)","v":""}]
[null,null,null,{"$f":"IF(ISBLANK('Tenant Information'!E4294),\"\",'Tenant Information'!E4294)","v":""}]
[null,null,null,{"$f":"IF(ISBLANK('Tenant Information'!E4295),\"\",'Tenant Information'!E4295)","v":""}]
[null,null,null,{"$f":"IF(ISBLANK('Tenant Information'!E4296),\"\",'Tenant Information'!E4296)","v":""}]
[null,null,null,{"$f":"IF(ISBLANK('Tenant Information'!E4297),\"\",'Tenant Information'!E4297)","v":""}]
[null,null,null,{"$f":"IF(ISBLANK('Tenant Information'!E4298),\"\",'Tenant Information'!E4298)","v":""}]
[null,null,null,{"$f":"IF(ISBLANK('Tenant Information'!E4299),\"\",'Tenant Information'!E4299)","v":""}]
[null,null,null,{"$f":"IF(ISBLANK('Tenant Information'!E4300),\"\",'Tenant Information'!E4300)","v":""}]
[null,null,null,{"$f":"IF(ISBLANK('Tenant Information'!E4301),\"\",'Tenant Information'!E4301)","v":""}]
[null,null,null,{"$f":"IF(ISBLANK('Tenant Information'!E4302),\"\",'Tenant Information'!E4302)","v":""}]
[null,null,null,{"$f":"IF(ISBLANK('Tenant Information'!E4303),\"\",'Tenant Information'!E4303)","v":""}]
[null,null,null,{"$f":"IF(ISBLANK('Tenant Information'!E4304),\"\",'Tenant Information'!E4304)","v":""}]
[null,null,null,{"$f":"IF(ISBLANK('Tenant Information'!E4305),\"\",'Tenant Information'!E4305)","v":""}]
[null,null,null,{"$f":"IF(ISBLANK('Tenant Information'!E4306),\"\",'Tenant Information'!E4306)","v":""}]
[null,null,null,{"$f":"IF(ISBLANK('Tenant Information'!E4307),\"\",'Tenant Information'!E4307)","v":""}]
[null,null,null,{"$f":"IF(ISBLANK('Tenant Information'!E4308),\"\",'Tenant Information'!E4308)","v":""}]
[null,null,null,{"$f":"IF(ISBLANK('Tenant Information'!E4309),\"\",'Tenant Information'!E4309)","v":""}]
[null,null,null,{"$f":"IF(ISBLANK('Tenant Information'!E4310),\"\",'Tenant Information'!E4310)","v":""}]
[null,null,null,{"$f":"IF(ISBLANK('Tenant Information'!E4311),\"\",'Tenant Information'!E4311)","v":""}]
[null,null,null,{"$f":"IF(ISBLANK('Tenant Information'!E4312),\"\",'Tenant Information'!E4312)","v":""}]
[null,null,null,{"$f":"IF(ISBLANK('Tenant Information'!E4313),\"\",'Tenant Information'!E4313)","v":""}]
[null,null,null,{"$f":"IF(ISBLANK('Tenant Information'!E4314),\"\",'Tenant Information'!E4314)","v":""}]
[null,null,null,{"$f":"IF(ISBLANK('Tenant Information'!E4315),\"\",'Tenant Information'!E4315)","v":""}]
[null,null,null,{"$f":"IF(ISBLANK('Tenant Information'!E4316),\"\",'Tenant Information'!E4316)","v":""}]
[null,null,null,{"$f":"IF(ISBLANK('Tenant Information'!E4317),\"\",'Tenant Information'!E4317)","v":""}]
[null,null,null,{"$f":"IF(ISBLANK('Tenant Information'!E4318),\"\",'Tenant Information'!E4318)","v":""}]
[null,null,null,{"$f":"IF(ISBLANK('Tenant Information'!E4319),\"\",'Tenant Information'!E4319)","v":""}]
[null,null,null,{"$f":"IF(ISBLANK('Tenant Information'!E4320),\"\",'Tenant Information'!E4320)","v":""}]
[null,null,null,{"$f":"IF(ISBLANK('Tenant Information'!E4321),\"\",'Tenant Information'!E4321)","v":""}]
[null,null,null,{"$f":"IF(ISBLANK('Tenant Information'!E4322),\"\",'Tenant Information'!E4322)","v":""}]
[null,null,null,{"$f":"IF(ISBLANK('Tenant Information'!E4323),\"\",'Tenant Information'!E4323)","v":""}]
[null,null,null,{"$f":"IF(ISBLANK('Tenant Information'!E4324),\"\",'Tenant Information'!E4324)","v":""}]
[null,null,null,{"$f":"IF(ISBLANK('Tenant Information'!E4325),\"\",'Tenant Information'!E4325)","v":""}]
[null,null,null,{"$f":"IF(ISBLANK('Tenant Information'!E4326),\"\",'Tenant Information'!E4326)","v":""}]
[null,null,null,{"$f":"IF(ISBLANK('Tenant Information'!E4327),\"\",'Tenant Information'!E4327)","v":""}]
[null,null,null,{"$f":"IF(ISBLANK('Tenant Information'!E4328),\"\",'Tenant Information'!E4328)","v":""}]
[null,null,null,{"$f":"IF(ISBLANK('Tenant Information'!E4329),\"\",'Tenant Information'!E4329)","v":""}]
[null,null,null,{"$f":"IF(ISBLANK('Tenant Information'!E4330),\"\",'Tenant Information'!E4330)","v":""}]
[null,null,null,{"$f":"IF(ISBLANK('Tenant Information'!E4331),\"\",'Tenant Information'!E4331)","v":""}]
[null,null,null,{"$f":"IF(ISBLANK('Tenant Information'!E4332),\"\",'Tenant Information'!E4332)","v":""}]
[null,null,null,{"$f":"IF(ISBLANK('Tenant Information'!E4333),\"\",'Tenant Information'!E4333)","v":""}]
[null,null,null,{"$f":"IF(ISBLANK('Tenant Information'!E4334),\"\",'Tenant Information'!E4334)","v":""}]
[null,null,null,{"$f":"IF(ISBLANK('Tenant Information'!E4335),\"\",'Tenant Information'!E4335)","v":""}]
[null,null,null,{"$f":"IF(ISBLANK('Tenant Information'!E4336),\"\",'Tenant Information'!E4336)","v":""}]
[null,null,null,{"$f":"IF(ISBLANK('Tenant Information'!E4337),\"\",'Tenant Information'!E4337)","v":""}]
[null,null,null,{"$f":"IF(ISBLANK('Tenant Information'!E4338),\"\",'Tenant Information'!E4338)","v":""}]
[null,null,null,{"$f":"IF(ISBLANK('Tenant Information'!E4339),\"\",'Tenant Information'!E4339)","v":""}]
[null,null,null,{"$f":"IF(ISBLANK('Tenant Information'!E4340),\"\",'Tenant Information'!E4340)","v":""}]
[null,null,null,{"$f":"IF(ISBLANK('Tenant Information'!E4341),\"\",'Tenant Information'!E4341)","v":""}]
[null,null,null,{"$f":"IF(ISBLANK('Tenant Information'!E4342),\"\",'Tenant Information'!E4342)","v":""}]
[null,null,null,{"$f":"IF(ISBLANK('Tenant Information'!E4343),\"\",'Tenant Information'!E4343)","v":""}]
[null,null,null,{"$f":"IF(ISBLANK('Tenant Information'!E4344),\"\",'Tenant Information'!E4344)","v":""}]
[null,null,null,{"$f":"IF(ISBLANK('Tenant Information'!E4345),\"\",'Tenant Information'!E4345)","v":""}]
[null,null,null,{"$f":"IF(ISBLANK('Tenant Information'!E4346),\"\",'Tenant Information'!E4346)","v":""}]
[null,null,null,{"$f":"IF(ISBLANK('Tenant Information'!E4347),\"\",'Tenant Information'!E4347)","v":""}]
[null,null,null,{"$f":"IF(ISBLANK('Tenant Information'!E4348),\"\",'Tenant Information'!E4348)","v":""}]
[null,null,null,{"$f":"IF(ISBLANK('Tenant Information'!E4349),\"\",'Tenant Information'!E4349)","v":""}]
[null,null,null,{"$f":"IF(ISBLANK('Tenant Information'!E4350),\"\",'Tenant Information'!E4350)","v":""}]
[null,null,null,{"$f":"IF(ISBLANK('Tenant Information'!E4351),\"\",'Tenant Information'!E4351)","v":""}]
[null,null,null,{"$f":"IF(ISBLANK('Tenant Information'!E4352),\"\",'Tenant Information'!E4352)","v":""}]
[null,null,null,{"$f":"IF(ISBLANK('Tenant Information'!E4353),\"\",'Tenant Information'!E4353)","v":""}]
[null,null,null,{"$f":"IF(ISBLANK('Tenant Information'!E4354),\"\",'Tenant Information'!E4354)","v":""}]
[null,null,null,{"$f":"IF(ISBLANK('Tenant Information'!E4355),\"\",'Tenant Information'!E4355)","v":""}]
[null,null,null,{"$f":"IF(ISBLANK('Tenant Information'!E4356),\"\",'Tenant Information'!E4356)","v":""}]
[null,null,null,{"$f":"IF(ISBLANK('Tenant Information'!E4357),\"\",'Tenant Information'!E4357)","v":""}]
[null,null,null,{"$f":"IF(ISBLANK('Tenant Information'!E4358),\"\",'Tenant Information'!E4358)","v":""}]
[null,null,null,{"$f":"IF(ISBLANK('Tenant Information'!E4359),\"\",'Tenant Information'!E4359)","v":""}]
[null,null,null,{"$f":"IF(ISBLANK('Tenant Information'!E4360),\"\",'Tenant Information'!E4360)","v":""}]
[null,null,null,{"$f":"IF(ISBLANK('Tenant Information'!E4361),\"\",'Tenant Information'!E4361)","v":""}]
[null,null,null,{"$f":"IF(ISBLANK('Tenant Information'!E4362),\"\",'Tenant Information'!E4362)","v":""}]
[null,null,null,{"$f":"IF(ISBLANK('Tenant Information'!E4363),\"\",'Tenant Information'!E4363)","v":""}]
[null,null,null,{"$f":"IF(ISBLANK('Tenant Information'!E4364),\"\",'Tenant Information'!E4364)","v":""}]
[null,null,null,{"$f":"IF(ISBLANK('Tenant Information'!E4365),\"\",'Tenant Information'!E4365)","v":""}]
[null,null,null,{"$f":"IF(ISBLANK('Tenant Information'!E4366),\"\",'Tenant Information'!E4366)","v":""}]
[null,null,null,{"$f":"IF(ISBLANK('Tenant Information'!E4367),\"\",'Tenant Information'!E4367)","v":""}]
[null,null,null,{"$f":"IF(ISBLANK('Tenant Information'!E4368),\"\",'Tenant Information'!E4368)","v":""}]
[null,null,null,{"$f":"IF(ISBLANK('Tenant Information'!E4369),\"\",'Tenant Information'!E4369)","v":""}]
[null,null,null,{"$f":"IF(ISBLANK('Tenant Information'!E4370),\"\",'Tenant Information'!E4370)","v":""}]
[null,null,null,{"$f":"IF(ISBLANK('Tenant Information'!E4371),\"\",'Tenant Information'!E4371)","v":""}]
[null,null,null,{"$f":"IF(ISBLANK('Tenant Information'!E4372),\"\",'Tenant Information'!E4372)","v":""}]
[null,null,null,{"$f":"IF(ISBLANK('Tenant Information'!E4373),\"\",'Tenant Information'!E4373)","v":""}]
[null,null,null,{"$f":"IF(ISBLANK('Tenant Information'!E4374),\"\",'Tenant Information'!E4374)","v":""}]
[null,null,null,{"$f":"IF(ISBLANK('Tenant Information'!E4375),\"\",'Tenant Information'!E4375)","v":""}]
[null,null,null,{"$f":"IF(ISBLANK('Tenant Information'!E4376),\"\",'Tenant Information'!E4376)","v":""}]
[null,null,null,{"$f":"IF(ISBLANK('Tenant Information'!E4377),\"\",'Tenant Information'!E4377)","v":""}]
[null,null,null,{"$f":"IF(ISBLANK('Tenant Information'!E4378),\"\",'Tenant Information'!E4378)","v":""}]
[null,null,null,{"$f":"IF(ISBLANK('Tenant Information'!E4379),\"\",'Tenant Information'!E4379)","v":""}]
[null,null,null,{"$f":"IF(ISBLANK('Tenant Information'!E4380),\"\",'Tenant Information'!E4380)","v":""}]
[null,null,null,{"$f":"IF(ISBLANK('Tenant Information'!E4381),\"\",'Tenant Information'!E4381)","v":""}]
[null,null,null,{"$f":"IF(ISBLANK('Tenant Information'!E4382),\"\",'Tenant Information'!E4382)","v":""}]
[null,null,null,{"$f":"IF(ISBLANK('Tenant Information'!E4383),\"\",'Tenant Information'!E4383)","v":""}]
[null,null,null,{"$f":"IF(ISBLANK('Tenant Information'!E4384),\"\",'Tenant Information'!E4384)","v":""}]
[null,null,null,{"$f":"IF(ISBLANK('Tenant Information'!E4385),\"\",'Tenant Information'!E4385)","v":""}]
[null,null,null,{"$f":"IF(ISBLANK('Tenant Information'!E4386),\"\",'Tenant Information'!E4386)","v":""}]
[null,null,null,{"$f":"IF(ISBLANK('Tenant Information'!E4387),\"\",'Tenant Information'!E4387)","v":""}]
[null,null,null,{"$f":"IF(ISBLANK('Tenant Information'!E4388),\"\",'Tenant Information'!E4388)","v":""}]
[null,null,null,{"$f":"IF(ISBLANK('Tenant Information'!E4389),\"\",'Tenant Information'!E4389)","v":""}]
[null,null,null,{"$f":"IF(ISBLANK('Tenant Information'!E4390),\"\",'Tenant Information'!E4390)","v":""}]
[null,null,null,{"$f":"IF(ISBLANK('Tenant Information'!E4391),\"\",'Tenant Information'!E4391)","v":""}]
[null,null,null,{"$f":"IF(ISBLANK('Tenant Information'!E4392),\"\",'Tenant Information'!E4392)","v":""}]
[null,null,null,{"$f":"IF(ISBLANK('Tenant Information'!E4393),\"\",'Tenant Information'!E4393)","v":""}]
[null,null,null,{"$f":"IF(ISBLANK('Tenant Information'!E4394),\"\",'Tenant Information'!E4394)","v":""}]
[null,null,null,{"$f":"IF(ISBLANK('Tenant Information'!E4395),\"\",'Tenant Information'!E4395)","v":""}]
[null,null,null,{"$f":"IF(ISBLANK('Tenant Information'!E4396),\"\",'Tenant Information'!E4396)","v":""}]
[null,null,null,{"$f":"IF(ISBLANK('Tenant Information'!E4397),\"\",'Tenant Information'!E4397)","v":""}]
[null,null,null,{"$f":"IF(ISBLANK('Tenant Information'!E4398),\"\",'Tenant Information'!E4398)","v":""}]
[null,null,null,{"$f":"IF(ISBLANK('Tenant Information'!E4399),\"\",'Tenant Information'!E4399)","v":""}]
[null,null,null,{"$f":"IF(ISBLANK('Tenant Information'!E4400),\"\",'Tenant Information'!E4400)","v":""}]
[null,null,null,{"$f":"IF(ISBLANK('Tenant Information'!E4401),\"\",'Tenant Information'!E4401)","v":""}]
[null,null,null,{"$f":"IF(ISBLANK('Tenant Information'!E4402),\"\",'Tenant Information'!E4402)","v":""}]
[null,null,null,{"$f":"IF(ISBLANK('Tenant Information'!E4403),\"\",'Tenant Information'!E4403)","v":""}]
[null,null,null,{"$f":"IF(ISBLANK('Tenant Information'!E4404),\"\",'Tenant Information'!E4404)","v":""}]
[null,null,null,{"$f":"IF(ISBLANK('Tenant Information'!E4405),\"\",'Tenant Information'!E4405)","v":""}]
[null,null,null,{"$f":"IF(ISBLANK('Tenant Information'!E4406),\"\",'Tenant Information'!E4406)","v":""}]
[null,null,null,{"$f":"IF(ISBLANK('Tenant Information'!E4407),\"\",'Tenant Information'!E4407)","v":""}]
[null,null,null,{"$f":"IF(ISBLANK('Tenant Information'!E4408),\"\",'Tenant Information'!E4408)","v":""}]
[null,null,null,{"$f":"IF(ISBLANK('Tenant Information'!E4409),\"\",'Tenant Information'!E4409)","v":""}]
[null,null,null,{"$f":"IF(ISBLANK('Tenant Information'!E4410),\"\",'Tenant Information'!E4410)","v":""}]
[null,null,null,{"$f":"IF(ISBLANK('Tenant Information'!E4411),\"\",'Tenant Information'!E4411)","v":""}]
[null,null,null,{"$f":"IF(ISBLANK('Tenant Information'!E4412),\"\",'Tenant Information'!E4412)","v":""}]
[null,null,null,{"$f":"IF(ISBLANK('Tenant Information'!E4413),\"\",'Tenant Information'!E4413)","v":""}]
[null,null,null,{"$f":"IF(ISBLANK('Tenant Information'!E4414),\"\",'Tenant Information'!E4414)","v":""}]
[null,null,null,{"$f":"IF(ISBLANK('Tenant Information'!E4415),\"\",'Tenant Information'!E4415)","v":""}]
[null,null,null,{"$f":"IF(ISBLANK('Tenant Information'!E4416),\"\",'Tenant Information'!E4416)","v":""}]
[null,null,null,{"$f":"IF(ISBLANK('Tenant Information'!E4417),\"\",'Tenant Information'!E4417)","v":""}]
[null,null,null,{"$f":"IF(ISBLANK('Tenant Information'!E4418),\"\",'Tenant Information'!E4418)","v":""}]
[null,null,null,{"$f":"IF(ISBLANK('Tenant Information'!E4419),\"\",'Tenant Information'!E4419)","v":""}]
[null,null,null,{"$f":"IF(ISBLANK('Tenant Information'!E4420),\"\",'Tenant Information'!E4420)","v":""}]
[null,null,null,{"$f":"IF(ISBLANK('Tenant Information'!E4421),\"\",'Tenant Information'!E4421)","v":""}]
[null,null,null,{"$f":"IF(ISBLANK('Tenant Information'!E4422),\"\",'Tenant Information'!E4422)","v":""}]
[null,null,null,{"$f":"IF(ISBLANK('Tenant Information'!E4423),\"\",'Tenant Information'!E4423)","v":""}]
[null,null,null,{"$f":"IF(ISBLANK('Tenant Information'!E4424),\"\",'Tenant Information'!E4424)","v":""}]
[null,null,null,{"$f":"IF(ISBLANK('Tenant Information'!E4425),\"\",'Tenant Information'!E4425)","v":""}]
[null,null,null,{"$f":"IF(ISBLANK('Tenant Information'!E4426),\"\",'Tenant Information'!E4426)","v":""}]
[null,null,null,{"$f":"IF(ISBLANK('Tenant Information'!E4427),\"\",'Tenant Information'!E4427)","v":""}]
[null,null,null,{"$f":"IF(ISBLANK('Tenant Information'!E4428),\"\",'Tenant Information'!E4428)","v":""}]
[null,null,null,{"$f":"IF(ISBLANK('Tenant Information'!E4429),\"\",'Tenant Information'!E4429)","v":""}]
[null,null,null,{"$f":"IF(ISBLANK('Tenant Information'!E4430),\"\",'Tenant Information'!E4430)","v":""}]
[null,null,null,{"$f":"IF(ISBLANK('Tenant Information'!E4431),\"\",'Tenant Information'!E4431)","v":""}]
[null,null,null,{"$f":"IF(ISBLANK('Tenant Information'!E4432),\"\",'Tenant Information'!E4432)","v":""}]
[null,null,null,{"$f":"IF(ISBLANK('Tenant Information'!E4433),\"\",'Tenant Information'!E4433)","v":""}]
[null,null,null,{"$f":"IF(ISBLANK('Tenant Information'!E4434),\"\",'Tenant Information'!E4434)","v":""}]
[null,null,null,{"$f":"IF(ISBLANK('Tenant Information'!E4435),\"\",'Tenant Information'!E4435)","v":""}]
[null,null,null,{"$f":"IF(ISBLANK('Tenant Information'!E4436),\"\",'Tenant Information'!E4436)","v":""}]
[null,null,null,{"$f":"IF(ISBLANK('Tenant Information'!E4437),\"\",'Tenant Information'!E4437)","v":""}]
[null,null,null,{"$f":"IF(ISBLANK('Tenant Information'!E4438),\"\",'Tenant Information'!E4438)","v":""}]
[null,null,null,{"$f":"IF(ISBLANK('Tenant Information'!E4439),\"\",'Tenant Information'!E4439)","v":""}]
[null,null,null,{"$f":"IF(ISBLANK('Tenant Information'!E4440),\"\",'Tenant Information'!E4440)","v":""}]
[null,null,null,{"$f":"IF(ISBLANK('Tenant Information'!E4441),\"\",'Tenant Information'!E4441)","v":""}]
[null,null,null,{"$f":"IF(ISBLANK('Tenant Information'!E4442),\"\",'Tenant Information'!E4442)","v":""}]
[null,null,null,{"$f":"IF(ISBLANK('Tenant Information'!E4443),\"\",'Tenant Information'!E4443)","v":""}]
[null,null,null,{"$f":"IF(ISBLANK('Tenant Information'!E4444),\"\",'Tenant Information'!E4444)","v":""}]
[null,null,null,{"$f":"IF(ISBLANK('Tenant Information'!E4445),\"\",'Tenant Information'!E4445)","v":""}]
[null,null,null,{"$f":"IF(ISBLANK('Tenant Information'!E4446),\"\",'Tenant Information'!E4446)","v":""}]
[null,null,null,{"$f":"IF(ISBLANK('Tenant Information'!E4447),\"\",'Tenant Information'!E4447)","v":""}]
[null,null,null,{"$f":"IF(ISBLANK('Tenant Information'!E4448),\"\",'Tenant Information'!E4448)","v":""}]
[null,null,null,{"$f":"IF(ISBLANK('Tenant Information'!E4449),\"\",'Tenant Information'!E4449)","v":""}]
[null,null,null,{"$f":"IF(ISBLANK('Tenant Information'!E4450),\"\",'Tenant Information'!E4450)","v":""}]
[null,null,null,{"$f":"IF(ISBLANK('Tenant Information'!E4451),\"\",'Tenant Information'!E4451)","v":""}]
[null,null,null,{"$f":"IF(ISBLANK('Tenant Information'!E4452),\"\",'Tenant Information'!E4452)","v":""}]
[null,null,null,{"$f":"IF(ISBLANK('Tenant Information'!E4453),\"\",'Tenant Information'!E4453)","v":""}]
[null,null,null,{"$f":"IF(ISBLANK('Tenant Information'!E4454),\"\",'Tenant Information'!E4454)","v":""}]
[null,null,null,{"$f":"IF(ISBLANK('Tenant Information'!E4455),\"\",'Tenant Information'!E4455)","v":""}]
[null,null,null,{"$f":"IF(ISBLANK('Tenant Information'!E4456),\"\",'Tenant Information'!E4456)","v":""}]
[null,null,null,{"$f":"IF(ISBLANK('Tenant Information'!E4457),\"\",'Tenant Information'!E4457)","v":""}]
[null,null,null,{"$f":"IF(ISBLANK('Tenant Information'!E4458),\"\",'Tenant Information'!E4458)","v":""}]
[null,null,null,{"$f":"IF(ISBLANK('Tenant Information'!E4459),\"\",'Tenant Information'!E4459)","v":""}]
[null,null,null,{"$f":"IF(ISBLANK('Tenant Information'!E4460),\"\",'Tenant Information'!E4460)","v":""}]
[null,null,null,{"$f":"IF(ISBLANK('Tenant Information'!E4461),\"\",'Tenant Information'!E4461)","v":""}]
[null,null,null,{"$f":"IF(ISBLANK('Tenant Information'!E4462),\"\",'Tenant Information'!E4462)","v":""}]
[null,null,null,{"$f":"IF(ISBLANK('Tenant Information'!E4463),\"\",'Tenant Information'!E4463)","v":""}]
[null,null,null,{"$f":"IF(ISBLANK('Tenant Information'!E4464),\"\",'Tenant Information'!E4464)","v":""}]
[null,null,null,{"$f":"IF(ISBLANK('Tenant Information'!E4465),\"\",'Tenant Information'!E4465)","v":""}]
[null,null,null,{"$f":"IF(ISBLANK('Tenant Information'!E4466),\"\",'Tenant Information'!E4466)","v":""}]
[null,null,null,{"$f":"IF(ISBLANK('Tenant Information'!E4467),\"\",'Tenant Information'!E4467)","v":""}]
[null,null,null,{"$f":"IF(ISBLANK('Tenant Information'!E4468),\"\",'Tenant Information'!E4468)","v":""}]
[null,null,null,{"$f":"IF(ISBLANK('Tenant Information'!E4469),\"\",'Tenant Information'!E4469)","v":""}]
[null,null,null,{"$f":"IF(ISBLANK('Tenant Information'!E4470),\"\",'Tenant Information'!E4470)","v":""}]
[null,null,null,{"$f":"IF(ISBLANK('Tenant Information'!E4471),\"\",'Tenant Information'!E4471)","v":""}]
[null,null,null,{"$f":"IF(ISBLANK('Tenant Information'!E4472),\"\",'Tenant Information'!E4472)","v":""}]
[null,null,null,{"$f":"IF(ISBLANK('Tenant Information'!E4473),\"\",'Tenant Information'!E4473)","v":""}]
[null,null,null,{"$f":"IF(ISBLANK('Tenant Information'!E4474),\"\",'Tenant Information'!E4474)","v":""}]
[null,null,null,{"$f":"IF(ISBLANK('Tenant Information'!E4475),\"\",'Tenant Information'!E4475)","v":""}]
[null,null,null,{"$f":"IF(ISBLANK('Tenant Information'!E4476),\"\",'Tenant Information'!E4476)","v":""}]
[null,null,null,{"$f":"IF(ISBLANK('Tenant Information'!E4477),\"\",'Tenant Information'!E4477)","v":""}]
[null,null,null,{"$f":"IF(ISBLANK('Tenant Information'!E4478),\"\",'Tenant Information'!E4478)","v":""}]
[null,null,null,{"$f":"IF(ISBLANK('Tenant Information'!E4479),\"\",'Tenant Information'!E4479)","v":""}]
[null,null,null,{"$f":"IF(ISBLANK('Tenant Information'!E4480),\"\",'Tenant Information'!E4480)","v":""}]
[null,null,null,{"$f":"IF(ISBLANK('Tenant Information'!E4481),\"\",'Tenant Information'!E4481)","v":""}]
[null,null,null,{"$f":"IF(ISBLANK('Tenant Information'!E4482),\"\",'Tenant Information'!E4482)","v":""}]
[null,null,null,{"$f":"IF(ISBLANK('Tenant Information'!E4483),\"\",'Tenant Information'!E4483)","v":""}]
[null,null,null,{"$f":"IF(ISBLANK('Tenant Information'!E4484),\"\",'Tenant Information'!E4484)","v":""}]
[null,null,null,{"$f":"IF(ISBLANK('Tenant Information'!E4485),\"\",'Tenant Information'!E4485)","v":""}]
[null,null,null,{"$f":"IF(ISBLANK('Tenant Information'!E4486),\"\",'Tenant Information'!E4486)","v":""}]
[null,null,null,{"$f":"IF(ISBLANK('Tenant Information'!E4487),\"\",'Tenant Information'!E4487)","v":""}]
[null,null,null,{"$f":"IF(ISBLANK('Tenant Information'!E4488),\"\",'Tenant Information'!E4488)","v":""}]
[null,null,null,{"$f":"IF(ISBLANK('Tenant Information'!E4489),\"\",'Tenant Information'!E4489)","v":""}]
[null,null,null,{"$f":"IF(ISBLANK('Tenant Information'!E4490),\"\",'Tenant Information'!E4490)","v":""}]
[null,null,null,{"$f":"IF(ISBLANK('Tenant Information'!E4491),\"\",'Tenant Information'!E4491)","v":""}]
[null,null,null,{"$f":"IF(ISBLANK('Tenant Information'!E4492),\"\",'Tenant Information'!E4492)","v":""}]
[null,null,null,{"$f":"IF(ISBLANK('Tenant Information'!E4493),\"\",'Tenant Information'!E4493)","v":""}]
[null,null,null,{"$f":"IF(ISBLANK('Tenant Information'!E4494),\"\",'Tenant Information'!E4494)","v":""}]
[null,null,null,{"$f":"IF(ISBLANK('Tenant Information'!E4495),\"\",'Tenant Information'!E4495)","v":""}]
[null,null,null,{"$f":"IF(ISBLANK('Tenant Information'!E4496),\"\",'Tenant Information'!E4496)","v":""}]
[null,null,null,{"$f":"IF(ISBLANK('Tenant Information'!E4497),\"\",'Tenant Information'!E4497)","v":""}]
[null,null,null,{"$f":"IF(ISBLANK('Tenant Information'!E4498),\"\",'Tenant Information'!E4498)","v":""}]
[null,null,null,{"$f":"IF(ISBLANK('Tenant Information'!E4499),\"\",'Tenant Information'!E4499)","v":""}]
[null,null,null,{"$f":"IF(ISBLANK('Tenant Information'!E4500),\"\",'Tenant Information'!E4500)","v":""}]
[null,null,null,{"$f":"IF(ISBLANK('Tenant Information'!E4501),\"\",'Tenant Information'!E4501)","v":""}]
[null,null,null,{"$f":"IF(ISBLANK('Tenant Information'!E4502),\"\",'Tenant Information'!E4502)","v":""}]
[null,null,null,{"$f":"IF(ISBLANK('Tenant Information'!E4503),\"\",'Tenant Information'!E4503)","v":""}]
[null,null,null,{"$f":"IF(ISBLANK('Tenant Information'!E4504),\"\",'Tenant Information'!E4504)","v":""}]
[null,null,null,{"$f":"IF(ISBLANK('Tenant Information'!E4505),\"\",'Tenant Information'!E4505)","v":""}]
[null,null,null,{"$f":"IF(ISBLANK('Tenant Information'!E4506),\"\",'Tenant Information'!E4506)","v":""}]
[null,null,null,{"$f":"IF(ISBLANK('Tenant Information'!E4507),\"\",'Tenant Information'!E4507)","v":""}]
[null,null,null,{"$f":"IF(ISBLANK('Tenant Information'!E4508),\"\",'Tenant Information'!E4508)","v":""}]
[null,null,null,{"$f":"IF(ISBLANK('Tenant Information'!E4509),\"\",'Tenant Information'!E4509)","v":""}]
[null,null,null,{"$f":"IF(ISBLANK('Tenant Information'!E4510),\"\",'Tenant Information'!E4510)","v":""}]
[null,null,null,{"$f":"IF(ISBLANK('Tenant Information'!E4511),\"\",'Tenant Information'!E4511)","v":""}]
[null,null,null,{"$f":"IF(ISBLANK('Tenant Information'!E4512),\"\",'Tenant Information'!E4512)","v":""}]
[null,null,null,{"$f":"IF(ISBLANK('Tenant Information'!E4513),\"\",'Tenant Information'!E4513)","v":""}]
[null,null,null,{"$f":"IF(ISBLANK('Tenant Information'!E4514),\"\",'Tenant Information'!E4514)","v":""}]
[null,null,null,{"$f":"IF(ISBLANK('Tenant Information'!E4515),\"\",'Tenant Information'!E4515)","v":""}]
[null,null,null,{"$f":"IF(ISBLANK('Tenant Information'!E4516),\"\",'Tenant Information'!E4516)","v":""}]
[null,null,null,{"$f":"IF(ISBLANK('Tenant Information'!E4517),\"\",'Tenant Information'!E4517)","v":""}]
[null,null,null,{"$f":"IF(ISBLANK('Tenant Information'!E4518),\"\",'Tenant Information'!E4518)","v":""}]
[null,null,null,{"$f":"IF(ISBLANK('Tenant Information'!E4519),\"\",'Tenant Information'!E4519)","v":""}]
[null,null,null,{"$f":"IF(ISBLANK('Tenant Information'!E4520),\"\",'Tenant Information'!E4520)","v":""}]
[null,null,null,{"$f":"IF(ISBLANK('Tenant Information'!E4521),\"\",'Tenant Information'!E4521)","v":""}]
[null,null,null,{"$f":"IF(ISBLANK('Tenant Information'!E4522),\"\",'Tenant Information'!E4522)","v":""}]
[null,null,null,{"$f":"IF(ISBLANK('Tenant Information'!E4523),\"\",'Tenant Information'!E4523)","v":""}]
[null,null,null,{"$f":"IF(ISBLANK('Tenant Information'!E4524),\"\",'Tenant Information'!E4524)","v":""}]
[null,null,null,{"$f":"IF(ISBLANK('Tenant Information'!E4525),\"\",'Tenant Information'!E4525)","v":""}]
[null,null,null,{"$f":"IF(ISBLANK('Tenant Information'!E4526),\"\",'Tenant Information'!E4526)","v":""}]
[null,null,null,{"$f":"IF(ISBLANK('Tenant Information'!E4527),\"\",'Tenant Information'!E4527)","v":""}]
[null,null,null,{"$f":"IF(ISBLANK('Tenant Information'!E4528),\"\",'Tenant Information'!E4528)","v":""}]
[null,null,null,{"$f":"IF(ISBLANK('Tenant Information'!E4529),\"\",'Tenant Information'!E4529)","v":""}]
[null,null,null,{"$f":"IF(ISBLANK('Tenant Information'!E4530),\"\",'Tenant Information'!E4530)","v":""}]
[null,null,null,{"$f":"IF(ISBLANK('Tenant Information'!E4531),\"\",'Tenant Information'!E4531)","v":""}]
[null,null,null,{"$f":"IF(ISBLANK('Tenant Information'!E4532),\"\",'Tenant Information'!E4532)","v":""}]
[null,null,null,{"$f":"IF(ISBLANK('Tenant Information'!E4533),\"\",'Tenant Information'!E4533)","v":""}]
[null,null,null,{"$f":"IF(ISBLANK('Tenant Information'!E4534),\"\",'Tenant Information'!E4534)","v":""}]
[null,null,null,{"$f":"IF(ISBLANK('Tenant Information'!E4535),\"\",'Tenant Information'!E4535)","v":""}]
[null,null,null,{"$f":"IF(ISBLANK('Tenant Information'!E4536),\"\",'Tenant Information'!E4536)","v":""}]
[null,null,null,{"$f":"IF(ISBLANK('Tenant Information'!E4537),\"\",'Tenant Information'!E4537)","v":""}]
[null,null,null,{"$f":"IF(ISBLANK('Tenant Information'!E4538),\"\",'Tenant Information'!E4538)","v":""}]
[null,null,null,{"$f":"IF(ISBLANK('Tenant Information'!E4539),\"\",'Tenant Information'!E4539)","v":""}]
[null,null,null,{"$f":"IF(ISBLANK('Tenant Information'!E4540),\"\",'Tenant Information'!E4540)","v":""}]
[null,null,null,{"$f":"IF(ISBLANK('Tenant Information'!E4541),\"\",'Tenant Information'!E4541)","v":""}]
[null,null,null,{"$f":"IF(ISBLANK('Tenant Information'!E4542),\"\",'Tenant Information'!E4542)","v":""}]
[null,null,null,{"$f":"IF(ISBLANK('Tenant Information'!E4543),\"\",'Tenant Information'!E4543)","v":""}]
[null,null,null,{"$f":"IF(ISBLANK('Tenant Information'!E4544),\"\",'Tenant Information'!E4544)","v":""}]
[null,null,null,{"$f":"IF(ISBLANK('Tenant Information'!E4545),\"\",'Tenant Information'!E4545)","v":""}]
[null,null,null,{"$f":"IF(ISBLANK('Tenant Information'!E4546),\"\",'Tenant Information'!E4546)","v":""}]
[null,null,null,{"$f":"IF(ISBLANK('Tenant Information'!E4547),\"\",'Tenant Information'!E4547)","v":""}]
[null,null,null,{"$f":"IF(ISBLANK('Tenant Information'!E4548),\"\",'Tenant Information'!E4548)","v":""}]
[null,null,null,{"$f":"IF(ISBLANK('Tenant Information'!E4549),\"\",'Tenant Information'!E4549)","v":""}]
[null,null,null,{"$f":"IF(ISBLANK('Tenant Information'!E4550),\"\",'Tenant Information'!E4550)","v":""}]
[null,null,null,{"$f":"IF(ISBLANK('Tenant Information'!E4551),\"\",'Tenant Information'!E4551)","v":""}]
[null,null,null,{"$f":"IF(ISBLANK('Tenant Information'!E4552),\"\",'Tenant Information'!E4552)","v":""}]
[null,null,null,{"$f":"IF(ISBLANK('Tenant Information'!E4553),\"\",'Tenant Information'!E4553)","v":""}]
[null,null,null,{"$f":"IF(ISBLANK('Tenant Information'!E4554),\"\",'Tenant Information'!E4554)","v":""}]
[null,null,null,{"$f":"IF(ISBLANK('Tenant Information'!E4555),\"\",'Tenant Information'!E4555)","v":""}]
[null,null,null,{"$f":"IF(ISBLANK('Tenant Information'!E4556),\"\",'Tenant Information'!E4556)","v":""}]
[null,null,null,{"$f":"IF(ISBLANK('Tenant Information'!E4557),\"\",'Tenant Information'!E4557)","v":""}]
[null,null,null,{"$f":"IF(ISBLANK('Tenant Information'!E4558),\"\",'Tenant Information'!E4558)","v":""}]
[null,null,null,{"$f":"IF(ISBLANK('Tenant Information'!E4559),\"\",'Tenant Information'!E4559)","v":""}]
[null,null,null,{"$f":"IF(ISBLANK('Tenant Information'!E4560),\"\",'Tenant Information'!E4560)","v":""}]
[null,null,null,{"$f":"IF(ISBLANK('Tenant Information'!E4561),\"\",'Tenant Information'!E4561)","v":""}]
[null,null,null,{"$f":"IF(ISBLANK('Tenant Information'!E4562),\"\",'Tenant Information'!E4562)","v":""}]
[null,null,null,{"$f":"IF(ISBLANK('Tenant Information'!E4563),\"\",'Tenant Information'!E4563)","v":""}]
[null,null,null,{"$f":"IF(ISBLANK('Tenant Information'!E4564),\"\",'Tenant Information'!E4564)","v":""}]
[null,null,null,{"$f":"IF(ISBLANK('Tenant Information'!E4565),\"\",'Tenant Information'!E4565)","v":""}]
[null,null,null,{"$f":"IF(ISBLANK('Tenant Information'!E4566),\"\",'Tenant Information'!E4566)","v":""}]
[null,null,null,{"$f":"IF(ISBLANK('Tenant Information'!E4567),\"\",'Tenant Information'!E4567)","v":""}]
[null,null,null,{"$f":"IF(ISBLANK('Tenant Information'!E4568),\"\",'Tenant Information'!E4568)","v":""}]
[null,null,null,{"$f":"IF(ISBLANK('Tenant Information'!E4569),\"\",'Tenant Information'!E4569)","v":""}]
[null,null,null,{"$f":"IF(ISBLANK('Tenant Information'!E4570),\"\",'Tenant Information'!E4570)","v":""}]
[null,null,null,{"$f":"IF(ISBLANK('Tenant Information'!E4571),\"\",'Tenant Information'!E4571)","v":""}]
[null,null,null,{"$f":"IF(ISBLANK('Tenant Information'!E4572),\"\",'Tenant Information'!E4572)","v":""}]
[null,null,null,{"$f":"IF(ISBLANK('Tenant Information'!E4573),\"\",'Tenant Information'!E4573)","v":""}]
[null,null,null,{"$f":"IF(ISBLANK('Tenant Information'!E4574),\"\",'Tenant Information'!E4574)","v":""}]
[null,null,null,{"$f":"IF(ISBLANK('Tenant Information'!E4575),\"\",'Tenant Information'!E4575)","v":""}]
[null,null,null,{"$f":"IF(ISBLANK('Tenant Information'!E4576),\"\",'Tenant Information'!E4576)","v":""}]
[null,null,null,{"$f":"IF(ISBLANK('Tenant Information'!E4577),\"\",'Tenant Information'!E4577)","v":""}]
[null,null,null,{"$f":"IF(ISBLANK('Tenant Information'!E4578),\"\",'Tenant Information'!E4578)","v":""}]
[null,null,null,{"$f":"IF(ISBLANK('Tenant Information'!E4579),\"\",'Tenant Information'!E4579)","v":""}]
[null,null,null,{"$f":"IF(ISBLANK('Tenant Information'!E4580),\"\",'Tenant Information'!E4580)","v":""}]
[null,null,null,{"$f":"IF(ISBLANK('Tenant Information'!E4581),\"\",'Tenant Information'!E4581)","v":""}]
[null,null,null,{"$f":"IF(ISBLANK('Tenant Information'!E4582),\"\",'Tenant Information'!E4582)","v":""}]
[null,null,null,{"$f":"IF(ISBLANK('Tenant Information'!E4583),\"\",'Tenant Information'!E4583)","v":""}]
[null,null,null,{"$f":"IF(ISBLANK('Tenant Information'!E4584),\"\",'Tenant Information'!E4584)","v":""}]
[null,null,null,{"$f":"IF(ISBLANK('Tenant Information'!E4585),\"\",'Tenant Information'!E4585)","v":""}]
[null,null,null,{"$f":"IF(ISBLANK('Tenant Information'!E4586),\"\",'Tenant Information'!E4586)","v":""}]
[null,null,null,{"$f":"IF(ISBLANK('Tenant Information'!E4587),\"\",'Tenant Information'!E4587)","v":""}]
[null,null,null,{"$f":"IF(ISBLANK('Tenant Information'!E4588),\"\",'Tenant Information'!E4588)","v":""}]
[null,null,null,{"$f":"IF(ISBLANK('Tenant Information'!E4589),\"\",'Tenant Information'!E4589)","v":""}]
[null,null,null,{"$f":"IF(ISBLANK('Tenant Information'!E4590),\"\",'Tenant Information'!E4590)","v":""}]
[null,null,null,{"$f":"IF(ISBLANK('Tenant Information'!E4591),\"\",'Tenant Information'!E4591)","v":""}]
[null,null,null,{"$f":"IF(ISBLANK('Tenant Information'!E4592),\"\",'Tenant Information'!E4592)","v":""}]
[null,null,null,{"$f":"IF(ISBLANK('Tenant Information'!E4593),\"\",'Tenant Information'!E4593)","v":""}]
[null,null,null,{"$f":"IF(ISBLANK('Tenant Information'!E4594),\"\",'Tenant Information'!E4594)","v":""}]
[null,null,null,{"$f":"IF(ISBLANK('Tenant Information'!E4595),\"\",'Tenant Information'!E4595)","v":""}]
[null,null,null,{"$f":"IF(ISBLANK('Tenant Information'!E4596),\"\",'Tenant Information'!E4596)","v":""}]
[null,null,null,{"$f":"IF(ISBLANK('Tenant Information'!E4597),\"\",'Tenant Information'!E4597)","v":""}]
[null,null,null,{"$f":"IF(ISBLANK('Tenant Information'!E4598),\"\",'Tenant Information'!E4598)","v":""}]
[null,null,null,{"$f":"IF(ISBLANK('Tenant Information'!E4599),\"\",'Tenant Information'!E4599)","v":""}]
[null,null,null,{"$f":"IF(ISBLANK('Tenant Information'!E4600),\"\",'Tenant Information'!E4600)","v":""}]
[null,null,null,{"$f":"IF(ISBLANK('Tenant Information'!E4601),\"\",'Tenant Information'!E4601)","v":""}]
[null,null,null,{"$f":"IF(ISBLANK('Tenant Information'!E4602),\"\",'Tenant Information'!E4602)","v":""}]
[null,null,null,{"$f":"IF(ISBLANK('Tenant Information'!E4603),\"\",'Tenant Information'!E4603)","v":""}]
[null,null,null,{"$f":"IF(ISBLANK('Tenant Information'!E4604),\"\",'Tenant Information'!E4604)","v":""}]
[null,null,null,{"$f":"IF(ISBLANK('Tenant Information'!E4605),\"\",'Tenant Information'!E4605)","v":""}]
[null,null,null,{"$f":"IF(ISBLANK('Tenant Information'!E4606),\"\",'Tenant Information'!E4606)","v":""}]
[null,null,null,{"$f":"IF(ISBLANK('Tenant Information'!E4607),\"\",'Tenant Information'!E4607)","v":""}]
[null,null,null,{"$f":"IF(ISBLANK('Tenant Information'!E4608),\"\",'Tenant Information'!E4608)","v":""}]
[null,null,null,{"$f":"IF(ISBLANK('Tenant Information'!E4609),\"\",'Tenant Information'!E4609)","v":""}]
[null,null,null,{"$f":"IF(ISBLANK('Tenant Information'!E4610),\"\",'Tenant Information'!E4610)","v":""}]
[null,null,null,{"$f":"IF(ISBLANK('Tenant Information'!E4611),\"\",'Tenant Information'!E4611)","v":""}]
[null,null,null,{"$f":"IF(ISBLANK('Tenant Information'!E4612),\"\",'Tenant Information'!E4612)","v":""}]
[null,null,null,{"$f":"IF(ISBLANK('Tenant Information'!E4613),\"\",'Tenant Information'!E4613)","v":""}]
[null,null,null,{"$f":"IF(ISBLANK('Tenant Information'!E4614),\"\",'Tenant Information'!E4614)","v":""}]
[null,null,null,{"$f":"IF(ISBLANK('Tenant Information'!E4615),\"\",'Tenant Information'!E4615)","v":""}]
[null,null,null,{"$f":"IF(ISBLANK('Tenant Information'!E4616),\"\",'Tenant Information'!E4616)","v":""}]
[null,null,null,{"$f":"IF(ISBLANK('Tenant Information'!E4617),\"\",'Tenant Information'!E4617)","v":""}]
[null,null,null,{"$f":"IF(ISBLANK('Tenant Information'!E4618),\"\",'Tenant Information'!E4618)","v":""}]
[null,null,null,{"$f":"IF(ISBLANK('Tenant Information'!E4619),\"\",'Tenant Information'!E4619)","v":""}]
[null,null,null,{"$f":"IF(ISBLANK('Tenant Information'!E4620),\"\",'Tenant Information'!E4620)","v":""}]
[null,null,null,{"$f":"IF(ISBLANK('Tenant Information'!E4621),\"\",'Tenant Information'!E4621)","v":""}]
[null,null,null,{"$f":"IF(ISBLANK('Tenant Information'!E4622),\"\",'Tenant Information'!E4622)","v":""}]
[null,null,null,{"$f":"IF(ISBLANK('Tenant Information'!E4623),\"\",'Tenant Information'!E4623)","v":""}]
[null,null,null,{"$f":"IF(ISBLANK('Tenant Information'!E4624),\"\",'Tenant Information'!E4624)","v":""}]
[null,null,null,{"$f":"IF(ISBLANK('Tenant Information'!E4625),\"\",'Tenant Information'!E4625)","v":""}]
[null,null,null,{"$f":"IF(ISBLANK('Tenant Information'!E4626),\"\",'Tenant Information'!E4626)","v":""}]
[null,null,null,{"$f":"IF(ISBLANK('Tenant Information'!E4627),\"\",'Tenant Information'!E4627)","v":""}]
[null,null,null,{"$f":"IF(ISBLANK('Tenant Information'!E4628),\"\",'Tenant Information'!E4628)","v":""}]
[null,null,null,{"$f":"IF(ISBLANK('Tenant Information'!E4629),\"\",'Tenant Information'!E4629)","v":""}]
[null,null,null,{"$f":"IF(ISBLANK('Tenant Information'!E4630),\"\",'Tenant Information'!E4630)","v":""}]
[null,null,null,{"$f":"IF(ISBLANK('Tenant Information'!E4631),\"\",'Tenant Information'!E4631)","v":""}]
[null,null,null,{"$f":"IF(ISBLANK('Tenant Information'!E4632),\"\",'Tenant Information'!E4632)","v":""}]
[null,null,null,{"$f":"IF(ISBLANK('Tenant Information'!E4633),\"\",'Tenant Information'!E4633)","v":""}]
[null,null,null,{"$f":"IF(ISBLANK('Tenant Information'!E4634),\"\",'Tenant Information'!E4634)","v":""}]
[null,null,null,{"$f":"IF(ISBLANK('Tenant Information'!E4635),\"\",'Tenant Information'!E4635)","v":""}]
[null,null,null,{"$f":"IF(ISBLANK('Tenant Information'!E4636),\"\",'Tenant Information'!E4636)","v":""}]
[null,null,null,{"$f":"IF(ISBLANK('Tenant Information'!E4637),\"\",'Tenant Information'!E4637)","v":""}]
[null,null,null,{"$f":"IF(ISBLANK('Tenant Information'!E4638),\"\",'Tenant Information'!E4638)","v":""}]
[null,null,null,{"$f":"IF(ISBLANK('Tenant Information'!E4639),\"\",'Tenant Information'!E4639)","v":""}]
[null,null,null,{"$f":"IF(ISBLANK('Tenant Information'!E4640),\"\",'Tenant Information'!E4640)","v":""}]
[null,null,null,{"$f":"IF(ISBLANK('Tenant Information'!E4641),\"\",'Tenant Information'!E4641)","v":""}]
[null,null,null,{"$f":"IF(ISBLANK('Tenant Information'!E4642),\"\",'Tenant Information'!E4642)","v":""}]
[null,null,null,{"$f":"IF(ISBLANK('Tenant Information'!E4643),\"\",'Tenant Information'!E4643)","v":""}]
[null,null,null,{"$f":"IF(ISBLANK('Tenant Information'!E4644),\"\",'Tenant Information'!E4644)","v":""}]
[null,null,null,{"$f":"IF(ISBLANK('Tenant Information'!E4645),\"\",'Tenant Information'!E4645)","v":""}]
[null,null,null,{"$f":"IF(ISBLANK('Tenant Information'!E4646),\"\",'Tenant Information'!E4646)","v":""}]
[null,null,null,{"$f":"IF(ISBLANK('Tenant Information'!E4647),\"\",'Tenant Information'!E4647)","v":""}]
[null,null,null,{"$f":"IF(ISBLANK('Tenant Information'!E4648),\"\",'Tenant Information'!E4648)","v":""}]
[null,null,null,{"$f":"IF(ISBLANK('Tenant Information'!E4649),\"\",'Tenant Information'!E4649)","v":""}]
[null,null,null,{"$f":"IF(ISBLANK('Tenant Information'!E4650),\"\",'Tenant Information'!E4650)","v":""}]
[null,null,null,{"$f":"IF(ISBLANK('Tenant Information'!E4651),\"\",'Tenant Information'!E4651)","v":""}]
[null,null,null,{"$f":"IF(ISBLANK('Tenant Information'!E4652),\"\",'Tenant Information'!E4652)","v":""}]
[null,null,null,{"$f":"IF(ISBLANK('Tenant Information'!E4653),\"\",'Tenant Information'!E4653)","v":""}]
[null,null,null,{"$f":"IF(ISBLANK('Tenant Information'!E4654),\"\",'Tenant Information'!E4654)","v":""}]
[null,null,null,{"$f":"IF(ISBLANK('Tenant Information'!E4655),\"\",'Tenant Information'!E4655)","v":""}]
[null,null,null,{"$f":"IF(ISBLANK('Tenant Information'!E4656),\"\",'Tenant Information'!E4656)","v":""}]
[null,null,null,{"$f":"IF(ISBLANK('Tenant Information'!E4657),\"\",'Tenant Information'!E4657)","v":""}]
[null,null,null,{"$f":"IF(ISBLANK('Tenant Information'!E4658),\"\",'Tenant Information'!E4658)","v":""}]
[null,null,null,{"$f":"IF(ISBLANK('Tenant Information'!E4659),\"\",'Tenant Information'!E4659)","v":""}]
[null,null,null,{"$f":"IF(ISBLANK('Tenant Information'!E4660),\"\",'Tenant Information'!E4660)","v":""}]
[null,null,null,{"$f":"IF(ISBLANK('Tenant Information'!E4661),\"\",'Tenant Information'!E4661)","v":""}]
[null,null,null,{"$f":"IF(ISBLANK('Tenant Information'!E4662),\"\",'Tenant Information'!E4662)","v":""}]
[null,null,null,{"$f":"IF(ISBLANK('Tenant Information'!E4663),\"\",'Tenant Information'!E4663)","v":""}]
[null,null,null,{"$f":"IF(ISBLANK('Tenant Information'!E4664),\"\",'Tenant Information'!E4664)","v":""}]
[null,null,null,{"$f":"IF(ISBLANK('Tenant Information'!E4665),\"\",'Tenant Information'!E4665)","v":""}]
[null,null,null,{"$f":"IF(ISBLANK('Tenant Information'!E4666),\"\",'Tenant Information'!E4666)","v":""}]
[null,null,null,{"$f":"IF(ISBLANK('Tenant Information'!E4667),\"\",'Tenant Information'!E4667)","v":""}]
[null,null,null,{"$f":"IF(ISBLANK('Tenant Information'!E4668),\"\",'Tenant Information'!E4668)","v":""}]
[null,null,null,{"$f":"IF(ISBLANK('Tenant Information'!E4669),\"\",'Tenant Information'!E4669)","v":""}]
[null,null,null,{"$f":"IF(ISBLANK('Tenant Information'!E4670),\"\",'Tenant Information'!E4670)","v":""}]
[null,null,null,{"$f":"IF(ISBLANK('Tenant Information'!E4671),\"\",'Tenant Information'!E4671)","v":""}]
[null,null,null,{"$f":"IF(ISBLANK('Tenant Information'!E4672),\"\",'Tenant Information'!E4672)","v":""}]
[null,null,null,{"$f":"IF(ISBLANK('Tenant Information'!E4673),\"\",'Tenant Information'!E4673)","v":""}]
[null,null,null,{"$f":"IF(ISBLANK('Tenant Information'!E4674),\"\",'Tenant Information'!E4674)","v":""}]
[null,null,null,{"$f":"IF(ISBLANK('Tenant Information'!E4675),\"\",'Tenant Information'!E4675)","v":""}]
[null,null,null,{"$f":"IF(ISBLANK('Tenant Information'!E4676),\"\",'Tenant Information'!E4676)","v":""}]
[null,null,null,{"$f":"IF(ISBLANK('Tenant Information'!E4677),\"\",'Tenant Information'!E4677)","v":""}]
[null,null,null,{"$f":"IF(ISBLANK('Tenant Information'!E4678),\"\",'Tenant Information'!E4678)","v":""}]
[null,null,null,{"$f":"IF(ISBLANK('Tenant Information'!E4679),\"\",'Tenant Information'!E4679)","v":""}]
[null,null,null,{"$f":"IF(ISBLANK('Tenant Information'!E4680),\"\",'Tenant Information'!E4680)","v":""}]
[null,null,null,{"$f":"IF(ISBLANK('Tenant Information'!E4681),\"\",'Tenant Information'!E4681)","v":""}]
[null,null,null,{"$f":"IF(ISBLANK('Tenant Information'!E4682),\"\",'Tenant Information'!E4682)","v":""}]
[null,null,null,{"$f":"IF(ISBLANK('Tenant Information'!E4683),\"\",'Tenant Information'!E4683)","v":""}]
[null,null,null,{"$f":"IF(ISBLANK('Tenant Information'!E4684),\"\",'Tenant Information'!E4684)","v":""}]
[null,null,null,{"$f":"IF(ISBLANK('Tenant Information'!E4685),\"\",'Tenant Information'!E4685)","v":""}]
[null,null,null,{"$f":"IF(ISBLANK('Tenant Information'!E4686),\"\",'Tenant Information'!E4686)","v":""}]
[null,null,null,{"$f":"IF(ISBLANK('Tenant Information'!E4687),\"\",'Tenant Information'!E4687)","v":""}]
[null,null,null,{"$f":"IF(ISBLANK('Tenant Information'!E4688),\"\",'Tenant Information'!E4688)","v":""}]
[null,null,null,{"$f":"IF(ISBLANK('Tenant Information'!E4689),\"\",'Tenant Information'!E4689)","v":""}]
[null,null,null,{"$f":"IF(ISBLANK('Tenant Information'!E4690),\"\",'Tenant Information'!E4690)","v":""}]
[null,null,null,{"$f":"IF(ISBLANK('Tenant Information'!E4691),\"\",'Tenant Information'!E4691)","v":""}]
[null,null,null,{"$f":"IF(ISBLANK('Tenant Information'!E4692),\"\",'Tenant Information'!E4692)","v":""}]
[null,null,null,{"$f":"IF(ISBLANK('Tenant Information'!E4693),\"\",'Tenant Information'!E4693)","v":""}]
[null,null,null,{"$f":"IF(ISBLANK('Tenant Information'!E4694),\"\",'Tenant Information'!E4694)","v":""}]
[null,null,null,{"$f":"IF(ISBLANK('Tenant Information'!E4695),\"\",'Tenant Information'!E4695)","v":""}]
[null,null,null,{"$f":"IF(ISBLANK('Tenant Information'!E4696),\"\",'Tenant Information'!E4696)","v":""}]
[null,null,null,{"$f":"IF(ISBLANK('Tenant Information'!E4697),\"\",'Tenant Information'!E4697)","v":""}]
[null,null,null,{"$f":"IF(ISBLANK('Tenant Information'!E4698),\"\",'Tenant Information'!E4698)","v":""}]
[null,null,null,{"$f":"IF(ISBLANK('Tenant Information'!E4699),\"\",'Tenant Information'!E4699)","v":""}]
[null,null,null,{"$f":"IF(ISBLANK('Tenant Information'!E4700),\"\",'Tenant Information'!E4700)","v":""}]
[null,null,null,{"$f":"IF(ISBLANK('Tenant Information'!E4701),\"\",'Tenant Information'!E4701)","v":""}]
[null,null,null,{"$f":"IF(ISBLANK('Tenant Information'!E4702),\"\",'Tenant Information'!E4702)","v":""}]
[null,null,null,{"$f":"IF(ISBLANK('Tenant Information'!E4703),\"\",'Tenant Information'!E4703)","v":""}]
[null,null,null,{"$f":"IF(ISBLANK('Tenant Information'!E4704),\"\",'Tenant Information'!E4704)","v":""}]
[null,null,null,{"$f":"IF(ISBLANK('Tenant Information'!E4705),\"\",'Tenant Information'!E4705)","v":""}]
[null,null,null,{"$f":"IF(ISBLANK('Tenant Information'!E4706),\"\",'Tenant Information'!E4706)","v":""}]
[null,null,null,{"$f":"IF(ISBLANK('Tenant Information'!E4707),\"\",'Tenant Information'!E4707)","v":""}]
[null,null,null,{"$f":"IF(ISBLANK('Tenant Information'!E4708),\"\",'Tenant Information'!E4708)","v":""}]
[null,null,null,{"$f":"IF(ISBLANK('Tenant Information'!E4709),\"\",'Tenant Information'!E4709)","v":""}]
[null,null,null,{"$f":"IF(ISBLANK('Tenant Information'!E4710),\"\",'Tenant Information'!E4710)","v":""}]
[null,null,null,{"$f":"IF(ISBLANK('Tenant Information'!E4711),\"\",'Tenant Information'!E4711)","v":""}]
[null,null,null,{"$f":"IF(ISBLANK('Tenant Information'!E4712),\"\",'Tenant Information'!E4712)","v":""}]
[null,null,null,{"$f":"IF(ISBLANK('Tenant Information'!E4713),\"\",'Tenant Information'!E4713)","v":""}]
[null,null,null,{"$f":"IF(ISBLANK('Tenant Information'!E4714),\"\",'Tenant Information'!E4714)","v":""}]
[null,null,null,{"$f":"IF(ISBLANK('Tenant Information'!E4715),\"\",'Tenant Information'!E4715)","v":""}]
[null,null,null,{"$f":"IF(ISBLANK('Tenant Information'!E4716),\"\",'Tenant Information'!E4716)","v":""}]
[null,null,null,{"$f":"IF(ISBLANK('Tenant Information'!E4717),\"\",'Tenant Information'!E4717)","v":""}]
[null,null,null,{"$f":"IF(ISBLANK('Tenant Information'!E4718),\"\",'Tenant Information'!E4718)","v":""}]
[null,null,null,{"$f":"IF(ISBLANK('Tenant Information'!E4719),\"\",'Tenant Information'!E4719)","v":""}]
[null,null,null,{"$f":"IF(ISBLANK('Tenant Information'!E4720),\"\",'Tenant Information'!E4720)","v":""}]
[null,null,null,{"$f":"IF(ISBLANK('Tenant Information'!E4721),\"\",'Tenant Information'!E4721)","v":""}]
[null,null,null,{"$f":"IF(ISBLANK('Tenant Information'!E4722),\"\",'Tenant Information'!E4722)","v":""}]
[null,null,null,{"$f":"IF(ISBLANK('Tenant Information'!E4723),\"\",'Tenant Information'!E4723)","v":""}]
[null,null,null,{"$f":"IF(ISBLANK('Tenant Information'!E4724),\"\",'Tenant Information'!E4724)","v":""}]
[null,null,null,{"$f":"IF(ISBLANK('Tenant Information'!E4725),\"\",'Tenant Information'!E4725)","v":""}]
[null,null,null,{"$f":"IF(ISBLANK('Tenant Information'!E4726),\"\",'Tenant Information'!E4726)","v":""}]
[null,null,null,{"$f":"IF(ISBLANK('Tenant Information'!E4727),\"\",'Tenant Information'!E4727)","v":""}]
[null,null,null,{"$f":"IF(ISBLANK('Tenant Information'!E4728),\"\",'Tenant Information'!E4728)","v":""}]
[null,null,null,{"$f":"IF(ISBLANK('Tenant Information'!E4729),\"\",'Tenant Information'!E4729)","v":""}]
[null,null,null,{"$f":"IF(ISBLANK('Tenant Information'!E4730),\"\",'Tenant Information'!E4730)","v":""}]
[null,null,null,{"$f":"IF(ISBLANK('Tenant Information'!E4731),\"\",'Tenant Information'!E4731)","v":""}]
[null,null,null,{"$f":"IF(ISBLANK('Tenant Information'!E4732),\"\",'Tenant Information'!E4732)","v":""}]
[null,null,null,{"$f":"IF(ISBLANK('Tenant Information'!E4733),\"\",'Tenant Information'!E4733)","v":""}]
[null,null,null,{"$f":"IF(ISBLANK('Tenant Information'!E4734),\"\",'Tenant Information'!E4734)","v":""}]
[null,null,null,{"$f":"IF(ISBLANK('Tenant Information'!E4735),\"\",'Tenant Information'!E4735)","v":""}]
[null,null,null,{"$f":"IF(ISBLANK('Tenant Information'!E4736),\"\",'Tenant Information'!E4736)","v":""}]
[null,null,null,{"$f":"IF(ISBLANK('Tenant Information'!E4737),\"\",'Tenant Information'!E4737)","v":""}]
[null,null,null,{"$f":"IF(ISBLANK('Tenant Information'!E4738),\"\",'Tenant Information'!E4738)","v":""}]
[null,null,null,{"$f":"IF(ISBLANK('Tenant Information'!E4739),\"\",'Tenant Information'!E4739)","v":""}]
[null,null,null,{"$f":"IF(ISBLANK('Tenant Information'!E4740),\"\",'Tenant Information'!E4740)","v":""}]
[null,null,null,{"$f":"IF(ISBLANK('Tenant Information'!E4741),\"\",'Tenant Information'!E4741)","v":""}]
[null,null,null,{"$f":"IF(ISBLANK('Tenant Information'!E4742),\"\",'Tenant Information'!E4742)","v":""}]
[null,null,null,{"$f":"IF(ISBLANK('Tenant Information'!E4743),\"\",'Tenant Information'!E4743)","v":""}]
[null,null,null,{"$f":"IF(ISBLANK('Tenant Information'!E4744),\"\",'Tenant Information'!E4744)","v":""}]
[null,null,null,{"$f":"IF(ISBLANK('Tenant Information'!E4745),\"\",'Tenant Information'!E4745)","v":""}]
[null,null,null,{"$f":"IF(ISBLANK('Tenant Information'!E4746),\"\",'Tenant Information'!E4746)","v":""}]
[null,null,null,{"$f":"IF(ISBLANK('Tenant Information'!E4747),\"\",'Tenant Information'!E4747)","v":""}]
[null,null,null,{"$f":"IF(ISBLANK('Tenant Information'!E4748),\"\",'Tenant Information'!E4748)","v":""}]
[null,null,null,{"$f":"IF(ISBLANK('Tenant Information'!E4749),\"\",'Tenant Information'!E4749)","v":""}]
[null,null,null,{"$f":"IF(ISBLANK('Tenant Information'!E4750),\"\",'Tenant Information'!E4750)","v":""}]
[null,null,null,{"$f":"IF(ISBLANK('Tenant Information'!E4751),\"\",'Tenant Information'!E4751)","v":""}]
[null,null,null,{"$f":"IF(ISBLANK('Tenant Information'!E4752),\"\",'Tenant Information'!E4752)","v":""}]
[null,null,null,{"$f":"IF(ISBLANK('Tenant Information'!E4753),\"\",'Tenant Information'!E4753)","v":""}]
[null,null,null,{"$f":"IF(ISBLANK('Tenant Information'!E4754),\"\",'Tenant Information'!E4754)","v":""}]
[null,null,null,{"$f":"IF(ISBLANK('Tenant Information'!E4755),\"\",'Tenant Information'!E4755)","v":""}]
[null,null,null,{"$f":"IF(ISBLANK('Tenant Information'!E4756),\"\",'Tenant Information'!E4756)","v":""}]
[null,null,null,{"$f":"IF(ISBLANK('Tenant Information'!E4757),\"\",'Tenant Information'!E4757)","v":""}]
[null,null,null,{"$f":"IF(ISBLANK('Tenant Information'!E4758),\"\",'Tenant Information'!E4758)","v":""}]
[null,null,null,{"$f":"IF(ISBLANK('Tenant Information'!E4759),\"\",'Tenant Information'!E4759)","v":""}]
[null,null,null,{"$f":"IF(ISBLANK('Tenant Information'!E4760),\"\",'Tenant Information'!E4760)","v":""}]
[null,null,null,{"$f":"IF(ISBLANK('Tenant Information'!E4761),\"\",'Tenant Information'!E4761)","v":""}]
[null,null,null,{"$f":"IF(ISBLANK('Tenant Information'!E4762),\"\",'Tenant Information'!E4762)","v":""}]
[null,null,null,{"$f":"IF(ISBLANK('Tenant Information'!E4763),\"\",'Tenant Information'!E4763)","v":""}]
[null,null,null,{"$f":"IF(ISBLANK('Tenant Information'!E4764),\"\",'Tenant Information'!E4764)","v":""}]
[null,null,null,{"$f":"IF(ISBLANK('Tenant Information'!E4765),\"\",'Tenant Information'!E4765)","v":""}]
[null,null,null,{"$f":"IF(ISBLANK('Tenant Information'!E4766),\"\",'Tenant Information'!E4766)","v":""}]
[null,null,null,{"$f":"IF(ISBLANK('Tenant Information'!E4767),\"\",'Tenant Information'!E4767)","v":""}]
[null,null,null,{"$f":"IF(ISBLANK('Tenant Information'!E4768),\"\",'Tenant Information'!E4768)","v":""}]
[null,null,null,{"$f":"IF(ISBLANK('Tenant Information'!E4769),\"\",'Tenant Information'!E4769)","v":""}]
[null,null,null,{"$f":"IF(ISBLANK('Tenant Information'!E4770),\"\",'Tenant Information'!E4770)","v":""}]
[null,null,null,{"$f":"IF(ISBLANK('Tenant Information'!E4771),\"\",'Tenant Information'!E4771)","v":""}]
[null,null,null,{"$f":"IF(ISBLANK('Tenant Information'!E4772),\"\",'Tenant Information'!E4772)","v":""}]
[null,null,null,{"$f":"IF(ISBLANK('Tenant Information'!E4773),\"\",'Tenant Information'!E4773)","v":""}]
[null,null,null,{"$f":"IF(ISBLANK('Tenant Information'!E4774),\"\",'Tenant Information'!E4774)","v":""}]
[null,null,null,{"$f":"IF(ISBLANK('Tenant Information'!E4775),\"\",'Tenant Information'!E4775)","v":""}]
[null,null,null,{"$f":"IF(ISBLANK('Tenant Information'!E4776),\"\",'Tenant Information'!E4776)","v":""}]
[null,null,null,{"$f":"IF(ISBLANK('Tenant Information'!E4777),\"\",'Tenant Information'!E4777)","v":""}]
[null,null,null,{"$f":"IF(ISBLANK('Tenant Information'!E4778),\"\",'Tenant Information'!E4778)","v":""}]
[null,null,null,{"$f":"IF(ISBLANK('Tenant Information'!E4779),\"\",'Tenant Information'!E4779)","v":""}]
[null,null,null,{"$f":"IF(ISBLANK('Tenant Information'!E4780),\"\",'Tenant Information'!E4780)","v":""}]
[null,null,null,{"$f":"IF(ISBLANK('Tenant Information'!E4781),\"\",'Tenant Information'!E4781)","v":""}]
[null,null,null,{"$f":"IF(ISBLANK('Tenant Information'!E4782),\"\",'Tenant Information'!E4782)","v":""}]
[null,null,null,{"$f":"IF(ISBLANK('Tenant Information'!E4783),\"\",'Tenant Information'!E4783)","v":""}]
[null,null,null,{"$f":"IF(ISBLANK('Tenant Information'!E4784),\"\",'Tenant Information'!E4784)","v":""}]
[null,null,null,{"$f":"IF(ISBLANK('Tenant Information'!E4785),\"\",'Tenant Information'!E4785)","v":""}]
[null,null,null,{"$f":"IF(ISBLANK('Tenant Information'!E4786),\"\",'Tenant Information'!E4786)","v":""}]
[null,null,null,{"$f":"IF(ISBLANK('Tenant Information'!E4787),\"\",'Tenant Information'!E4787)","v":""}]
[null,null,null,{"$f":"IF(ISBLANK('Tenant Information'!E4788),\"\",'Tenant Information'!E4788)","v":""}]
[null,null,null,{"$f":"IF(ISBLANK('Tenant Information'!E4789),\"\",'Tenant Information'!E4789)","v":""}]
[null,null,null,{"$f":"IF(ISBLANK('Tenant Information'!E4790),\"\",'Tenant Information'!E4790)","v":""}]
[null,null,null,{"$f":"IF(ISBLANK('Tenant Information'!E4791),\"\",'Tenant Information'!E4791)","v":""}]
[null,null,null,{"$f":"IF(ISBLANK('Tenant Information'!E4792),\"\",'Tenant Information'!E4792)","v":""}]
[null,null,null,{"$f":"IF(ISBLANK('Tenant Information'!E4793),\"\",'Tenant Information'!E4793)","v":""}]
[null,null,null,{"$f":"IF(ISBLANK('Tenant Information'!E4794),\"\",'Tenant Information'!E4794)","v":""}]
[null,null,null,{"$f":"IF(ISBLANK('Tenant Information'!E4795),\"\",'Tenant Information'!E4795)","v":""}]
[null,null,null,{"$f":"IF(ISBLANK('Tenant Information'!E4796),\"\",'Tenant Information'!E4796)","v":""}]
[null,null,null,{"$f":"IF(ISBLANK('Tenant Information'!E4797),\"\",'Tenant Information'!E4797)","v":""}]
[null,null,null,{"$f":"IF(ISBLANK('Tenant Information'!E4798),\"\",'Tenant Information'!E4798)","v":""}]
[null,null,null,{"$f":"IF(ISBLANK('Tenant Information'!E4799),\"\",'Tenant Information'!E4799)","v":""}]
[null,null,null,{"$f":"IF(ISBLANK('Tenant Information'!E4800),\"\",'Tenant Information'!E4800)","v":""}]
[null,null,null,{"$f":"IF(ISBLANK('Tenant Information'!E4801),\"\",'Tenant Information'!E4801)","v":""}]
[null,null,null,{"$f":"IF(ISBLANK('Tenant Information'!E4802),\"\",'Tenant Information'!E4802)","v":""}]
[null,null,null,{"$f":"IF(ISBLANK('Tenant Information'!E4803),\"\",'Tenant Information'!E4803)","v":""}]
[null,null,null,{"$f":"IF(ISBLANK('Tenant Information'!E4804),\"\",'Tenant Information'!E4804)","v":""}]
[null,null,null,{"$f":"IF(ISBLANK('Tenant Information'!E4805),\"\",'Tenant Information'!E4805)","v":""}]
[null,null,null,{"$f":"IF(ISBLANK('Tenant Information'!E4806),\"\",'Tenant Information'!E4806)","v":""}]
[null,null,null,{"$f":"IF(ISBLANK('Tenant Information'!E4807),\"\",'Tenant Information'!E4807)","v":""}]
[null,null,null,{"$f":"IF(ISBLANK('Tenant Information'!E4808),\"\",'Tenant Information'!E4808)","v":""}]
[null,null,null,{"$f":"IF(ISBLANK('Tenant Information'!E4809),\"\",'Tenant Information'!E4809)","v":""}]
[null,null,null,{"$f":"IF(ISBLANK('Tenant Information'!E4810),\"\",'Tenant Information'!E4810)","v":""}]
[null,null,null,{"$f":"IF(ISBLANK('Tenant Information'!E4811),\"\",'Tenant Information'!E4811)","v":""}]
[null,null,null,{"$f":"IF(ISBLANK('Tenant Information'!E4812),\"\",'Tenant Information'!E4812)","v":""}]
[null,null,null,{"$f":"IF(ISBLANK('Tenant Information'!E4813),\"\",'Tenant Information'!E4813)","v":""}]
[null,null,null,{"$f":"IF(ISBLANK('Tenant Information'!E4814),\"\",'Tenant Information'!E4814)","v":""}]
[null,null,null,{"$f":"IF(ISBLANK('Tenant Information'!E4815),\"\",'Tenant Information'!E4815)","v":""}]
[null,null,null,{"$f":"IF(ISBLANK('Tenant Information'!E4816),\"\",'Tenant Information'!E4816)","v":""}]
[null,null,null,{"$f":"IF(ISBLANK('Tenant Information'!E4817),\"\",'Tenant Information'!E4817)","v":""}]
[null,null,null,{"$f":"IF(ISBLANK('Tenant Information'!E4818),\"\",'Tenant Information'!E4818)","v":""}]
[null,null,null,{"$f":"IF(ISBLANK('Tenant Information'!E4819),\"\",'Tenant Information'!E4819)","v":""}]
[null,null,null,{"$f":"IF(ISBLANK('Tenant Information'!E4820),\"\",'Tenant Information'!E4820)","v":""}]
[null,null,null,{"$f":"IF(ISBLANK('Tenant Information'!E4821),\"\",'Tenant Information'!E4821)","v":""}]
[null,null,null,{"$f":"IF(ISBLANK('Tenant Information'!E4822),\"\",'Tenant Information'!E4822)","v":""}]
[null,null,null,{"$f":"IF(ISBLANK('Tenant Information'!E4823),\"\",'Tenant Information'!E4823)","v":""}]
[null,null,null,{"$f":"IF(ISBLANK('Tenant Information'!E4824),\"\",'Tenant Information'!E4824)","v":""}]
[null,null,null,{"$f":"IF(ISBLANK('Tenant Information'!E4825),\"\",'Tenant Information'!E4825)","v":""}]
[null,null,null,{"$f":"IF(ISBLANK('Tenant Information'!E4826),\"\",'Tenant Information'!E4826)","v":""}]
[null,null,null,{"$f":"IF(ISBLANK('Tenant Information'!E4827),\"\",'Tenant Information'!E4827)","v":""}]
[null,null,null,{"$f":"IF(ISBLANK('Tenant Information'!E4828),\"\",'Tenant Information'!E4828)","v":""}]
[null,null,null,{"$f":"IF(ISBLANK('Tenant Information'!E4829),\"\",'Tenant Information'!E4829)","v":""}]
[null,null,null,{"$f":"IF(ISBLANK('Tenant Information'!E4830),\"\",'Tenant Information'!E4830)","v":""}]
[null,null,null,{"$f":"IF(ISBLANK('Tenant Information'!E4831),\"\",'Tenant Information'!E4831)","v":""}]
[null,null,null,{"$f":"IF(ISBLANK('Tenant Information'!E4832),\"\",'Tenant Information'!E4832)","v":""}]
[null,null,null,{"$f":"IF(ISBLANK('Tenant Information'!E4833),\"\",'Tenant Information'!E4833)","v":""}]
[null,null,null,{"$f":"IF(ISBLANK('Tenant Information'!E4834),\"\",'Tenant Information'!E4834)","v":""}]
[null,null,null,{"$f":"IF(ISBLANK('Tenant Information'!E4835),\"\",'Tenant Information'!E4835)","v":""}]
[null,null,null,{"$f":"IF(ISBLANK('Tenant Information'!E4836),\"\",'Tenant Information'!E4836)","v":""}]
[null,null,null,{"$f":"IF(ISBLANK('Tenant Information'!E4837),\"\",'Tenant Information'!E4837)","v":""}]
[null,null,null,{"$f":"IF(ISBLANK('Tenant Information'!E4838),\"\",'Tenant Information'!E4838)","v":""}]
[null,null,null,{"$f":"IF(ISBLANK('Tenant Information'!E4839),\"\",'Tenant Information'!E4839)","v":""}]
[null,null,null,{"$f":"IF(ISBLANK('Tenant Information'!E4840),\"\",'Tenant Information'!E4840)","v":""}]
[null,null,null,{"$f":"IF(ISBLANK('Tenant Information'!E4841),\"\",'Tenant Information'!E4841)","v":""}]
[null,null,null,{"$f":"IF(ISBLANK('Tenant Information'!E4842),\"\",'Tenant Information'!E4842)","v":""}]
[null,null,null,{"$f":"IF(ISBLANK('Tenant Information'!E4843),\"\",'Tenant Information'!E4843)","v":""}]
[null,null,null,{"$f":"IF(ISBLANK('Tenant Information'!E4844),\"\",'Tenant Information'!E4844)","v":""}]
[null,null,null,{"$f":"IF(ISBLANK('Tenant Information'!E4845),\"\",'Tenant Information'!E4845)","v":""}]
[null,null,null,{"$f":"IF(ISBLANK('Tenant Information'!E4846),\"\",'Tenant Information'!E4846)","v":""}]
[null,null,null,{"$f":"IF(ISBLANK('Tenant Information'!E4847),\"\",'Tenant Information'!E4847)","v":""}]
[null,null,null,{"$f":"IF(ISBLANK('Tenant Information'!E4848),\"\",'Tenant Information'!E4848)","v":""}]
[null,null,null,{"$f":"IF(ISBLANK('Tenant Information'!E4849),\"\",'Tenant Information'!E4849)","v":""}]
[null,null,null,{"$f":"IF(ISBLANK('Tenant Information'!E4850),\"\",'Tenant Information'!E4850)","v":""}]
[null,null,null,{"$f":"IF(ISBLANK('Tenant Information'!E4851),\"\",'Tenant Information'!E4851)","v":""}]
[null,null,null,{"$f":"IF(ISBLANK('Tenant Information'!E4852),\"\",'Tenant Information'!E4852)","v":""}]
[null,null,null,{"$f":"IF(ISBLANK('Tenant Information'!E4853),\"\",'Tenant Information'!E4853)","v":""}]
[null,null,null,{"$f":"IF(ISBLANK('Tenant Information'!E4854),\"\",'Tenant Information'!E4854)","v":""}]
[null,null,null,{"$f":"IF(ISBLANK('Tenant Information'!E4855),\"\",'Tenant Information'!E4855)","v":""}]
[null,null,null,{"$f":"IF(ISBLANK('Tenant Information'!E4856),\"\",'Tenant Information'!E4856)","v":""}]
[null,null,null,{"$f":"IF(ISBLANK('Tenant Information'!E4857),\"\",'Tenant Information'!E4857)","v":""}]
[null,null,null,{"$f":"IF(ISBLANK('Tenant Information'!E4858),\"\",'Tenant Information'!E4858)","v":""}]
[null,null,null,{"$f":"IF(ISBLANK('Tenant Information'!E4859),\"\",'Tenant Information'!E4859)","v":""}]
[null,null,null,{"$f":"IF(ISBLANK('Tenant Information'!E4860),\"\",'Tenant Information'!E4860)","v":""}]
[null,null,null,{"$f":"IF(ISBLANK('Tenant Information'!E4861),\"\",'Tenant Information'!E4861)","v":""}]
[null,null,null,{"$f":"IF(ISBLANK('Tenant Information'!E4862),\"\",'Tenant Information'!E4862)","v":""}]
[null,null,null,{"$f":"IF(ISBLANK('Tenant Information'!E4863),\"\",'Tenant Information'!E4863)","v":""}]
[null,null,null,{"$f":"IF(ISBLANK('Tenant Information'!E4864),\"\",'Tenant Information'!E4864)","v":""}]
[null,null,null,{"$f":"IF(ISBLANK('Tenant Information'!E4865),\"\",'Tenant Information'!E4865)","v":""}]
[null,null,null,{"$f":"IF(ISBLANK('Tenant Information'!E4866),\"\",'Tenant Information'!E4866)","v":""}]
[null,null,null,{"$f":"IF(ISBLANK('Tenant Information'!E4867),\"\",'Tenant Information'!E4867)","v":""}]
[null,null,null,{"$f":"IF(ISBLANK('Tenant Information'!E4868),\"\",'Tenant Information'!E4868)","v":""}]
[null,null,null,{"$f":"IF(ISBLANK('Tenant Information'!E4869),\"\",'Tenant Information'!E4869)","v":""}]
[null,null,null,{"$f":"IF(ISBLANK('Tenant Information'!E4870),\"\",'Tenant Information'!E4870)","v":""}]
[null,null,null,{"$f":"IF(ISBLANK('Tenant Information'!E4871),\"\",'Tenant Information'!E4871)","v":""}]
[null,null,null,{"$f":"IF(ISBLANK('Tenant Information'!E4872),\"\",'Tenant Information'!E4872)","v":""}]
[null,null,null,{"$f":"IF(ISBLANK('Tenant Information'!E4873),\"\",'Tenant Information'!E4873)","v":""}]
[null,null,null,{"$f":"IF(ISBLANK('Tenant Information'!E4874),\"\",'Tenant Information'!E4874)","v":""}]
[null,null,null,{"$f":"IF(ISBLANK('Tenant Information'!E4875),\"\",'Tenant Information'!E4875)","v":""}]
[null,null,null,{"$f":"IF(ISBLANK('Tenant Information'!E4876),\"\",'Tenant Information'!E4876)","v":""}]
[null,null,null,{"$f":"IF(ISBLANK('Tenant Information'!E4877),\"\",'Tenant Information'!E4877)","v":""}]
[null,null,null,{"$f":"IF(ISBLANK('Tenant Information'!E4878),\"\",'Tenant Information'!E4878)","v":""}]
[null,null,null,{"$f":"IF(ISBLANK('Tenant Information'!E4879),\"\",'Tenant Information'!E4879)","v":""}]
[null,null,null,{"$f":"IF(ISBLANK('Tenant Information'!E4880),\"\",'Tenant Information'!E4880)","v":""}]
[null,null,null,{"$f":"IF(ISBLANK('Tenant Information'!E4881),\"\",'Tenant Information'!E4881)","v":""}]
[null,null,null,{"$f":"IF(ISBLANK('Tenant Information'!E4882),\"\",'Tenant Information'!E4882)","v":""}]
[null,null,null,{"$f":"IF(ISBLANK('Tenant Information'!E4883),\"\",'Tenant Information'!E4883)","v":""}]
[null,null,null,{"$f":"IF(ISBLANK('Tenant Information'!E4884),\"\",'Tenant Information'!E4884)","v":""}]
[null,null,null,{"$f":"IF(ISBLANK('Tenant Information'!E4885),\"\",'Tenant Information'!E4885)","v":""}]
[null,null,null,{"$f":"IF(ISBLANK('Tenant Information'!E4886),\"\",'Tenant Information'!E4886)","v":""}]
[null,null,null,{"$f":"IF(ISBLANK('Tenant Information'!E4887),\"\",'Tenant Information'!E4887)","v":""}]
[null,null,null,{"$f":"IF(ISBLANK('Tenant Information'!E4888),\"\",'Tenant Information'!E4888)","v":""}]
[null,null,null,{"$f":"IF(ISBLANK('Tenant Information'!E4889),\"\",'Tenant Information'!E4889)","v":""}]
[null,null,null,{"$f":"IF(ISBLANK('Tenant Information'!E4890),\"\",'Tenant Information'!E4890)","v":""}]
[null,null,null,{"$f":"IF(ISBLANK('Tenant Information'!E4891),\"\",'Tenant Information'!E4891)","v":""}]
[null,null,null,{"$f":"IF(ISBLANK('Tenant Information'!E4892),\"\",'Tenant Information'!E4892)","v":""}]
[null,null,null,{"$f":"IF(ISBLANK('Tenant Information'!E4893),\"\",'Tenant Information'!E4893)","v":""}]
[null,null,null,{"$f":"IF(ISBLANK('Tenant Information'!E4894),\"\",'Tenant Information'!E4894)","v":""}]
[null,null,null,{"$f":"IF(ISBLANK('Tenant Information'!E4895),\"\",'Tenant Information'!E4895)","v":""}]
[null,null,null,{"$f":"IF(ISBLANK('Tenant Information'!E4896),\"\",'Tenant Information'!E4896)","v":""}]
[null,null,null,{"$f":"IF(ISBLANK('Tenant Information'!E4897),\"\",'Tenant Information'!E4897)","v":""}]
[null,null,null,{"$f":"IF(ISBLANK('Tenant Information'!E4898),\"\",'Tenant Information'!E4898)","v":""}]
[null,null,null,{"$f":"IF(ISBLANK('Tenant Information'!E4899),\"\",'Tenant Information'!E4899)","v":""}]
[null,null,null,{"$f":"IF(ISBLANK('Tenant Information'!E4900),\"\",'Tenant Information'!E4900)","v":""}]
[null,null,null,{"$f":"IF(ISBLANK('Tenant Information'!E4901),\"\",'Tenant Information'!E4901)","v":""}]
[null,null,null,{"$f":"IF(ISBLANK('Tenant Information'!E4902),\"\",'Tenant Information'!E4902)","v":""}]
[null,null,null,{"$f":"IF(ISBLANK('Tenant Information'!E4903),\"\",'Tenant Information'!E4903)","v":""}]
[null,null,null,{"$f":"IF(ISBLANK('Tenant Information'!E4904),\"\",'Tenant Information'!E4904)","v":""}]
[null,null,null,{"$f":"IF(ISBLANK('Tenant Information'!E4905),\"\",'Tenant Information'!E4905)","v":""}]
[null,null,null,{"$f":"IF(ISBLANK('Tenant Information'!E4906),\"\",'Tenant Information'!E4906)","v":""}]
[null,null,null,{"$f":"IF(ISBLANK('Tenant Information'!E4907),\"\",'Tenant Information'!E4907)","v":""}]
[null,null,null,{"$f":"IF(ISBLANK('Tenant Information'!E4908),\"\",'Tenant Information'!E4908)","v":""}]
[null,null,null,{"$f":"IF(ISBLANK('Tenant Information'!E4909),\"\",'Tenant Information'!E4909)","v":""}]
[null,null,null,{"$f":"IF(ISBLANK('Tenant Information'!E4910),\"\",'Tenant Information'!E4910)","v":""}]
[null,null,null,{"$f":"IF(ISBLANK('Tenant Information'!E4911),\"\",'Tenant Information'!E4911)","v":""}]
[null,null,null,{"$f":"IF(ISBLANK('Tenant Information'!E4912),\"\",'Tenant Information'!E4912)","v":""}]
[null,null,null,{"$f":"IF(ISBLANK('Tenant Information'!E4913),\"\",'Tenant Information'!E4913)","v":""}]
[null,null,null,{"$f":"IF(ISBLANK('Tenant Information'!E4914),\"\",'Tenant Information'!E4914)","v":""}]
[null,null,null,{"$f":"IF(ISBLANK('Tenant Information'!E4915),\"\",'Tenant Information'!E4915)","v":""}]
[null,null,null,{"$f":"IF(ISBLANK('Tenant Information'!E4916),\"\",'Tenant Information'!E4916)","v":""}]
[null,null,null,{"$f":"IF(ISBLANK('Tenant Information'!E4917),\"\",'Tenant Information'!E4917)","v":""}]
[null,null,null,{"$f":"IF(ISBLANK('Tenant Information'!E4918),\"\",'Tenant Information'!E4918)","v":""}]
[null,null,null,{"$f":"IF(ISBLANK('Tenant Information'!E4919),\"\",'Tenant Information'!E4919)","v":""}]
[null,null,null,{"$f":"IF(ISBLANK('Tenant Information'!E4920),\"\",'Tenant Information'!E4920)","v":""}]
[null,null,null,{"$f":"IF(ISBLANK('Tenant Information'!E4921),\"\",'Tenant Information'!E4921)","v":""}]
[null,null,null,{"$f":"IF(ISBLANK('Tenant Information'!E4922),\"\",'Tenant Information'!E4922)","v":""}]
[null,null,null,{"$f":"IF(ISBLANK('Tenant Information'!E4923),\"\",'Tenant Information'!E4923)","v":""}]
[null,null,null,{"$f":"IF(ISBLANK('Tenant Information'!E4924),\"\",'Tenant Information'!E4924)","v":""}]
[null,null,null,{"$f":"IF(ISBLANK('Tenant Information'!E4925),\"\",'Tenant Information'!E4925)","v":""}]
[null,null,null,{"$f":"IF(ISBLANK('Tenant Information'!E4926),\"\",'Tenant Information'!E4926)","v":""}]
[null,null,null,{"$f":"IF(ISBLANK('Tenant Information'!E4927),\"\",'Tenant Information'!E4927)","v":""}]
[null,null,null,{"$f":"IF(ISBLANK('Tenant Information'!E4928),\"\",'Tenant Information'!E4928)","v":""}]
[null,null,null,{"$f":"IF(ISBLANK('Tenant Information'!E4929),\"\",'Tenant Information'!E4929)","v":""}]
[null,null,null,{"$f":"IF(ISBLANK('Tenant Information'!E4930),\"\",'Tenant Information'!E4930)","v":""}]
[null,null,null,{"$f":"IF(ISBLANK('Tenant Information'!E4931),\"\",'Tenant Information'!E4931)","v":""}]
[null,null,null,{"$f":"IF(ISBLANK('Tenant Information'!E4932),\"\",'Tenant Information'!E4932)","v":""}]
[null,null,null,{"$f":"IF(ISBLANK('Tenant Information'!E4933),\"\",'Tenant Information'!E4933)","v":""}]
[null,null,null,{"$f":"IF(ISBLANK('Tenant Information'!E4934),\"\",'Tenant Information'!E4934)","v":""}]
[null,null,null,{"$f":"IF(ISBLANK('Tenant Information'!E4935),\"\",'Tenant Information'!E4935)","v":""}]
[null,null,null,{"$f":"IF(ISBLANK('Tenant Information'!E4936),\"\",'Tenant Information'!E4936)","v":""}]
[null,null,null,{"$f":"IF(ISBLANK('Tenant Information'!E4937),\"\",'Tenant Information'!E4937)","v":""}]
[null,null,null,{"$f":"IF(ISBLANK('Tenant Information'!E4938),\"\",'Tenant Information'!E4938)","v":""}]
[null,null,null,{"$f":"IF(ISBLANK('Tenant Information'!E4939),\"\",'Tenant Information'!E4939)","v":""}]
[null,null,null,{"$f":"IF(ISBLANK('Tenant Information'!E4940),\"\",'Tenant Information'!E4940)","v":""}]
[null,null,null,{"$f":"IF(ISBLANK('Tenant Information'!E4941),\"\",'Tenant Information'!E4941)","v":""}]
[null,null,null,{"$f":"IF(ISBLANK('Tenant Information'!E4942),\"\",'Tenant Information'!E4942)","v":""}]
[null,null,null,{"$f":"IF(ISBLANK('Tenant Information'!E4943),\"\",'Tenant Information'!E4943)","v":""}]
[null,null,null,{"$f":"IF(ISBLANK('Tenant Information'!E4944),\"\",'Tenant Information'!E4944)","v":""}]
[null,null,null,{"$f":"IF(ISBLANK('Tenant Information'!E4945),\"\",'Tenant Information'!E4945)","v":""}]
[null,null,null,{"$f":"IF(ISBLANK('Tenant Information'!E4946),\"\",'Tenant Information'!E4946)","v":""}]
[null,null,null,{"$f":"IF(ISBLANK('Tenant Information'!E4947),\"\",'Tenant Information'!E4947)","v":""}]
[null,null,null,{"$f":"IF(ISBLANK('Tenant Information'!E4948),\"\",'Tenant Information'!E4948)","v":""}]
[null,null,null,{"$f":"IF(ISBLANK('Tenant Information'!E4949),\"\",'Tenant Information'!E4949)","v":""}]
[null,null,null,{"$f":"IF(ISBLANK('Tenant Information'!E4950),\"\",'Tenant Information'!E4950)","v":""}]
[null,null,null,{"$f":"IF(ISBLANK('Tenant Information'!E4951),\"\",'Tenant Information'!E4951)","v":""}]
[null,null,null,{"$f":"IF(ISBLANK('Tenant Information'!E4952),\"\",'Tenant Information'!E4952)","v":""}]
[null,null,null,{"$f":"IF(ISBLANK('Tenant Information'!E4953),\"\",'Tenant Information'!E4953)","v":""}]
[null,null,null,{"$f":"IF(ISBLANK('Tenant Information'!E4954),\"\",'Tenant Information'!E4954)","v":""}]
[null,null,null,{"$f":"IF(ISBLANK('Tenant Information'!E4955),\"\",'Tenant Information'!E4955)","v":""}]
[null,null,null,{"$f":"IF(ISBLANK('Tenant Information'!E4956),\"\",'Tenant Information'!E4956)","v":""}]
[null,null,null,{"$f":"IF(ISBLANK('Tenant Information'!E4957),\"\",'Tenant Information'!E4957)","v":""}]
[null,null,null,{"$f":"IF(ISBLANK('Tenant Information'!E4958),\"\",'Tenant Information'!E4958)","v":""}]
[null,null,null,{"$f":"IF(ISBLANK('Tenant Information'!E4959),\"\",'Tenant Information'!E4959)","v":""}]
[null,null,null,{"$f":"IF(ISBLANK('Tenant Information'!E4960),\"\",'Tenant Information'!E4960)","v":""}]
[null,null,null,{"$f":"IF(ISBLANK('Tenant Information'!E4961),\"\",'Tenant Information'!E4961)","v":""}]
[null,null,null,{"$f":"IF(ISBLANK('Tenant Information'!E4962),\"\",'Tenant Information'!E4962)","v":""}]
[null,null,null,{"$f":"IF(ISBLANK('Tenant Information'!E4963),\"\",'Tenant Information'!E4963)","v":""}]
[null,null,null,{"$f":"IF(ISBLANK('Tenant Information'!E4964),\"\",'Tenant Information'!E4964)","v":""}]
[null,null,null,{"$f":"IF(ISBLANK('Tenant Information'!E4965),\"\",'Tenant Information'!E4965)","v":""}]
[null,null,null,{"$f":"IF(ISBLANK('Tenant Information'!E4966),\"\",'Tenant Information'!E4966)","v":""}]
[null,null,null,{"$f":"IF(ISBLANK('Tenant Information'!E4967),\"\",'Tenant Information'!E4967)","v":""}]
[null,null,null,{"$f":"IF(ISBLANK('Tenant Information'!E4968),\"\",'Tenant Information'!E4968)","v":""}]
[null,null,null,{"$f":"IF(ISBLANK('Tenant Information'!E4969),\"\",'Tenant Information'!E4969)","v":""}]
[null,null,null,{"$f":"IF(ISBLANK('Tenant Information'!E4970),\"\",'Tenant Information'!E4970)","v":""}]
[null,null,null,{"$f":"IF(ISBLANK('Tenant Information'!E4971),\"\",'Tenant Information'!E4971)","v":""}]
[null,null,null,{"$f":"IF(ISBLANK('Tenant Information'!E4972),\"\",'Tenant Information'!E4972)","v":""}]
[null,null,null,{"$f":"IF(ISBLANK('Tenant Information'!E4973),\"\",'Tenant Information'!E4973)","v":""}]
[null,null,null,{"$f":"IF(ISBLANK('Tenant Information'!E4974),\"\",'Tenant Information'!E4974)","v":""}]
[null,null,null,{"$f":"IF(ISBLANK('Tenant Information'!E4975),\"\",'Tenant Information'!E4975)","v":""}]
[null,null,null,{"$f":"IF(ISBLANK('Tenant Information'!E4976),\"\",'Tenant Information'!E4976)","v":""}]
[null,null,null,{"$f":"IF(ISBLANK('Tenant Information'!E4977),\"\",'Tenant Information'!E4977)","v":""}]
[null,null,null,{"$f":"IF(ISBLANK('Tenant Information'!E4978),\"\",'Tenant Information'!E4978)","v":""}]
[null,null,null,{"$f":"IF(ISBLANK('Tenant Information'!E4979),\"\",'Tenant Information'!E4979)","v":""}]
[null,null,null,{"$f":"IF(ISBLANK('Tenant Information'!E4980),\"\",'Tenant Information'!E4980)","v":""}]
[null,null,null,{"$f":"IF(ISBLANK('Tenant Information'!E4981),\"\",'Tenant Information'!E4981)","v":""}]
[null,null,null,{"$f":"IF(ISBLANK('Tenant Information'!E4982),\"\",'Tenant Information'!E4982)","v":""}]
[null,null,null,{"$f":"IF(ISBLANK('Tenant Information'!E4983),\"\",'Tenant Information'!E4983)","v":""}]
[null,null,null,{"$f":"IF(ISBLANK('Tenant Information'!E4984),\"\",'Tenant Information'!E4984)","v":""}]
[null,null,null,{"$f":"IF(ISBLANK('Tenant Information'!E4985),\"\",'Tenant Information'!E4985)","v":""}]
[null,null,null,{"$f":"IF(ISBLANK('Tenant Information'!E4986),\"\",'Tenant Information'!E4986)","v":""}]
[null,null,null,{"$f":"IF(ISBLANK('Tenant Information'!E4987),\"\",'Tenant Information'!E4987)","v":""}]
[null,null,null,{"$f":"IF(ISBLANK('Tenant Information'!E4988),\"\",'Tenant Information'!E4988)","v":""}]
[null,null,null,{"$f":"IF(ISBLANK('Tenant Information'!E4989),\"\",'Tenant Information'!E4989)","v":""}]
[null,null,null,{"$f":"IF(ISBLANK('Tenant Information'!E4990),\"\",'Tenant Information'!E4990)","v":""}]
[null,null,null,{"$f":"IF(ISBLANK('Tenant Information'!E4991),\"\",'Tenant Information'!E4991)","v":""}]
[null,null,null,{"$f":"IF(ISBLANK('Tenant Information'!E4992),\"\",'Tenant Information'!E4992)","v":""}]
[null,null,null,{"$f":"IF(ISBLANK('Tenant Information'!E4993),\"\",'Tenant Information'!E4993)","v":""}]
[null,null,null,{"$f":"IF(ISBLANK('Tenant Information'!E4994),\"\",'Tenant Information'!E4994)","v":""}]
[null,null,null,{"$f":"IF(ISBLANK('Tenant Information'!E4995),\"\",'Tenant Information'!E4995)","v":""}]
[null,null,null,{"$f":"IF(ISBLANK('Tenant Information'!E4996),\"\",'Tenant Information'!E4996)","v":""}]
[null,null,null,{"$f":"IF(ISBLANK('Tenant Information'!E4997),\"\",'Tenant Information'!E4997)","v":""}]
[null,null,null,{"$f":"IF(ISBLANK('Tenant Information'!E4998),\"\",'Tenant Information'!E4998)","v":""}]
[null,null,null,{"$f":"IF(ISBLANK('Tenant Information'!E4999),\"\",'Tenant Information'!E4999)","v":""}]
[null,null,null,{"$f":"IF(ISBLANK('Tenant Information'!E5000),\"\",'Tenant Information'!E5000)","v":""}]
[null,null,null,{"$f":"IF(ISBLANK('Tenant Information'!E5001),\"\",'Tenant Information'!E5001)","v":""}]
[null,null,null,{"$f":"IF(ISBLANK('Tenant Information'!E5002),\"\",'Tenant Information'!E5002)","v":""}]
[null,null,null,{"$f":"IF(ISBLANK('Tenant Information'!E5003),\"\",'Tenant Information'!E5003)","v":""}]
[null,null,null,{"$f":"IF(ISBLANK('Tenant Information'!E5004),\"\",'Tenant Information'!E5004)","v":""}]
[null,null,null,{"$f":"IF(ISBLANK('Tenant Information'!E5005),\"\",'Tenant Information'!E5005)","v":""}]
[null,null,null,{"$f":"IF(ISBLANK('Tenant Information'!E5006),\"\",'Tenant Information'!E5006)","v":""}]

{"sheet":"Tenant Information","index":2,"n_rows":5006,"n_cols":22,"rows_kept":5006,"cut":false,"hidden":false,"merged":[[1,8,4,17],[0,6,0,17],[1,6,4,7]]}
[null,null,null,null,null,null,"L5 - Rental Unit Information (RUI)"]
[null,null,null,null,null,null,null,null,"Instructions: \n1)  The rental information for each unit in the residential complex must be included in the Rental Unit Information (RUI) form below. \n2)  If a unit is not covered by the application, you must still enter the unit number and the current rental amount. If the unit is vacant or not rented, enter “0” in the current rent column. You are not required to enter a tenant name or date that the current tenancy began for units not covered by the application. \n3)  If more than one tenant resides in a given unit, you must list subsequent tenant names in separate rows of the RUI. The rental information for a given unit (Ex. current rent, date the tenancy began, and whether or not the unit is covered by the application) must be identical data for each tenant. Please note: If the rental unit data is not entered exactly the same for multiple tenants in the same unit, the above-guideline increase (AGI) calculation will only use the rental data imputed for the last tenant of the unit listed on the RUI form. \n4)  In the 'Unit Covered by Application' column, select 'Yes' or 'No' from the drop-down menu to indicate whether or not the Tenant is part of the application. If you wish to receive an AGI increase from the Tenant, select 'Yes'. If you wish the Tenant be excluded from the application, select 'No'. Tenants indicated as not covered by the application will not appear on the Notice of Hearing or any Board Orders. \n5)  The 'Date Current Tenancy Began' column only needs to be completed if the dates fall within the 18 month period ending 90 days prior to the First Effective Date (FED) on your application. The date the tenancy began must be in DD/MM/YYYY format. \n6)  The rental data entered in the RUI will be used to generate the AGI calculation for your application. It is the Landlord’s responsibility to enter the data accurately, in the requested format, and to complete all required fields. Completing the data on this form incorrectly may result in inaccurate AGI calculations."]
[]
[]
[]
[]
["Complex Key","Rental Unit Key","Rental Unit Covered in Application","Party Contact Key","Street Address","Tenants Party to Application","Tenant First Name","Tenant Last Name","Unit/Apt/Suite","Street Number","Street Name","City","Province","Postal Code","Unit Covered by Application","Current Rent","Frequency of Rent","Date Current Tenancy Began",null,"Day","Month","Year"]
[{"$f":"IF(AND(ISBLANK(J8),ISBLANK(K8),ISBLANK(L8),ISBLANK(M8),ISBLANK(N8)),\"\",CONCATENATE(TRIM(J8), \"_\",TRIM(K8), \"_\",TRIM(L8), \"_\",TRIM(M8),\"_\",TRIM(N8)))","v":""},{"$f":"IF(AND(ISBLANK($I8),ISBLANK($J8),ISBLANK($K8),ISBLANK($L8)),\"\",CONCATENATE(TRIM($I8),\"_\",TRIM($J8),\"_\",TRIM($K8),\"_\",TRIM($L8)))","v":""},{"$f":"IF(AND(ISBLANK($O8),ISBLANK($I8),ISBLANK($J8),ISBLANK($K8),ISBLANK($L8)),\"\",IF(O8=\"Yes\",CONCATENATE(TRIM($I8),\"_\",TRIM($J8),\"_\",TRIM($K8),\"_\",TRIM($L8)),\"\"))","v":""},{"$f":"IF(AND(ISBLANK(G8),ISBLANK(H8)),\"\",CONCATENATE(TRIM(G8),\"_\",TRIM(H8),\"_\",TRIM(B8)))","v":""},{"$f":"IF(AND(ISBLANK(J8),ISBLANK(K8),ISBLANK(L8)),\"\",CONCATENATE(TRIM(J8),\" \",TRIM(K8),\" \",TRIM(L8)))","v":""},{"$f":"IF(O8=\"Yes\",1,IF(ISBLANK(O8),\"\",0))","v":""}]
[{"$f":"IF(AND(ISBLANK(J9),ISBLANK(K9),ISBLANK(L9),ISBLANK(M9),ISBLANK(N9)),\"\",CONCATENATE(TRIM(J9), \"_\",TRIM(K9), \"_\",TRIM(L9), \"_\",TRIM(M9),\"_\",TRIM(N9)))","v":""},{"$f":"IF(AND(ISBLANK($I9),ISBLANK($J9),ISBLANK($K9),ISBLANK($L9)),\"\",CONCATENATE(TRIM($I9),\"_\",TRIM($J9),\"_\",TRIM($K9),\"_\",TRIM($L9)))","v":""},{"$f":"IF(AND(ISBLANK($O9),ISBLANK($I9),ISBLANK($J9),ISBLANK($K9),ISBLANK($L9)),\"\",IF(O9=\"Yes\",CONCATENATE(TRIM($I9),\"_\",TRIM($J9),\"_\",TRIM($K9),\"_\",TRIM($L9)),\"\"))","v":""},{"$f":"IF(AND(ISBLANK(G9),ISBLANK(H9)),\"\",CONCATENATE(TRIM(G9),\"_\",TRIM(H9),\"_\",TRIM(B9)))","v":""},{"$f":"IF(AND(ISBLANK(J9),ISBLANK(K9),ISBLANK(L9)),\"\",CONCATENATE(TRIM(J9),\" \",TRIM(K9),\" \",TRIM(L9)))","v":""},{"$f":"IF(O9=\"Yes\",1,IF(ISBLANK(O9),\"\",0))","v":""}]
["","","","","",{"$f":"IF(O10=\"Yes\",1,IF(ISBLANK(O10),\"\",0))","v":""}]
["","","","","",""]
["","","","","",""]
["","","","","",""]
["","","","","",""]
["","","","","",""]
["","","","","",""]
["","","","","",""]
["","","","","",""]
["","","","","",""]
["","","","","",""]
["","","","","",""]
["","","","","",""]
["","","","","",""]
["","","","","",""]
["","","","","",""]
["","","","","",""]
["","","","","",""]
["","","","","",""]
["","","","","",""]
["","","","","",""]
["","","","","",""]
["","","","","",""]
["","","","","",""]
["","","","","",""]
["","","","","",""]
["","","","","",""]
["","","","","",""]
["","","","","",""]
["","","","","",""]
["","","","","",""]
["","","","","",""]
["","","","","",""]
["","","","","",""]
["","","","","",""]
["","","","","",""]
["","","","","",""]
["","","","","",""]
["","","","","",""]
["","","","","",""]
["","","","","",""]
["","","","","",""]
["","","","","",""]
["","","","","",""]
["","","","","",""]
["","","","","",""]
["","","","","",""]
["","","","","",""]
["","","","","",""]
["","","","","",""]
["","","","","",""]
["","","","","",""]
["","","","","",""]
["","","","","",""]
["","","","","",""]
["","","","","",""]
["","","","","",""]
["","","","","",""]
["","","","","",""]
["","","","","",""]
["","","","","",""]
["","","","","",""]
["","","","","",""]
[{"$f":"IF(AND(ISBLANK(J73),ISBLANK(K73),ISBLANK(L73),ISBLANK(M73),ISBLANK(N73)),\"\",CONCATENATE(TRIM(J73), \"_\",TRIM(K73), \"_\",TRIM(L73), \"_\",TRIM(M73),\"_\",TRIM(N73)))","v":""},{"$f":"IF(AND(ISBLANK($I73),ISBLANK($J73),ISBLANK($K73),ISBLANK($L73)),\"\",CONCATENATE(TRIM($I73),\"_\",TRIM($J73),\"_\",TRIM($K73),\"_\",TRIM($L73)))","v":""},{"$f":"IF(AND(ISBLANK($O73),ISBLANK($I73),ISBLANK($J73),ISBLANK($K73),ISBLANK($L73)),\"\",IF(O73=\"Yes\",CONCATENATE(TRIM($I73),\"_\",TRIM($J73),\"_\",TRIM($K73),\"_\",TRIM($L73)),\"\"))","v":""},{"$f":"IF(AND(ISBLANK(G73),ISBLANK(H73)),\"\",CONCATENATE(TRIM(G73),\"_\",TRIM(H73),\"_\",TRIM(B73)))","v":""},{"$f":"IF(AND(ISBLANK(J73),ISBLANK(K73),ISBLANK(L73)),\"\",CONCATENATE(TRIM(J73),\" \",TRIM(K73),\" \",TRIM(L73)))","v":""},""]
["","","","","",{"$f":"IF(O74=\"Yes\",1,IF(ISBLANK(O74),\"\",0))","v":""}]
["","","","","",""]
["","","","","",""]
["","","","","",""]
["","","","","",""]
["","","","","",""]
["","","","","",""]
["","","","","",""]
["","","","","",""]
["","","","","",""]
["","","","","",""]
["","","","","",""]
["","","","","",""]
["","","","","",""]
["","","","","",""]
["","","","","",""]
["","","","","",""]
["","","","","",""]
["","","","","",""]
["","","","","",""]
["","","","","",""]
["","","","","",""]
["","","","","",""]
["","","","","",""]
["","","","","",""]
["","","","","",""]
["","","","","",""]
["","","","","",""]
["","","","","",""]
["","","","","",""]
["","","","","",""]
["","","","","",""]
["","","","","",""]
["","","","","",""]
["","","","","",""]
["","","","","",""]
["","","","","",""]
["","","","","",""]
["","","","","",""]
["","","","","",""]
["","","","","",""]
["","","","","",""]
["","","","","",""]
["","","","","",""]
["","","","","",""]
["","","","","",""]
["","","","","",""]
["","","","","",""]
["","","","","",""]
["","","","","",""]
["","","","","",""]
["","","","","",""]
["","","","","",""]
["","","","","",""]
["","","","","",""]
["","","","","",""]
["","","","","",""]
["","","","","",""]
["","","","","",""]
["","","","","",""]
["","","","","",""]
["","","","","",""]
["","","","","",""]
[{"$f":"IF(AND(ISBLANK(J137),ISBLANK(K137),ISBLANK(L137),ISBLANK(M137),ISBLANK(N137)),\"\",CONCATENATE(TRIM(J137), \"_\",TRIM(K137), \"_\",TRIM(L137), \"_\",TRIM(M137),\"_\",TRIM(N137)))","v":""},{"$f":"IF(AND(ISBLANK($I137),ISBLANK($J137),ISBLANK($K137),ISBLANK($L137)),\"\",CONCATENATE(TRIM($I137),\"_\",TRIM($J137),\"_\",TRIM($K137),\"_\",TRIM($L137)))","v":""},{"$f":"IF(AND(ISBLANK($O137),ISBLANK($I137),ISBLANK($J137),ISBLANK($K137),ISBLANK($L137)),\"\",IF(O137=\"Yes\",CONCATENATE(TRIM($I137),\"_\",TRIM($J137),\"_\",TRIM($K137),\"_\",TRIM($L137)),\"\"))","v":""},{"$f":"IF(AND(ISBLANK(G137),ISBLANK(H137)),\"\",CONCATENATE(TRIM(G137),\"_\",TRIM(H137),\"_\",TRIM(B137)))","v":""},{"$f":"IF(AND(ISBLANK(J137),ISBLANK(K137),ISBLANK(L137)),\"\",CONCATENATE(TRIM(J137),\" \",TRIM(K137),\" \",TRIM(L137)))","v":""},""]
["","","","","",{"$f":"IF(O138=\"Yes\",1,IF(ISBLANK(O138),\"\",0))","v":""}]
["","","","","",""]
["","","","","",""]
["","","","","",""]
["","","","","",""]
["","","","","",""]
["","","","","",""]
["","","","","",""]
["","","","","",""]
["","","","","",""]
["","","","","",""]
["","","","","",""]
["","","","","",""]
["","","","","",""]
["","","","","",""]
["","","","","",""]
["","","","","",""]
["","","","","",""]
["","","","","",""]
["","","","","",""]
["","","","","",""]
["","","","","",""]
["","","","","",""]
["","","","","",""]
["","","","","",""]
["","","","","",""]
["","","","","",""]
["","","","","",""]
["","","","","",""]
["","","","","",""]
["","","","","",""]
["","","","","",""]
["","","","","",""]
["","","","","",""]
["","","","","",""]
["","","","","",""]
["","","","","",""]
["","","","","",""]
["","","","","",""]
["","","","","",""]
["","","","","",""]
["","","","","",""]
["","","","","",""]
["","","","","",""]
["","","","","",""]
["","","","","",""]
["","","","","",""]
["","","","","",""]
["","","","","",""]
["","","","","",""]
["","","","","",""]
["","","","","",""]
["","","","","",""]
["","","","","",""]
["","","","","",""]
["","","","","",""]
["","","","","",""]
["","","","","",""]
["","","","","",""]
["","","","","",""]
["","","","","",""]
["","","","","",""]
["","","","","",""]
[{"$f":"IF(AND(ISBLANK(J201),ISBLANK(K201),ISBLANK(L201),ISBLANK(M201),ISBLANK(N201)),\"\",CONCATENATE(TRIM(J201), \"_\",TRIM(K201), \"_\",TRIM(L201), \"_\",TRIM(M201),\"_\",TRIM(N201)))","v":""},{"$f":"IF(AND(ISBLANK($I201),ISBLANK($J201),ISBLANK($K201),ISBLANK($L201)),\"\",CONCATENATE(TRIM($I201),\"_\",TRIM($J201),\"_\",TRIM($K201),\"_\",TRIM($L201)))","v":""},{"$f":"IF(AND(ISBLANK($O201),ISBLANK($I201),ISBLANK($J201),ISBLANK($K201),ISBLANK($L201)),\"\",IF(O201=\"Yes\",CONCATENATE(TRIM($I201),\"_\",TRIM($J201),\"_\",TRIM($K201),\"_\",TRIM($L201)),\"\"))","v":""},{"$f":"IF(AND(ISBLANK(G201),ISBLANK(H201)),\"\",CONCATENATE(TRIM(G201),\"_\",TRIM(H201),\"_\",TRIM(B201)))","v":""},{"$f":"IF(AND(ISBLANK(J201),ISBLANK(K201),ISBLANK(L201)),\"\",CONCATENATE(TRIM(J201),\" \",TRIM(K201),\" \",TRIM(L201)))","v":""},""]
["","","","","",{"$f":"IF(O202=\"Yes\",1,IF(ISBLANK(O202),\"\",0))","v":""}]
["","","","","",""]
["","","","","",""]
["","","","","",""]
["","","","","",""]
["","","","","",""]
["","","","","",""]
["","","","","",""]
["","","","","",""]
["","","","","",""]
["","","","","",""]
["","","","","",""]
["","","","","",""]
["","","","","",""]
["","","","","",""]
["","","","","",""]
["","","","","",""]
["","","","","",""]
["","","","","",""]
["","","","","",""]
["","","","","",""]
["","","","","",""]
["","","","","",""]
["","","","","",""]
["","","","","",""]
["","","","","",""]
["","","","","",""]
["","","","","",""]
["","","","","",""]
["","","","","",""]
["","","","","",""]
["","","","","",""]
["","","","","",""]
["","","","","",""]
["","","","","",""]
["","","","","",""]
["","","","","",""]
["","","","","",""]
["","","","","",""]
["","","","","",""]
["","","","","",""]
["","","","","",""]
["","","","","",""]
["","","","","",""]
["","","","","",""]
["","","","","",""]
["","","","","",""]
["","","","","",""]
["","","","","",""]
["","","","","",""]
["","","","","",""]
["","","","","",""]
["","","","","",""]
["","","","","",""]
["","","","","",""]
["","","","","",""]
["","","","","",""]
["","","","","",""]
["","","","","",""]
["","","","","",""]
["","","","","",""]
["","","","","",""]
["","","","","",""]
[{"$f":"IF(AND(ISBLANK(J265),ISBLANK(K265),ISBLANK(L265),ISBLANK(M265),ISBLANK(N265)),\"\",CONCATENATE(TRIM(J265), \"_\",TRIM(K265), \"_\",TRIM(L265), \"_\",TRIM(M265),\"_\",TRIM(N265)))","v":""},{"$f":"IF(AND(ISBLANK($I265),ISBLANK($J265),ISBLANK($K265),ISBLANK($L265)),\"\",CONCATENATE(TRIM($I265),\"_\",TRIM($J265),\"_\",TRIM($K265),\"_\",TRIM($L265)))","v":""},{"$f":"IF(AND(ISBLANK($O265),ISBLANK($I265),ISBLANK($J265),ISBLANK($K265),ISBLANK($L265)),\"\",IF(O265=\"Yes\",CONCATENATE(TRIM($I265),\"_\",TRIM($J265),\"_\",TRIM($K265),\"_\",TRIM($L265)),\"\"))","v":""},{"$f":"IF(AND(ISBLANK(G265),ISBLANK(H265)),\"\",CONCATENATE(TRIM(G265),\"_\",TRIM(H265),\"_\",TRIM(B265)))","v":""},{"$f":"IF(AND(ISBLANK(J265),ISBLANK(K265),ISBLANK(L265)),\"\",CONCATENATE(TRIM(J265),\" \",TRIM(K265),\" \",TRIM(L265)))","v":""},""]
["","","","","",{"$f":"IF(O266=\"Yes\",1,IF(ISBLANK(O266),\"\",0))","v":""}]
["","","","","",""]
["","","","","",""]
["","","","","",""]
["","","","","",""]
["","","","","",""]
["","","","","",""]
["","","","","",""]
["","","","","",""]
["","","","","",""]
["","","","","",""]
["","","","","",""]
["","","","","",""]
["","","","","",""]
["","","","","",""]
["","","","","",""]
["","","","","",""]
["","","","","",""]
["","","","","",""]
["","","","","",""]
["","","","","",""]
["","","","","",""]
["","","","","",""]
["","","","","",""]
["","","","","",""]
["","","","","",""]
["","","","","",""]
["","","","","",""]
["","","","","",""]
["","","","","",""]
["","","","","",""]
["","","","","",""]
["","","","","",""]
["","","","","",""]
["","","","","",""]
["","","","","",""]
["","","","","",""]
["","","","","",""]
["","","","","",""]
["","","","","",""]
["","","","","",""]
["","","","","",""]
["","","","","",""]
["","","","","",""]
["","","","","",""]
["","","","","",""]
["","","","","",""]
["","","","","",""]
["","","","","",""]
["","","","","",""]
["","","","","",""]
["","","","","",""]
["","","","","",""]
["","","","","",""]
["","","","","",""]
["","","","","",""]
["","","","","",""]
["","","","","",""]
["","","","","",""]
["","","","","",""]
["","","","","",""]
["","","","","",""]
["","","","","",""]
[{"$f":"IF(AND(ISBLANK(J329),ISBLANK(K329),ISBLANK(L329),ISBLANK(M329),ISBLANK(N329)),\"\",CONCATENATE(TRIM(J329), \"_\",TRIM(K329), \"_\",TRIM(L329), \"_\",TRIM(M329),\"_\",TRIM(N329)))","v":""},{"$f":"IF(AND(ISBLANK($I329),ISBLANK($J329),ISBLANK($K329),ISBLANK($L329)),\"\",CONCATENATE(TRIM($I329),\"_\",TRIM($J329),\"_\",TRIM($K329),\"_\",TRIM($L329)))","v":""},{"$f":"IF(AND(ISBLANK($O329),ISBLANK($I329),ISBLANK($J329),ISBLANK($K329),ISBLANK($L329)),\"\",IF(O329=\"Yes\",CONCATENATE(TRIM($I329),\"_\",TRIM($J329),\"_\",TRIM($K329),\"_\",TRIM($L329)),\"\"))","v":""},{"$f":"IF(AND(ISBLANK(G329),ISBLANK(H329)),\"\",CONCATENATE(TRIM(G329),\"_\",TRIM(H329),\"_\",TRIM(B329)))","v":""},{"$f":"IF(AND(ISBLANK(J329),ISBLANK(K329),ISBLANK(L329)),\"\",CONCATENATE(TRIM(J329),\" \",TRIM(K329),\" \",TRIM(L329)))","v":""},""]
["","","","","",{"$f":"IF(O330=\"Yes\",1,IF(ISBLANK(O330),\"\",0))","v":""}]
["","","","","",""]
["","","","","",""]
["","","","","",""]
["","","","","",""]
["","","","","",""]
["","","","","",""]
["","","","","",""]
["","","","","",""]
["","","","","",""]
["","","","","",""]
["","","","","",""]
["","","","","",""]
["","","","","",""]
["","","","","",""]
["","","","","",""]
["","","","","",""]
["","","","","",""]
["","","","","",""]
["","","","","",""]
["","","","","",""]
["","","","","",""]
["","","","","",""]
["","","","","",""]
["","","","","",""]
["","","","","",""]
["","","","","",""]
["","","","","",""]
["","","","","",""]
["","","","","",""]
["","","","","",""]
["","","","","",""]
["","","","","",""]
["","","","","",""]
["","","","","",""]
["","","","","",""]
["","","","","",""]
["","","","","",""]
["","","","","",""]
["","","","","",""]
["","","","","",""]
["","","","","",""]
["","","","","",""]
["","","","","",""]
["","","","","",""]
["","","","","",""]
["","","","","",""]
["","","","","",""]
["","","","","",""]
["","","","","",""]
["","","","","",""]
["","","","","",""]
["","","","","",""]
["","","","","",""]
["","","","","",""]
["","","","","",""]
["","","","","",""]
["","","","","",""]
["","","","","",""]
["","","","","",""]
["","","","","",""]
["","","","","",""]
["","","","","",""]
[{"$f":"IF(AND(ISBLANK(J393),ISBLANK(K393),ISBLANK(L393),ISBLANK(M393),ISBLANK(N393)),\"\",CONCATENATE(TRIM(J393), \"_\",TRIM(K393), \"_\",TRIM(L393), \"_\",TRIM(M393),\"_\",TRIM(N393)))","v":""},{"$f":"IF(AND(ISBLANK($I393),ISBLANK($J393),ISBLANK($K393),ISBLANK($L393)),\"\",CONCATENATE(TRIM($I393),\"_\",TRIM($J393),\"_\",TRIM($K393),\"_\",TRIM($L393)))","v":""},{"$f":"IF(AND(ISBLANK($O393),ISBLANK($I393),ISBLANK($J393),ISBLANK($K393),ISBLANK($L393)),\"\",IF(O393=\"Yes\",CONCATENATE(TRIM($I393),\"_\",TRIM($J393),\"_\",TRIM($K393),\"_\",TRIM($L393)),\"\"))","v":""},{"$f":"IF(AND(ISBLANK(G393),ISBLANK(H393)),\"\",CONCATENATE(TRIM(G393),\"_\",TRIM(H393),\"_\",TRIM(B393)))","v":""},{"$f":"IF(AND(ISBLANK(J393),ISBLANK(K393),ISBLANK(L393)),\"\",CONCATENATE(TRIM(J393),\" \",TRIM(K393),\" \",TRIM(L393)))","v":""},""]
["","","","","",{"$f":"IF(O394=\"Yes\",1,IF(ISBLANK(O394),\"\",0))","v":""}]
["","","","","",""]
["","","","","",""]
["","","","","",""]
["","","","","",""]
["","","","","",""]
["","","","","",""]
["","","","","",""]
["","","","","",""]
["","","","","",""]
["","","","","",""]
["","","","","",""]
["","","","","",""]
["","","","","",""]
["","","","","",""]
["","","","","",""]
["","","","","",""]
["","","","","",""]
["","","","","",""]
["","","","","",""]
["","","","","",""]
["","","","","",""]
["","","","","",""]
["","","","","",""]
["","","","","",""]
["","","","","",""]
["","","","","",""]
["","","","","",""]
["","","","","",""]
["","","","","",""]
["","","","","",""]
["","","","","",""]
["","","","","",""]
["","","","","",""]
["","","","","",""]
["","","","","",""]
["","","","","",""]
["","","","","",""]
["","","","","",""]
["","","","","",""]
["","","","","",""]
["","","","","",""]
["","","","","",""]
["","","","","",""]
["","","","","",""]
["","","","","",""]
["","","","","",""]
["","","","","",""]
["","","","","",""]
["","","","","",""]
["","","","","",""]
["","","","","",""]
["","","","","",""]
["","","","","",""]
["","","","","",""]
["","","","","",""]
["","","","","",""]
["","","","","",""]
["","","","","",""]
["","","","","",""]
["","","","","",""]
["","","","","",""]
["","","","","",""]
[{"$f":"IF(AND(ISBLANK(J457),ISBLANK(K457),ISBLANK(L457),ISBLANK(M457),ISBLANK(N457)),\"\",CONCATENATE(TRIM(J457), \"_\",TRIM(K457), \"_\",TRIM(L457), \"_\",TRIM(M457),\"_\",TRIM(N457)))","v":""},{"$f":"IF(AND(ISBLANK($I457),ISBLANK($J457),ISBLANK($K457),ISBLANK($L457)),\"\",CONCATENATE(TRIM($I457),\"_\",TRIM($J457),\"_\",TRIM($K457),\"_\",TRIM($L457)))","v":""},{"$f":"IF(AND(ISBLANK($O457),ISBLANK($I457),ISBLANK($J457),ISBLANK($K457),ISBLANK($L457)),\"\",IF(O457=\"Yes\",CONCATENATE(TRIM($I457),\"_\",TRIM($J457),\"_\",TRIM($K457),\"_\",TRIM($L457)),\"\"))","v":""},{"$f":"IF(AND(ISBLANK(G457),ISBLANK(H457)),\"\",CONCATENATE(TRIM(G457),\"_\",TRIM(H457),\"_\",TRIM(B457)))","v":""},{"$f":"IF(AND(ISBLANK(J457),ISBLANK(K457),ISBLANK(L457)),\"\",CONCATENATE(TRIM(J457),\" \",TRIM(K457),\" \",TRIM(L457)))","v":""},""]
["","","","","",{"$f":"IF(O458=\"Yes\",1,IF(ISBLANK(O458),\"\",0))","v":""}]
["","","","","",""]
["","","","","",""]
["","","","","",""]
["","","","","",""]
["","","","","",""]
["","","","","",""]
["","","","","",""]
["","","","","",""]
["","","","","",""]
["","","","","",""]
["","","","","",""]
["","","","","",""]
["","","","","",""]
["","","","","",""]
["","","","","",""]
["","","","","",""]
["","","","","",""]
["","","","","",""]
["","","","","",""]
["","","","","",""]
["","","","","",""]
["","","","","",""]
["","","","","",""]
["","","","","",""]
["","","","","",""]
["","","","","",""]
["","","","","",""]
["","","","","",""]
["","","","","",""]
["","","","","",""]
["","","","","",""]
["","","","","",""]
["","","","","",""]
["","","","","",""]
["","","","","",""]
["","","","","",""]
["","","","","",""]
["","","","","",""]
["","","","","",""]
["","","","","",""]
["","","","","",""]
["","","","","",""]
["","","","","",""]
["","","","","",""]
["","","","","",""]
["","","","","",""]
["","","","","",""]
["","","","","",""]
["","","","","",""]
["","","","","",""]
["","","","","",""]
["","","","","",""]
["","","","","",""]
["","","","","",""]
["","","","","",""]
["","","","","",""]
["","","","","",""]
["","","","","",""]
["","","","","",""]
["","","","","",""]
["","","","","",""]
["","","","","",""]
[{"$f":"IF(AND(ISBLANK(J521),ISBLANK(K521),ISBLANK(L521),ISBLANK(M521),ISBLANK(N521)),\"\",CONCATENATE(TRIM(J521), \"_\",TRIM(K521), \"_\",TRIM(L521), \"_\",TRIM(M521),\"_\",TRIM(N521)))","v":""},{"$f":"IF(AND(ISBLANK($I521),ISBLANK($J521),ISBLANK($K521),ISBLANK($L521)),\"\",CONCATENATE(TRIM($I521),\"_\",TRIM($J521),\"_\",TRIM($K521),\"_\",TRIM($L521)))","v":""},{"$f":"IF(AND(ISBLANK($O521),ISBLANK($I521),ISBLANK($J521),ISBLANK($K521),ISBLANK($L521)),\"\",IF(O521=\"Yes\",CONCATENATE(TRIM($I521),\"_\",TRIM($J521),\"_\",TRIM($K521),\"_\",TRIM($L521)),\"\"))","v":""},{"$f":"IF(AND(ISBLANK(G521),ISBLANK(H521)),\"\",CONCATENATE(TRIM(G521),\"_\",TRIM(H521),\"_\",TRIM(B521)))","v":""},{"$f":"IF(AND(ISBLANK(J521),ISBLANK(K521),ISBLANK(L521)),\"\",CONCATENATE(TRIM(J521),\" \",TRIM(K521),\" \",TRIM(L521)))","v":""},""]
["","","","","",{"$f":"IF(O522=\"Yes\",1,IF(ISBLANK(O522),\"\",0))","v":""}]
["","","","","",""]
["","","","","",""]
["","","","","",""]
["","","","","",""]
["","","","","",""]
["","","","","",""]
["","","","","",""]
["","","","","",""]
["","","","","",""]
["","","","","",""]
["","","","","",""]
["","","","","",""]
["","","","","",""]
["","","","","",""]
["","","","","",""]
["","","","","",""]
["","","","","",""]
["","","","","",""]
["","","","","",""]
["","","","","",""]
["","","","","",""]
["","","","","",""]
["","","","","",""]
["","","","","",""]
["","","","","",""]
["","","","","",""]
["","","","","",""]
["","","","","",""]
["","","","","",""]
["","","","","",""]
["","","","","",""]
["","","","","",""]
["","","","","",""]
["","","","","",""]
["","","","","",""]
["","","","","",""]
["","","","","",""]
["","","","","",""]
["","","","","",""]
["","","","","",""]
["","","","","",""]
["","","","","",""]
["","","","","",""]
["","","","","",""]
["","","","","",""]
["","","","","",""]
["","","","","",""]
["","","","","",""]
["","","","","",""]
["","","","","",""]
["","","","","",""]
["","","","","",""]
["","","","","",""]
["","","","","",""]
["","","","","",""]
["","","","","",""]
["","","","","",""]
["","","","","",""]
["","","","","",""]
["","","","","",""]
["","","","","",""]
["","","","","",""]
[{"$f":"IF(AND(ISBLANK(J585),ISBLANK(K585),ISBLANK(L585),ISBLANK(M585),ISBLANK(N585)),\"\",CONCATENATE(TRIM(J585), \"_\",TRIM(K585), \"_\",TRIM(L585), \"_\",TRIM(M585),\"_\",TRIM(N585)))","v":""},{"$f":"IF(AND(ISBLANK($I585),ISBLANK($J585),ISBLANK($K585),ISBLANK($L585)),\"\",CONCATENATE(TRIM($I585),\"_\",TRIM($J585),\"_\",TRIM($K585),\"_\",TRIM($L585)))","v":""},{"$f":"IF(AND(ISBLANK($O585),ISBLANK($I585),ISBLANK($J585),ISBLANK($K585),ISBLANK($L585)),\"\",IF(O585=\"Yes\",CONCATENATE(TRIM($I585),\"_\",TRIM($J585),\"_\",TRIM($K585),\"_\",TRIM($L585)),\"\"))","v":""},{"$f":"IF(AND(ISBLANK(G585),ISBLANK(H585)),\"\",CONCATENATE(TRIM(G585),\"_\",TRIM(H585),\"_\",TRIM(B585)))","v":""},{"$f":"IF(AND(ISBLANK(J585),ISBLANK(K585),ISBLANK(L585)),\"\",CONCATENATE(TRIM(J585),\" \",TRIM(K585),\" \",TRIM(L585)))","v":""},""]
["","","","","",{"$f":"IF(O586=\"Yes\",1,IF(ISBLANK(O586),\"\",0))","v":""}]
["","","","","",""]
["","","","","",""]
["","","","","",""]
["","","","","",""]
["","","","","",""]
["","","","","",""]
["","","","","",""]
["","","","","",""]
["","","","","",""]
["","","","","",""]
["","","","","",""]
["","","","","",""]
["","","","","",""]
["","","","","",""]
["","","","","",""]
["","","","","",""]
["","","","","",""]
["","","","","",""]
["","","","","",""]
["","","","","",""]
["","","","","",""]
["","","","","",""]
["","","","","",""]
["","","","","",""]
["","","","","",""]
["","","","","",""]
["","","","","",""]
["","","","","",""]
["","","","","",""]
["","","","","",""]
["","","","","",""]
["","","","","",""]
["","","","","",""]
["","","","","",""]
["","","","","",""]
["","","","","",""]
["","","","","",""]
["","","","","",""]
["","","","","",""]
["","","","","",""]
["","","","","",""]
["","","","","",""]
["","","","","",""]
["","","","","",""]
["","","","","",""]
["","","","","",""]
["","","","","",""]
["","","","","",""]
["","","","","",""]
["","","","","",""]
["","","","","",""]
["","","","","",""]
["","","","","",""]
["","","","","",""]
["","","","","",""]
["","","","","",""]
["","","","","",""]
["","","","","",""]
["","","","","",""]
["","","","","",""]
["","","","","",""]
["","","","","",""]
[{"$f":"IF(AND(ISBLANK(J649),ISBLANK(K649),ISBLANK(L649),ISBLANK(M649),ISBLANK(N649)),\"\",CONCATENATE(TRIM(J649), \"_\",TRIM(K649), \"_\",TRIM(L649), \"_\",TRIM(M649),\"_\",TRIM(N649)))","v":""},{"$f":"IF(AND(ISBLANK($I649),ISBLANK($J649),ISBLANK($K649),ISBLANK($L649)),\"\",CONCATENATE(TRIM($I649),\"_\",TRIM($J649),\"_\",TRIM($K649),\"_\",TRIM($L649)))","v":""},{"$f":"IF(AND(ISBLANK($O649),ISBLANK($I649),ISBLANK($J649),ISBLANK($K649),ISBLANK($L649)),\"\",IF(O649=\"Yes\",CONCATENATE(TRIM($I649),\"_\",TRIM($J649),\"_\",TRIM($K649),\"_\",TRIM($L649)),\"\"))","v":""},{"$f":"IF(AND(ISBLANK(G649),ISBLANK(H649)),\"\",CONCATENATE(TRIM(G649),\"_\",TRIM(H649),\"_\",TRIM(B649)))","v":""},{"$f":"IF(AND(ISBLANK(J649),ISBLANK(K649),ISBLANK(L649)),\"\",CONCATENATE(TRIM(J649),\" \",TRIM(K649),\" \",TRIM(L649)))","v":""},""]
["","","","","",{"$f":"IF(O650=\"Yes\",1,IF(ISBLANK(O650),\"\",0))","v":""}]
["","","","","",""]
["","","","","",""]
["","","","","",""]
["","","","","",""]
["","","","","",""]
["","","","","",""]
["","","","","",""]
["","","","","",""]
["","","","","",""]
["","","","","",""]
["","","","","",""]
["","","","","",""]
["","","","","",""]
["","","","","",""]
["","","","","",""]
["","","","","",""]
["","","","","",""]
["","","","","",""]
["","","","","",""]
["","","","","",""]
["","","","","",""]
["","","","","",""]
["","","","","",""]
["","","","","",""]
["","","","","",""]
["","","","","",""]
["","","","","",""]
["","","","","",""]
["","","","","",""]
["","","","","",""]
["","","","","",""]
["","","","","",""]
["","","","","",""]
["","","","","",""]
["","","","","",""]
["","","","","",""]
["","","","","",""]
["","","","","",""]
["","","","","",""]
["","","","","",""]
["","","","","",""]
["","","","","",""]
["","","","","",""]
["","","","","",""]
["","","","","",""]
["","","","","",""]
["","","","","",""]
["","","","","",""]
["","","","","",""]
["","","","","",""]
["","","","","",""]
["","","","","",""]
["","","","","",""]
["","","","","",""]
["","","","","",""]
["","","","","",""]
["","","","","",""]
["","","","","",""]
["","","","","",""]
["","","","","",""]
["","","","","",""]
["","","","","",""]
[{"$f":"IF(AND(ISBLANK(J713),ISBLANK(K713),ISBLANK(L713),ISBLANK(M713),ISBLANK(N713)),\"\",CONCATENATE(TRIM(J713), \"_\",TRIM(K713), \"_\",TRIM(L713), \"_\",TRIM(M713),\"_\",TRIM(N713)))","v":""},{"$f":"IF(AND(ISBLANK($I713),ISBLANK($J713),ISBLANK($K713),ISBLANK($L713)),\"\",CONCATENATE(TRIM($I713),\"_\",TRIM($J713),\"_\",TRIM($K713),\"_\",TRIM($L713)))","v":""},{"$f":"IF(AND(ISBLANK($O713),ISBLANK($I713),ISBLANK($J713),ISBLANK($K713),ISBLANK($L713)),\"\",IF(O713=\"Yes\",CONCATENATE(TRIM($I713),\"_\",TRIM($J713),\"_\",TRIM($K713),\"_\",TRIM($L713)),\"\"))","v":""},{"$f":"IF(AND(ISBLANK(G713),ISBLANK(H713)),\"\",CONCATENATE(TRIM(G713),\"_\",TRIM(H713),\"_\",TRIM(B713)))","v":""},{"$f":"IF(AND(ISBLANK(J713),ISBLANK(K713),ISBLANK(L713)),\"\",CONCATENATE(TRIM(J713),\" \",TRIM(K713),\" \",TRIM(L713)))","v":""},""]
["","","","","",{"$f":"IF(O714=\"Yes\",1,IF(ISBLANK(O714),\"\",0))","v":""}]
["","","","","",""]
["","","","","",""]
["","","","","",""]
["","","","","",""]
["","","","","",""]
["","","","","",""]
["","","","","",""]
["","","","","",""]
["","","","","",""]
["","","","","",""]
["","","","","",""]
["","","","","",""]
["","","","","",""]
["","","","","",""]
["","","","","",""]
["","","","","",""]
["","","","","",""]
["","","","","",""]
["","","","","",""]
["","","","","",""]
["","","","","",""]
["","","","","",""]
["","","","","",""]
["","","","","",""]
["","","","","",""]
["","","","","",""]
["","","","","",""]
["","","","","",""]
["","","","","",""]
["","","","","",""]
["","","","","",""]
["","","","","",""]
["","","","","",""]
["","","","","",""]
["","","","","",""]
["","","","","",""]
["","","","","",""]
["","","","","",""]
["","","","","",""]
["","","","","",""]
["","","","","",""]
["","","","","",""]
["","","","","",""]
["","","","","",""]
["","","","","",""]
["","","","","",""]
["","","","","",""]
["","","","","",""]
["","","","","",""]
["","","","","",""]
["","","","","",""]
["","","","","",""]
["","","","","",""]
["","","","","",""]
["","","","","",""]
["","","","","",""]
["","","","","",""]
["","","","","",""]
["","","","","",""]
["","","","","",""]
["","","","","",""]
["","","","","",""]
[{"$f":"IF(AND(ISBLANK(J777),ISBLANK(K777),ISBLANK(L777),ISBLANK(M777),ISBLANK(N777)),\"\",CONCATENATE(TRIM(J777), \"_\",TRIM(K777), \"_\",TRIM(L777), \"_\",TRIM(M777),\"_\",TRIM(N777)))","v":""},{"$f":"IF(AND(ISBLANK($I777),ISBLANK($J777),ISBLANK($K777),ISBLANK($L777)),\"\",CONCATENATE(TRIM($I777),\"_\",TRIM($J777),\"_\",TRIM($K777),\"_\",TRIM($L777)))","v":""},{"$f":"IF(AND(ISBLANK($O777),ISBLANK($I777),ISBLANK($J777),ISBLANK($K777),ISBLANK($L777)),\"\",IF(O777=\"Yes\",CONCATENATE(TRIM($I777),\"_\",TRIM($J777),\"_\",TRIM($K777),\"_\",TRIM($L777)),\"\"))","v":""},{"$f":"IF(AND(ISBLANK(G777),ISBLANK(H777)),\"\",CONCATENATE(TRIM(G777),\"_\",TRIM(H777),\"_\",TRIM(B777)))","v":""},{"$f":"IF(AND(ISBLANK(J777),ISBLANK(K777),ISBLANK(L777)),\"\",CONCATENATE(TRIM(J777),\" \",TRIM(K777),\" \",TRIM(L777)))","v":""},""]
["","","","","",{"$f":"IF(O778=\"Yes\",1,IF(ISBLANK(O778),\"\",0))","v":""}]
["","","","","",""]
["","","","","",""]
["","","","","",""]
["","","","","",""]
["","","","","",""]
["","","","","",""]
["","","","","",""]
["","","","","",""]
["","","","","",""]
["","","","","",""]
["","","","","",""]
["","","","","",""]
["","","","","",""]
["","","","","",""]
["","","","","",""]
["","","","","",""]
["","","","","",""]
["","","","","",""]
["","","","","",""]
["","","","","",""]
["","","","","",""]
["","","","","",""]
["","","","","",""]
["","","","","",""]
["","","","","",""]
["","","","","",""]
["","","","","",""]
["","","","","",""]
["","","","","",""]
["","","","","",""]
["","","","","",""]
["","","","","",""]
["","","","","",""]
["","","","","",""]
["","","","","",""]
["","","","","",""]
["","","","","",""]
["","","","","",""]
["","","","","",""]
["","","","","",""]
["","","","","",""]
["","","","","",""]
["","","","","",""]
["","","","","",""]
["","","","","",""]
["","","","","",""]
["","","","","",""]
["","","","","",""]
["","","","","",""]
["","","","","",""]
["","","","","",""]
["","","","","",""]
["","","","","",""]
["","","","","",""]
["","","","","",""]
["","","","","",""]
["","","","","",""]
["","","","","",""]
["","","","","",""]
["","","","","",""]
["","","","","",""]
["","","","","",""]
[{"$f":"IF(AND(ISBLANK(J841),ISBLANK(K841),ISBLANK(L841),ISBLANK(M841),ISBLANK(N841)),\"\",CONCATENATE(TRIM(J841), \"_\",TRIM(K841), \"_\",TRIM(L841), \"_\",TRIM(M841),\"_\",TRIM(N841)))","v":""},{"$f":"IF(AND(ISBLANK($I841),ISBLANK($J841),ISBLANK($K841),ISBLANK($L841)),\"\",CONCATENATE(TRIM($I841),\"_\",TRIM($J841),\"_\",TRIM($K841),\"_\",TRIM($L841)))","v":""},{"$f":"IF(AND(ISBLANK($O841),ISBLANK($I841),ISBLANK($J841),ISBLANK($K841),ISBLANK($L841)),\"\",IF(O841=\"Yes\",CONCATENATE(TRIM($I841),\"_\",TRIM($J841),\"_\",TRIM($K841),\"_\",TRIM($L841)),\"\"))","v":""},{"$f":"IF(AND(ISBLANK(G841),ISBLANK(H841)),\"\",CONCATENATE(TRIM(G841),\"_\",TRIM(H841),\"_\",TRIM(B841)))","v":""},{"$f":"IF(AND(ISBLANK(J841),ISBLANK(K841),ISBLANK(L841)),\"\",CONCATENATE(TRIM(J841),\" \",TRIM(K841),\" \",TRIM(L841)))","v":""},""]
["","","","","",{"$f":"IF(O842=\"Yes\",1,IF(ISBLANK(O842),\"\",0))","v":""}]
["","","","","",""]
["","","","","",""]
["","","","","",""]
["","","","","",""]
["","","","","",""]
["","","","","",""]
["","","","","",""]
["","","","","",""]
["","","","","",""]
["","","","","",""]
["","","","","",""]
["","","","","",""]
["","","","","",""]
["","","","","",""]
["","","","","",""]
["","","","","",""]
["","","","","",""]
["","","","","",""]
["","","","","",""]
["","","","","",""]
["","","","","",""]
["","","","","",""]
["","","","","",""]
["","","","","",""]
["","","","","",""]
["","","","","",""]
["","","","","",""]
["","","","","",""]
["","","","","",""]
["","","","","",""]
["","","","","",""]
["","","","","",""]
["","","","","",""]
["","","","","",""]
["","","","","",""]
["","","","","",""]
["","","","","",""]
["","","","","",""]
["","","","","",""]
["","","","","",""]
["","","","","",""]
["","","","","",""]
["","","","","",""]
["","","","","",""]
["","","","","",""]
["","","","","",""]
["","","","","",""]
["","","","","",""]
["","","","","",""]
["","","","","",""]
["","","","","",""]
["","","","","",""]
["","","","","",""]
["","","","","",""]
["","","","","",""]
["","","","","",""]
["","","","","",""]
["","","","","",""]
["","","","","",""]
["","","","","",""]
["","","","","",""]
["","","","","",""]
[{"$f":"IF(AND(ISBLANK(J905),ISBLANK(K905),ISBLANK(L905),ISBLANK(M905),ISBLANK(N905)),\"\",CONCATENATE(TRIM(J905), \"_\",TRIM(K905), \"_\",TRIM(L905), \"_\",TRIM(M905),\"_\",TRIM(N905)))","v":""},{"$f":"IF(AND(ISBLANK($I905),ISBLANK($J905),ISBLANK($K905),ISBLANK($L905)),\"\",CONCATENATE(TRIM($I905),\"_\",TRIM($J905),\"_\",TRIM($K905),\"_\",TRIM($L905)))","v":""},{"$f":"IF(AND(ISBLANK($O905),ISBLANK($I905),ISBLANK($J905),ISBLANK($K905),ISBLANK($L905)),\"\",IF(O905=\"Yes\",CONCATENATE(TRIM($I905),\"_\",TRIM($J905),\"_\",TRIM($K905),\"_\",TRIM($L905)),\"\"))","v":""},{"$f":"IF(AND(ISBLANK(G905),ISBLANK(H905)),\"\",CONCATENATE(TRIM(G905),\"_\",TRIM(H905),\"_\",TRIM(B905)))","v":""},{"$f":"IF(AND(ISBLANK(J905),ISBLANK(K905),ISBLANK(L905)),\"\",CONCATENATE(TRIM(J905),\" \",TRIM(K905),\" \",TRIM(L905)))","v":""},""]
["","","","","",{"$f":"IF(O906=\"Yes\",1,IF(ISBLANK(O906),\"\",0))","v":""}]
["","","","","",""]
["","","","","",""]
["","","","","",""]
["","","","","",""]
["","","","","",""]
["","","","","",""]
["","","","","",""]
["","","","","",""]
["","","","","",""]
["","","","","",""]
["","","","","",""]
["","","","","",""]
["","","","","",""]
["","","","","",""]
["","","","","",""]
["","","","","",""]
["","","","","",""]
["","","","","",""]
["","","","","",""]
["","","","","",""]
["","","","","",""]
["","","","","",""]
["","","","","",""]
["","","","","",""]
["","","","","",""]
["","","","","",""]
["","","","","",""]
["","","","","",""]
["","","","","",""]
["","","","","",""]
["","","","","",""]
["","","","","",""]
["","","","","",""]
["","","","","",""]
["","","","","",""]
["","","","","",""]
["","","","","",""]
["","","","","",""]
["","","","","",""]
["","","","","",""]
["","","","","",""]
["","","","","",""]
["","","","","",""]
["","","","","",""]
["","","","","",""]
["","","","","",""]
["","","","","",""]
["","","","","",""]
["","","","","",""]
["","","","","",""]
["","","","","",""]
["","","","","",""]
["","","","","",""]
["","","","","",""]
["","","","","",""]
["","","","","",""]
["","","","","",""]
["","","","","",""]
["","","","","",""]
["","","","","",""]
["","","","","",""]
["","","","","",""]
[{"$f":"IF(AND(ISBLANK(J969),ISBLANK(K969),ISBLANK(L969),ISBLANK(M969),ISBLANK(N969)),\"\",CONCATENATE(TRIM(J969), \"_\",TRIM(K969), \"_\",TRIM(L969), \"_\",TRIM(M969),\"_\",TRIM(N969)))","v":""},{"$f":"IF(AND(ISBLANK($I969),ISBLANK($J969),ISBLANK($K969),ISBLANK($L969)),\"\",CONCATENATE(TRIM($I969),\"_\",TRIM($J969),\"_\",TRIM($K969),\"_\",TRIM($L969)))","v":""},{"$f":"IF(AND(ISBLANK($O969),ISBLANK($I969),ISBLANK($J969),ISBLANK($K969),ISBLANK($L969)),\"\",IF(O969=\"Yes\",CONCATENATE(TRIM($I969),\"_\",TRIM($J969),\"_\",TRIM($K969),\"_\",TRIM($L969)),\"\"))","v":""},{"$f":"IF(AND(ISBLANK(G969),ISBLANK(H969)),\"\",CONCATENATE(TRIM(G969),\"_\",TRIM(H969),\"_\",TRIM(B969)))","v":""},{"$f":"IF(AND(ISBLANK(J969),ISBLANK(K969),ISBLANK(L969)),\"\",CONCATENATE(TRIM(J969),\" \",TRIM(K969),\" \",TRIM(L969)))","v":""},""]
["","","","","",{"$f":"IF(O970=\"Yes\",1,IF(ISBLANK(O970),\"\",0))","v":""}]
["","","","","",""]
["","","","","",""]
["","","","","",""]
["","","","","",""]
["","","","","",""]
["","","","","",""]
["","","","","",""]
["","","","","",""]
["","","","","",""]
["","","","","",""]
["","","","","",""]
["","","","","",""]
["","","","","",""]
["","","","","",""]
["","","","","",""]
["","","","","",""]
["","","","","",""]
["","","","","",""]
["","","","","",""]
["","","","","",""]
["","","","","",""]
["","","","","",""]
["","","","","",""]
["","","","","",""]
["","","","","",""]
["","","","","",""]
["","","","","",""]
["","","","","",""]
["","","","","",""]
["","","","","",""]
["","","","","",""]
["","","","","",""]
["","","","","",""]
["","","","","",""]
["","","","","",""]
["","","","","",""]
["","","","","",""]
["","","","","",""]
["","","","","",""]
["","","","","",""]
["","","","","",""]
["","","","","",""]
["","","","","",""]
["","","","","",""]
["","","","","",""]
["","","","","",""]
["","","","","",""]
["","","","","",""]
["","","","","",""]
["","","","","",""]
["","","","","",""]
["","","","","",""]
["","","","","",""]
["","","","","",""]
["","","","","",""]
["","","","","",""]
["","","","","",""]
["","","","","",""]
["","","","","",""]
["","","","","",""]
["","","","","",""]
["","","","","",""]
[{"$f":"IF(AND(ISBLANK(J1033),ISBLANK(K1033),ISBLANK(L1033),ISBLANK(M1033),ISBLANK(N1033)),\"\",CONCATENATE(TRIM(J1033), \"_\",TRIM(K1033), \"_\",TRIM(L1033), \"_\",TRIM(M1033),\"_\",TRIM(N1033)))","v":""},{"$f":"IF(AND(ISBLANK($I1033),ISBLANK($J1033),ISBLANK($K1033),ISBLANK($L1033)),\"\",CONCATENATE(TRIM($I1033),\"_\",TRIM($J1033),\"_\",TRIM($K1033),\"_\",TRIM($L1033)))","v":""},{"$f":"IF(AND(ISBLANK($O1033),ISBLANK($I1033),ISBLANK($J1033),ISBLANK($K1033),ISBLANK($L1033)),\"\",IF(O1033=\"Yes\",CONCATENATE(TRIM($I1033),\"_\",TRIM($J1033),\"_\",TRIM($K1033),\"_\",TRIM($L1033)),\"\"))","v":""},{"$f":"IF(AND(ISBLANK(G1033),ISBLANK(H1033)),\"\",CONCATENATE(TRIM(G1033),\"_\",TRIM(H1033),\"_\",TRIM(B1033)))","v":""},{"$f":"IF(AND(ISBLANK(J1033),ISBLANK(K1033),ISBLANK(L1033)),\"\",CONCATENATE(TRIM(J1033),\" \",TRIM(K1033),\" \",TRIM(L1033)))","v":""},""]
["","","","","",{"$f":"IF(O1034=\"Yes\",1,IF(ISBLANK(O1034),\"\",0))","v":""}]
["","","","","",""]
["","","","","",""]
["","","","","",""]
["","","","","",""]
["","","","","",""]
["","","","","",""]
["","","","","",""]
["","","","","",""]
["","","","","",""]
["","","","","",""]
["","","","","",""]
["","","","","",""]
["","","","","",""]
["","","","","",""]
["","","","","",""]
["","","","","",""]
["","","","","",""]
["","","","","",""]
["","","","","",""]
["","","","","",""]
["","","","","",""]
["","","","","",""]
["","","","","",""]
["","","","","",""]
["","","","","",""]
["","","","","",""]
["","","","","",""]
["","","","","",""]
["","","","","",""]
["","","","","",""]
["","","","","",""]
["","","","","",""]
["","","","","",""]
["","","","","",""]
["","","","","",""]
["","","","","",""]
["","","","","",""]
["","","","","",""]
["","","","","",""]
["","","","","",""]
["","","","","",""]
["","","","","",""]
["","","","","",""]
["","","","","",""]
["","","","","",""]
["","","","","",""]
["","","","","",""]
["","","","","",""]
["","","","","",""]
["","","","","",""]
["","","","","",""]
["","","","","",""]
["","","","","",""]
["","","","","",""]
["","","","","",""]
["","","","","",""]
["","","","","",""]
["","","","","",""]
["","","","","",""]
["","","","","",""]
["","","","","",""]
["","","","","",""]
[{"$f":"IF(AND(ISBLANK(J1097),ISBLANK(K1097),ISBLANK(L1097),ISBLANK(M1097),ISBLANK(N1097)),\"\",CONCATENATE(TRIM(J1097), \"_\",TRIM(K1097), \"_\",TRIM(L1097), \"_\",TRIM(M1097),\"_\",TRIM(N1097)))","v":""},{"$f":"IF(AND(ISBLANK($I1097),ISBLANK($J1097),ISBLANK($K1097),ISBLANK($L1097)),\"\",CONCATENATE(TRIM($I1097),\"_\",TRIM($J1097),\"_\",TRIM($K1097),\"_\",TRIM($L1097)))","v":""},{"$f":"IF(AND(ISBLANK($O1097),ISBLANK($I1097),ISBLANK($J1097),ISBLANK($K1097),ISBLANK($L1097)),\"\",IF(O1097=\"Yes\",CONCATENATE(TRIM($I1097),\"_\",TRIM($J1097),\"_\",TRIM($K1097),\"_\",TRIM($L1097)),\"\"))","v":""},{"$f":"IF(AND(ISBLANK(G1097),ISBLANK(H1097)),\"\",CONCATENATE(TRIM(G1097),\"_\",TRIM(H1097),\"_\",TRIM(B1097)))","v":""},{"$f":"IF(AND(ISBLANK(J1097),ISBLANK(K1097),ISBLANK(L1097)),\"\",CONCATENATE(TRIM(J1097),\" \",TRIM(K1097),\" \",TRIM(L1097)))","v":""},""]
["","","","","",{"$f":"IF(O1098=\"Yes\",1,IF(ISBLANK(O1098),\"\",0))","v":""}]
["","","","","",""]
["","","","","",""]
["","","","","",""]
["","","","","",""]
["","","","","",""]
["","","","","",""]
["","","","","",""]
["","","","","",""]
["","","","","",""]
["","","","","",""]
["","","","","",""]
["","","","","",""]
["","","","","",""]
["","","","","",""]
["","","","","",""]
["","","","","",""]
["","","","","",""]
["","","","","",""]
["","","","","",""]
["","","","","",""]
["","","","","",""]
["","","","","",""]
["","","","","",""]
["","","","","",""]
["","","","","",""]
["","","","","",""]
["","","","","",""]
["","","","","",""]
["","","","","",""]
["","","","","",""]
["","","","","",""]
["","","","","",""]
["","","","","",""]
["","","","","",""]
["","","","","",""]
["","","","","",""]
["","","","","",""]
["","","","","",""]
["","","","","",""]
["","","","","",""]
["","","","","",""]
["","","","","",""]
["","","","","",""]
["","","","","",""]
["","","","","",""]
["","","","","",""]
["","","","","",""]
["","","","","",""]
["","","","","",""]
["","","","","",""]
["","","","","",""]
["","","","","",""]
["","","","","",""]
["","","","","",""]
["","","","","",""]
["","","","","",""]
["","","","","",""]
["","","","","",""]
["","","","","",""]
["","","","","",""]
["","","","","",""]
["","","","","",""]
[{"$f":"IF(AND(ISBLANK(J1161),ISBLANK(K1161),ISBLANK(L1161),ISBLANK(M1161),ISBLANK(N1161)),\"\",CONCATENATE(TRIM(J1161), \"_\",TRIM(K1161), \"_\",TRIM(L1161), \"_\",TRIM(M1161),\"_\",TRIM(N1161)))","v":""},{"$f":"IF(AND(ISBLANK($I1161),ISBLANK($J1161),ISBLANK($K1161),ISBLANK($L1161)),\"\",CONCATENATE(TRIM($I1161),\"_\",TRIM($J1161),\"_\",TRIM($K1161),\"_\",TRIM($L1161)))","v":""},{"$f":"IF(AND(ISBLANK($O1161),ISBLANK($I1161),ISBLANK($J1161),ISBLANK($K1161),ISBLANK($L1161)),\"\",IF(O1161=\"Yes\",CONCATENATE(TRIM($I1161),\"_\",TRIM($J1161),\"_\",TRIM($K1161),\"_\",TRIM($L1161)),\"\"))","v":""},{"$f":"IF(AND(ISBLANK(G1161),ISBLANK(H1161)),\"\",CONCATENATE(TRIM(G1161),\"_\",TRIM(H1161),\"_\",TRIM(B1161)))","v":""},{"$f":"IF(AND(ISBLANK(J1161),ISBLANK(K1161),ISBLANK(L1161)),\"\",CONCATENATE(TRIM(J1161),\" \",TRIM(K1161),\" \",TRIM(L1161)))","v":""},""]
["","","","","",{"$f":"IF(O1162=\"Yes\",1,IF(ISBLANK(O1162),\"\",0))","v":""}]
["","","","","",""]
["","","","","",""]
["","","","","",""]
["","","","","",""]
["","","","","",""]
["","","","","",""]
["","","","","",""]
["","","","","",""]
["","","","","",""]
["","","","","",""]
["","","","","",""]
["","","","","",""]
["","","","","",""]
["","","","","",""]
["","","","","",""]
["","","","","",""]
["","","","","",""]
["","","","","",""]
["","","","","",""]
["","","","","",""]
["","","","","",""]
["","","","","",""]
["","","","","",""]
["","","","","",""]
["","","","","",""]
["","","","","",""]
["","","","","",""]
["","","","","",""]
["","","","","",""]
["","","","","",""]
["","","","","",""]
["","","","","",""]
["","","","","",""]
["","","","","",""]
["","","","","",""]
["","","","","",""]
["","","","","",""]
["","","","","",""]
["","","","","",""]
["","","","","",""]
["","","","","",""]
["","","","","",""]
["","","","","",""]
["","","","","",""]
["","","","","",""]
["","","","","",""]
["","","","","",""]
["","","","","",""]
["","","","","",""]
["","","","","",""]
["","","","","",""]
["","","","","",""]
["","","","","",""]
["","","","","",""]
["","","","","",""]
["","","","","",""]
["","","","","",""]
["","","","","",""]
["","","","","",""]
["","","","","",""]
["","","","","",""]
["","","","","",""]
[{"$f":"IF(AND(ISBLANK(J1225),ISBLANK(K1225),ISBLANK(L1225),ISBLANK(M1225),ISBLANK(N1225)),\"\",CONCATENATE(TRIM(J1225), \"_\",TRIM(K1225), \"_\",TRIM(L1225), \"_\",TRIM(M1225),\"_\",TRIM(N1225)))","v":""},{"$f":"IF(AND(ISBLANK($I1225),ISBLANK($J1225),ISBLANK($K1225),ISBLANK($L1225)),\"\",CONCATENATE(TRIM($I1225),\"_\",TRIM($J1225),\"_\",TRIM($K1225),\"_\",TRIM($L1225)))","v":""},{"$f":"IF(AND(ISBLANK($O1225),ISBLANK($I1225),ISBLANK($J1225),ISBLANK($K1225),ISBLANK($L1225)),\"\",IF(O1225=\"Yes\",CONCATENATE(TRIM($I1225),\"_\",TRIM($J1225),\"_\",TRIM($K1225),\"_\",TRIM($L1225)),\"\"))","v":""},{"$f":"IF(AND(ISBLANK(G1225),ISBLANK(H1225)),\"\",CONCATENATE(TRIM(G1225),\"_\",TRIM(H1225),\"_\",TRIM(B1225)))","v":""},{"$f":"IF(AND(ISBLANK(J1225),ISBLANK(K1225),ISBLANK(L1225)),\"\",CONCATENATE(TRIM(J1225),\" \",TRIM(K1225),\" \",TRIM(L1225)))","v":""},""]
["","","","","",{"$f":"IF(O1226=\"Yes\",1,IF(ISBLANK(O1226),\"\",0))","v":""}]
["","","","","",""]
["","","","","",""]
["","","","","",""]
["","","","","",""]
["","","","","",""]
["","","","","",""]
["","","","","",""]
["","","","","",""]
["","","","","",""]
["","","","","",""]
["","","","","",""]
["","","","","",""]
["","","","","",""]
["","","","","",""]
["","","","","",""]
["","","","","",""]
["","","","","",""]
["","","","","",""]
["","","","","",""]
["","","","","",""]
["","","","","",""]
["","","","","",""]
["","","","","",""]
["","","","","",""]
["","","","","",""]
["","","","","",""]
["","","","","",""]
["","","","","",""]
["","","","","",""]
["","","","","",""]
["","","","","",""]
["","","","","",""]
["","","","","",""]
["","","","","",""]
["","","","","",""]
["","","","","",""]
["","","","","",""]
["","","","","",""]
["","","","","",""]
["","","","","",""]
["","","","","",""]
["","","","","",""]
["","","","","",""]
["","","","","",""]
["","","","","",""]
["","","","","",""]
["","","","","",""]
["","","","","",""]
["","","","","",""]
["","","","","",""]
["","","","","",""]
["","","","","",""]
["","","","","",""]
["","","","","",""]
["","","","","",""]
["","","","","",""]
["","","","","",""]
["","","","","",""]
["","","","","",""]
["","","","","",""]
["","","","","",""]
["","","","","",""]
[{"$f":"IF(AND(ISBLANK(J1289),ISBLANK(K1289),ISBLANK(L1289),ISBLANK(M1289),ISBLANK(N1289)),\"\",CONCATENATE(TRIM(J1289), \"_\",TRIM(K1289), \"_\",TRIM(L1289), \"_\",TRIM(M1289),\"_\",TRIM(N1289)))","v":""},{"$f":"IF(AND(ISBLANK($I1289),ISBLANK($J1289),ISBLANK($K1289),ISBLANK($L1289)),\"\",CONCATENATE(TRIM($I1289),\"_\",TRIM($J1289),\"_\",TRIM($K1289),\"_\",TRIM($L1289)))","v":""},{"$f":"IF(AND(ISBLANK($O1289),ISBLANK($I1289),ISBLANK($J1289),ISBLANK($K1289),ISBLANK($L1289)),\"\",IF(O1289=\"Yes\",CONCATENATE(TRIM($I1289),\"_\",TRIM($J1289),\"_\",TRIM($K1289),\"_\",TRIM($L1289)),\"\"))","v":""},{"$f":"IF(AND(ISBLANK(G1289),ISBLANK(H1289)),\"\",CONCATENATE(TRIM(G1289),\"_\",TRIM(H1289),\"_\",TRIM(B1289)))","v":""},{"$f":"IF(AND(ISBLANK(J1289),ISBLANK(K1289),ISBLANK(L1289)),\"\",CONCATENATE(TRIM(J1289),\" \",TRIM(K1289),\" \",TRIM(L1289)))","v":""},""]
["","","","","",{"$f":"IF(O1290=\"Yes\",1,IF(ISBLANK(O1290),\"\",0))","v":""}]
["","","","","",""]
["","","","","",""]
["","","","","",""]
["","","","","",""]
["","","","","",""]
["","","","","",""]
["","","","","",""]
["","","","","",""]
["","","","","",""]
["","","","","",""]
["","","","","",""]
["","","","","",""]
["","","","","",""]
["","","","","",""]
["","","","","",""]
["","","","","",""]
["","","","","",""]
["","","","","",""]
["","","","","",""]
["","","","","",""]
["","","","","",""]
["","","","","",""]
["","","","","",""]
["","","","","",""]
["","","","","",""]
["","","","","",""]
["","","","","",""]
["","","","","",""]
["","","","","",""]
["","","","","",""]
["","","","","",""]
["","","","","",""]
["","","","","",""]
["","","","","",""]
["","","","","",""]
["","","","","",""]
["","","","","",""]
["","","","","",""]
["","","","","",""]
["","","","","",""]
["","","","","",""]
["","","","","",""]
["","","","","",""]
["","","","","",""]
["","","","","",""]
["","","","","",""]
["","","","","",""]
["","","","","",""]
["","","","","",""]
["","","","","",""]
["","","","","",""]
["","","","","",""]
["","","","","",""]
["","","","","",""]
["","","","","",""]
["","","","","",""]
["","","","","",""]
["","","","","",""]
["","","","","",""]
["","","","","",""]
["","","","","",""]
["","","","","",""]
[{"$f":"IF(AND(ISBLANK(J1353),ISBLANK(K1353),ISBLANK(L1353),ISBLANK(M1353),ISBLANK(N1353)),\"\",CONCATENATE(TRIM(J1353), \"_\",TRIM(K1353), \"_\",TRIM(L1353), \"_\",TRIM(M1353),\"_\",TRIM(N1353)))","v":""},{"$f":"IF(AND(ISBLANK($I1353),ISBLANK($J1353),ISBLANK($K1353),ISBLANK($L1353)),\"\",CONCATENATE(TRIM($I1353),\"_\",TRIM($J1353),\"_\",TRIM($K1353),\"_\",TRIM($L1353)))","v":""},{"$f":"IF(AND(ISBLANK($O1353),ISBLANK($I1353),ISBLANK($J1353),ISBLANK($K1353),ISBLANK($L1353)),\"\",IF(O1353=\"Yes\",CONCATENATE(TRIM($I1353),\"_\",TRIM($J1353),\"_\",TRIM($K1353),\"_\",TRIM($L1353)),\"\"))","v":""},{"$f":"IF(AND(ISBLANK(G1353),ISBLANK(H1353)),\"\",CONCATENATE(TRIM(G1353),\"_\",TRIM(H1353),\"_\",TRIM(B1353)))","v":""},{"$f":"IF(AND(ISBLANK(J1353),ISBLANK(K1353),ISBLANK(L1353)),\"\",CONCATENATE(TRIM(J1353),\" \",TRIM(K1353),\" \",TRIM(L1353)))","v":""},""]
["","","","","",{"$f":"IF(O1354=\"Yes\",1,IF(ISBLANK(O1354),\"\",0))","v":""}]
["","","","","",""]
["","","","","",""]
["","","","","",""]
["","","","","",""]
["","","","","",""]
["","","","","",""]
["","","","","",""]
["","","","","",""]
["","","","","",""]
["","","","","",""]
["","","","","",""]
["","","","","",""]
["","","","","",""]
["","","","","",""]
["","","","","",""]
["","","","","",""]
["","","","","",""]
["","","","","",""]
["","","","","",""]
["","","","","",""]
["","","","","",""]
["","","","","",""]
["","","","","",""]
["","","","","",""]
["","","","","",""]
["","","","","",""]
["","","","","",""]
["","","","","",""]
["","","","","",""]
["","","","","",""]
["","","","","",""]
["","","","","",""]
["","","","","",""]
["","","","","",""]
["","","","","",""]
["","","","","",""]
["","","","","",""]
["","","","","",""]
["","","","","",""]
["","","","","",""]
["","","","","",""]
["","","","","",""]
["","","","","",""]
["","","","","",""]
["","","","","",""]
["","","","","",""]
["","","","","",""]
["","","","","",""]
["","","","","",""]
["","","","","",""]
["","","","","",""]
["","","","","",""]
["","","","","",""]
["","","","","",""]
["","","","","",""]
["","","","","",""]
["","","","","",""]
["","","","","",""]
["","","","","",""]
["","","","","",""]
["","","","","",""]
["","","","","",""]
[{"$f":"IF(AND(ISBLANK(J1417),ISBLANK(K1417),ISBLANK(L1417),ISBLANK(M1417),ISBLANK(N1417)),\"\",CONCATENATE(TRIM(J1417), \"_\",TRIM(K1417), \"_\",TRIM(L1417), \"_\",TRIM(M1417),\"_\",TRIM(N1417)))","v":""},{"$f":"IF(AND(ISBLANK($I1417),ISBLANK($J1417),ISBLANK($K1417),ISBLANK($L1417)),\"\",CONCATENATE(TRIM($I1417),\"_\",TRIM($J1417),\"_\",TRIM($K1417),\"_\",TRIM($L1417)))","v":""},{"$f":"IF(AND(ISBLANK($O1417),ISBLANK($I1417),ISBLANK($J1417),ISBLANK($K1417),ISBLANK($L1417)),\"\",IF(O1417=\"Yes\",CONCATENATE(TRIM($I1417),\"_\",TRIM($J1417),\"_\",TRIM($K1417),\"_\",TRIM($L1417)),\"\"))","v":""},{"$f":"IF(AND(ISBLANK(G1417),ISBLANK(H1417)),\"\",CONCATENATE(TRIM(G1417),\"_\",TRIM(H1417),\"_\",TRIM(B1417)))","v":""},{"$f":"IF(AND(ISBLANK(J1417),ISBLANK(K1417),ISBLANK(L1417)),\"\",CONCATENATE(TRIM(J1417),\" \",TRIM(K1417),\" \",TRIM(L1417)))","v":""},""]
["","","","","",{"$f":"IF(O1418=\"Yes\",1,IF(ISBLANK(O1418),\"\",0))","v":""}]
["","","","","",""]
["","","","","",""]
["","","","","",""]
["","","","","",""]
["","","","","",""]
["","","","","",""]
["","","","","",""]
["","","","","",""]
["","","","","",""]
["","","","","",""]
["","","","","",""]
["","","","","",""]
["","","","","",""]
["","","","","",""]
["","","","","",""]
["","","","","",""]
["","","","","",""]
["","","","","",""]
["","","","","",""]
["","","","","",""]
["","","","","",""]
["","","","","",""]
["","","","","",""]
["","","","","",""]
["","","","","",""]
["","","","","",""]
["","","","","",""]
["","","","","",""]
["","","","","",""]
["","","","","",""]
["","","","","",""]
["","","","","",""]
["","","","","",""]
["","","","","",""]
["","","","","",""]
["","","","","",""]
["","","","","",""]
["","","","","",""]
["","","","","",""]
["","","","","",""]
["","","","","",""]
["","","","","",""]
["","","","","",""]
["","","","","",""]
["","","","","",""]
["","","","","",""]
["","","","","",""]
["","","","","",""]
["","","","","",""]
["","","","","",""]
["","","","","",""]
["","","","","",""]
["","","","","",""]
["","","","","",""]
["","","","","",""]
["","","","","",""]
["","","","","",""]
["","","","","",""]
["","","","","",""]
["","","","","",""]
["","","","","",""]
["","","","","",""]
[{"$f":"IF(AND(ISBLANK(J1481),ISBLANK(K1481),ISBLANK(L1481),ISBLANK(M1481),ISBLANK(N1481)),\"\",CONCATENATE(TRIM(J1481), \"_\",TRIM(K1481), \"_\",TRIM(L1481), \"_\",TRIM(M1481),\"_\",TRIM(N1481)))","v":""},{"$f":"IF(AND(ISBLANK($I1481),ISBLANK($J1481),ISBLANK($K1481),ISBLANK($L1481)),\"\",CONCATENATE(TRIM($I1481),\"_\",TRIM($J1481),\"_\",TRIM($K1481),\"_\",TRIM($L1481)))","v":""},{"$f":"IF(AND(ISBLANK($O1481),ISBLANK($I1481),ISBLANK($J1481),ISBLANK($K1481),ISBLANK($L1481)),\"\",IF(O1481=\"Yes\",CONCATENATE(TRIM($I1481),\"_\",TRIM($J1481),\"_\",TRIM($K1481),\"_\",TRIM($L1481)),\"\"))","v":""},{"$f":"IF(AND(ISBLANK(G1481),ISBLANK(H1481)),\"\",CONCATENATE(TRIM(G1481),\"_\",TRIM(H1481),\"_\",TRIM(B1481)))","v":""},{"$f":"IF(AND(ISBLANK(J1481),ISBLANK(K1481),ISBLANK(L1481)),\"\",CONCATENATE(TRIM(J1481),\" \",TRIM(K1481),\" \",TRIM(L1481)))","v":""},""]
["","","","","",{"$f":"IF(O1482=\"Yes\",1,IF(ISBLANK(O1482),\"\",0))","v":""}]
["","","","","",""]
["","","","","",""]
["","","","","",""]
["","","","","",""]
["","","","","",""]
["","","","","",""]
["","","","","",""]
["","","","","",""]
["","","","","",""]
["","","","","",""]
["","","","","",""]
["","","","","",""]
["","","","","",""]
["","","","","",""]
["","","","","",""]
["","","","","",""]
["","","","","",""]
["","","","","",""]
["","","","","",""]
["","","","","",""]
["","","","","",""]
["","","","","",""]
["","","","","",""]
["","","","","",""]
["","","","","",""]
["","","","","",""]
["","","","","",""]
["","","","","",""]
["","","","","",""]
["","","","","",""]
["","","","","",""]
["","","","","",""]
["","","","","",""]
["","","","","",""]
["","","","","",""]
["","","","","",""]
["","","","","",""]
["","","","","",""]
["","","","","",""]
["","","","","",""]
["","","","","",""]
["","","","","",""]
["","","","","",""]
["","","","","",""]
["","","","","",""]
["","","","","",""]
["","","","","",""]
["","","","","",""]
["","","","","",""]
["","","","","",""]
["","","","","",""]
["","","","","",""]
["","","","","",""]
["","","","","",""]
["","","","","",""]
["","","","","",""]
["","","","","",""]
["","","","","",""]
["","","","","",""]
["","","","","",""]
["","","","","",""]
["","","","","",""]
[{"$f":"IF(AND(ISBLANK(J1545),ISBLANK(K1545),ISBLANK(L1545),ISBLANK(M1545),ISBLANK(N1545)),\"\",CONCATENATE(TRIM(J1545), \"_\",TRIM(K1545), \"_\",TRIM(L1545), \"_\",TRIM(M1545),\"_\",TRIM(N1545)))","v":""},{"$f":"IF(AND(ISBLANK($I1545),ISBLANK($J1545),ISBLANK($K1545),ISBLANK($L1545)),\"\",CONCATENATE(TRIM($I1545),\"_\",TRIM($J1545),\"_\",TRIM($K1545),\"_\",TRIM($L1545)))","v":""},{"$f":"IF(AND(ISBLANK($O1545),ISBLANK($I1545),ISBLANK($J1545),ISBLANK($K1545),ISBLANK($L1545)),\"\",IF(O1545=\"Yes\",CONCATENATE(TRIM($I1545),\"_\",TRIM($J1545),\"_\",TRIM($K1545),\"_\",TRIM($L1545)),\"\"))","v":""},{"$f":"IF(AND(ISBLANK(G1545),ISBLANK(H1545)),\"\",CONCATENATE(TRIM(G1545),\"_\",TRIM(H1545),\"_\",TRIM(B1545)))","v":""},{"$f":"IF(AND(ISBLANK(J1545),ISBLANK(K1545),ISBLANK(L1545)),\"\",CONCATENATE(TRIM(J1545),\" \",TRIM(K1545),\" \",TRIM(L1545)))","v":""},""]
["","","","","",{"$f":"IF(O1546=\"Yes\",1,IF(ISBLANK(O1546),\"\",0))","v":""}]
["","","","","",""]
["","","","","",""]
["","","","","",""]
["","","","","",""]
["","","","","",""]
["","","","","",""]
["","","","","",""]
["","","","","",""]
["","","","","",""]
["","","","","",""]
["","","","","",""]
["","","","","",""]
["","","","","",""]
["","","","","",""]
["","","","","",""]
["","","","","",""]
["","","","","",""]
["","","","","",""]
["","","","","",""]
["","","","","",""]
["","","","","",""]
["","","","","",""]
["","","","","",""]
["","","","","",""]
["","","","","",""]
["","","","","",""]
["","","","","",""]
["","","","","",""]
["","","","","",""]
["","","","","",""]
["","","","","",""]
["","","","","",""]
["","","","","",""]
["","","","","",""]
["","","","","",""]
["","","","","",""]
["","","","","",""]
["","","","","",""]
["","","","","",""]
["","","","","",""]
["","","","","",""]
["","","","","",""]
["","","","","",""]
["","","","","",""]
["","","","","",""]
["","","","","",""]
["","","","","",""]
["","","","","",""]
["","","","","",""]
["","","","","",""]
["","","","","",""]
["","","","","",""]
["","","","","",""]
["","","","","",""]
["","","","","",""]
["","","","","",""]
["","","","","",""]
["","","","","",""]
["","","","","",""]
["","","","","",""]
["","","","","",""]
["","","","","",""]
[{"$f":"IF(AND(ISBLANK(J1609),ISBLANK(K1609),ISBLANK(L1609),ISBLANK(M1609),ISBLANK(N1609)),\"\",CONCATENATE(TRIM(J1609), \"_\",TRIM(K1609), \"_\",TRIM(L1609), \"_\",TRIM(M1609),\"_\",TRIM(N1609)))","v":""},{"$f":"IF(AND(ISBLANK($I1609),ISBLANK($J1609),ISBLANK($K1609),ISBLANK($L1609)),\"\",CONCATENATE(TRIM($I1609),\"_\",TRIM($J1609),\"_\",TRIM($K1609),\"_\",TRIM($L1609)))","v":""},{"$f":"IF(AND(ISBLANK($O1609),ISBLANK($I1609),ISBLANK($J1609),ISBLANK($K1609),ISBLANK($L1609)),\"\",IF(O1609=\"Yes\",CONCATENATE(TRIM($I1609),\"_\",TRIM($J1609),\"_\",TRIM($K1609),\"_\",TRIM($L1609)),\"\"))","v":""},{"$f":"IF(AND(ISBLANK(G1609),ISBLANK(H1609)),\"\",CONCATENATE(TRIM(G1609),\"_\",TRIM(H1609),\"_\",TRIM(B1609)))","v":""},{"$f":"IF(AND(ISBLANK(J1609),ISBLANK(K1609),ISBLANK(L1609)),\"\",CONCATENATE(TRIM(J1609),\" \",TRIM(K1609),\" \",TRIM(L1609)))","v":""},""]
["","","","","",{"$f":"IF(O1610=\"Yes\",1,IF(ISBLANK(O1610),\"\",0))","v":""}]
["","","","","",""]
["","","","","",""]
["","","","","",""]
["","","","","",""]
["","","","","",""]
["","","","","",""]
["","","","","",""]
["","","","","",""]
["","","","","",""]
["","","","","",""]
["","","","","",""]
["","","","","",""]
["","","","","",""]
["","","","","",""]
["","","","","",""]
["","","","","",""]
["","","","","",""]
["","","","","",""]
["","","","","",""]
["","","","","",""]
["","","","","",""]
["","","","","",""]
["","","","","",""]
["","","","","",""]
["","","","","",""]
["","","","","",""]
["","","","","",""]
["","","","","",""]
["","","","","",""]
["","","","","",""]
["","","","","",""]
["","","","","",""]
["","","","","",""]
["","","","","",""]
["","","","","",""]
["","","","","",""]
["","","","","",""]
["","","","","",""]
["","","","","",""]
["","","","","",""]
["","","","","",""]
["","","","","",""]
["","","","","",""]
["","","","","",""]
["","","","","",""]
["","","","","",""]
["","","","","",""]
["","","","","",""]
["","","","","",""]
["","","","","",""]
["","","","","",""]
["","","","","",""]
["","","","","",""]
["","","","","",""]
["","","","","",""]
["","","","","",""]
["","","","","",""]
["","","","","",""]
["","","","","",""]
["","","","","",""]
["","","","","",""]
["","","","","",""]
[{"$f":"IF(AND(ISBLANK(J1673),ISBLANK(K1673),ISBLANK(L1673),ISBLANK(M1673),ISBLANK(N1673)),\"\",CONCATENATE(TRIM(J1673), \"_\",TRIM(K1673), \"_\",TRIM(L1673), \"_\",TRIM(M1673),\"_\",TRIM(N1673)))","v":""},{"$f":"IF(AND(ISBLANK($I1673),ISBLANK($J1673),ISBLANK($K1673),ISBLANK($L1673)),\"\",CONCATENATE(TRIM($I1673),\"_\",TRIM($J1673),\"_\",TRIM($K1673),\"_\",TRIM($L1673)))","v":""},{"$f":"IF(AND(ISBLANK($O1673),ISBLANK($I1673),ISBLANK($J1673),ISBLANK($K1673),ISBLANK($L1673)),\"\",IF(O1673=\"Yes\",CONCATENATE(TRIM($I1673),\"_\",TRIM($J1673),\"_\",TRIM($K1673),\"_\",TRIM($L1673)),\"\"))","v":""},{"$f":"IF(AND(ISBLANK(G1673),ISBLANK(H1673)),\"\",CONCATENATE(TRIM(G1673),\"_\",TRIM(H1673),\"_\",TRIM(B1673)))","v":""},{"$f":"IF(AND(ISBLANK(J1673),ISBLANK(K1673),ISBLANK(L1673)),\"\",CONCATENATE(TRIM(J1673),\" \",TRIM(K1673),\" \",TRIM(L1673)))","v":""},""]
["","","","","",{"$f":"IF(O1674=\"Yes\",1,IF(ISBLANK(O1674),\"\",0))","v":""}]
["","","","","",""]
["","","","","",""]
["","","","","",""]
["","","","","",""]
["","","","","",""]
["","","","","",""]
["","","","","",""]
["","","","","",""]
["","","","","",""]
["","","","","",""]
["","","","","",""]
["","","","","",""]
["","","","","",""]
["","","","","",""]
["","","","","",""]
["","","","","",""]
["","","","","",""]
["","","","","",""]
["","","","","",""]
["","","","","",""]
["","","","","",""]
["","","","","",""]
["","","","","",""]
["","","","","",""]
["","","","","",""]
["","","","","",""]
["","","","","",""]
["","","","","",""]
["","","","","",""]
["","","","","",""]
["","","","","",""]
["","","","","",""]
["","","","","",""]
["","","","","",""]
["","","","","",""]
["","","","","",""]
["","","","","",""]
["","","","","",""]
["","","","","",""]
["","","","","",""]
["","","","","",""]
["","","","","",""]
["","","","","",""]
["","","","","",""]
["","","","","",""]
["","","","","",""]
["","","","","",""]
["","","","","",""]
["","","","","",""]
["","","","","",""]
["","","","","",""]
["","","","","",""]
["","","","","",""]
["","","","","",""]
["","","","","",""]
["","","","","",""]
["","","","","",""]
["","","","","",""]
["","","","","",""]
["","","","","",""]
["","","","","",""]
["","","","","",""]
[{"$f":"IF(AND(ISBLANK(J1737),ISBLANK(K1737),ISBLANK(L1737),ISBLANK(M1737),ISBLANK(N1737)),\"\",CONCATENATE(TRIM(J1737), \"_\",TRIM(K1737), \"_\",TRIM(L1737), \"_\",TRIM(M1737),\"_\",TRIM(N1737)))","v":""},{"$f":"IF(AND(ISBLANK($I1737),ISBLANK($J1737),ISBLANK($K1737),ISBLANK($L1737)),\"\",CONCATENATE(TRIM($I1737),\"_\",TRIM($J1737),\"_\",TRIM($K1737),\"_\",TRIM($L1737)))","v":""},{"$f":"IF(AND(ISBLANK($O1737),ISBLANK($I1737),ISBLANK($J1737),ISBLANK($K1737),ISBLANK($L1737)),\"\",IF(O1737=\"Yes\",CONCATENATE(TRIM($I1737),\"_\",TRIM($J1737),\"_\",TRIM($K1737),\"_\",TRIM($L1737)),\"\"))","v":""},{"$f":"IF(AND(ISBLANK(G1737),ISBLANK(H1737)),\"\",CONCATENATE(TRIM(G1737),\"_\",TRIM(H1737),\"_\",TRIM(B1737)))","v":""},{"$f":"IF(AND(ISBLANK(J1737),ISBLANK(K1737),ISBLANK(L1737)),\"\",CONCATENATE(TRIM(J1737),\" \",TRIM(K1737),\" \",TRIM(L1737)))","v":""},""]
["","","","","",{"$f":"IF(O1738=\"Yes\",1,IF(ISBLANK(O1738),\"\",0))","v":""}]
["","","","","",""]
["","","","","",""]
["","","","","",""]
["","","","","",""]
["","","","","",""]
["","","","","",""]
["","","","","",""]
["","","","","",""]
["","","","","",""]
["","","","","",""]
["","","","","",""]
["","","","","",""]
["","","","","",""]
["","","","","",""]
["","","","","",""]
["","","","","",""]
["","","","","",""]
["","","","","",""]
["","","","","",""]
["","","","","",""]
["","","","","",""]
["","","","","",""]
["","","","","",""]
["","","","","",""]
["","","","","",""]
["","","","","",""]
["","","","","",""]
["","","","","",""]
["","","","","",""]
["","","","","",""]
["","","","","",""]
["","","","","",""]
["","","","","",""]
["","","","","",""]
["","","","","",""]
["","","","","",""]
["","","","","",""]
["","","","","",""]
["","","","","",""]
["","","","","",""]
["","","","","",""]
["","","","","",""]
["","","","","",""]
["","","","","",""]
["","","","","",""]
["","","","","",""]
["","","","","",""]
["","","","","",""]
["","","","","",""]
["","","","","",""]
["","","","","",""]
["","","","","",""]
["","","","","",""]
["","","","","",""]
["","","","","",""]
["","","","","",""]
["","","","","",""]
["","","","","",""]
["","","","","",""]
["","","","","",""]
["","","","","",""]
["","","","","",""]
[{"$f":"IF(AND(ISBLANK(J1801),ISBLANK(K1801),ISBLANK(L1801),ISBLANK(M1801),ISBLANK(N1801)),\"\",CONCATENATE(TRIM(J1801), \"_\",TRIM(K1801), \"_\",TRIM(L1801), \"_\",TRIM(M1801),\"_\",TRIM(N1801)))","v":""},{"$f":"IF(AND(ISBLANK($I1801),ISBLANK($J1801),ISBLANK($K1801),ISBLANK($L1801)),\"\",CONCATENATE(TRIM($I1801),\"_\",TRIM($J1801),\"_\",TRIM($K1801),\"_\",TRIM($L1801)))","v":""},{"$f":"IF(AND(ISBLANK($O1801),ISBLANK($I1801),ISBLANK($J1801),ISBLANK($K1801),ISBLANK($L1801)),\"\",IF(O1801=\"Yes\",CONCATENATE(TRIM($I1801),\"_\",TRIM($J1801),\"_\",TRIM($K1801),\"_\",TRIM($L1801)),\"\"))","v":""},{"$f":"IF(AND(ISBLANK(G1801),ISBLANK(H1801)),\"\",CONCATENATE(TRIM(G1801),\"_\",TRIM(H1801),\"_\",TRIM(B1801)))","v":""},{"$f":"IF(AND(ISBLANK(J1801),ISBLANK(K1801),ISBLANK(L1801)),\"\",CONCATENATE(TRIM(J1801),\" \",TRIM(K1801),\" \",TRIM(L1801)))","v":""},""]
["","","","","",{"$f":"IF(O1802=\"Yes\",1,IF(ISBLANK(O1802),\"\",0))","v":""}]
["","","","","",""]
["","","","","",""]
["","","","","",""]
["","","","","",""]
["","","","","",""]
["","","","","",""]
["","","","","",""]
["","","","","",""]
["","","","","",""]
["","","","","",""]
["","","","","",""]
["","","","","",""]
["","","","","",""]
["","","","","",""]
["","","","","",""]
["","","","","",""]
["","","","","",""]
["","","","","",""]
["","","","","",""]
["","","","","",""]
["","","","","",""]
["","","","","",""]
["","","","","",""]
["","","","","",""]
["","","","","",""]
["","","","","",""]
["","","","","",""]
["","","","","",""]
["","","","","",""]
["","","","","",""]
["","","","","",""]
["","","","","",""]
["","","","","",""]
["","","","","",""]
["","","","","",""]
["","","","","",""]
["","","","","",""]
["","","","","",""]
["","","","","",""]
["","","","","",""]
["","","","","",""]
["","","","","",""]
["","","","","",""]
["","","","","",""]
["","","","","",""]
["","","","","",""]
["","","","","",""]
["","","","","",""]
["","","","","",""]
["","","","","",""]
["","","","","",""]
["","","","","",""]
["","","","","",""]
["","","","","",""]
["","","","","",""]
["","","","","",""]
["","","","","",""]
["","","","","",""]
["","","","","",""]
["","","","","",""]
["","","","","",""]
["","","","","",""]
[{"$f":"IF(AND(ISBLANK(J1865),ISBLANK(K1865),ISBLANK(L1865),ISBLANK(M1865),ISBLANK(N1865)),\"\",CONCATENATE(TRIM(J1865), \"_\",TRIM(K1865), \"_\",TRIM(L1865), \"_\",TRIM(M1865),\"_\",TRIM(N1865)))","v":""},{"$f":"IF(AND(ISBLANK($I1865),ISBLANK($J1865),ISBLANK($K1865),ISBLANK($L1865)),\"\",CONCATENATE(TRIM($I1865),\"_\",TRIM($J1865),\"_\",TRIM($K1865),\"_\",TRIM($L1865)))","v":""},{"$f":"IF(AND(ISBLANK($O1865),ISBLANK($I1865),ISBLANK($J1865),ISBLANK($K1865),ISBLANK($L1865)),\"\",IF(O1865=\"Yes\",CONCATENATE(TRIM($I1865),\"_\",TRIM($J1865),\"_\",TRIM($K1865),\"_\",TRIM($L1865)),\"\"))","v":""},{"$f":"IF(AND(ISBLANK(G1865),ISBLANK(H1865)),\"\",CONCATENATE(TRIM(G1865),\"_\",TRIM(H1865),\"_\",TRIM(B1865)))","v":""},{"$f":"IF(AND(ISBLANK(J1865),ISBLANK(K1865),ISBLANK(L1865)),\"\",CONCATENATE(TRIM(J1865),\" \",TRIM(K1865),\" \",TRIM(L1865)))","v":""},""]
["","","","","",{"$f":"IF(O1866=\"Yes\",1,IF(ISBLANK(O1866),\"\",0))","v":""}]
["","","","","",""]
["","","","","",""]
["","","","","",""]
["","","","","",""]
["","","","","",""]
["","","","","",""]
["","","","","",""]
["","","","","",""]
["","","","","",""]
["","","","","",""]
["","","","","",""]
["","","","","",""]
["","","","","",""]
["","","","","",""]
["","","","","",""]
["","","","","",""]
["","","","","",""]
["","","","","",""]
["","","","","",""]
["","","","","",""]
["","","","","",""]
["","","","","",""]
["","","","","",""]
["","","","","",""]
["","","","","",""]
["","","","","",""]
["","","","","",""]
["","","","","",""]
["","","","","",""]
["","","","","",""]
["","","","","",""]
["","","","","",""]
["","","","","",""]
["","","","","",""]
["","","","","",""]
["","","","","",""]
["","","","","",""]
["","","","","",""]
["","","","","",""]
["","","","","",""]
["","","","","",""]
["","","","","",""]
["","","","","",""]
["","","","","",""]
["","","","","",""]
["","","","","",""]
["","","","","",""]
["","","","","",""]
["","","","","",""]
["","","","","",""]
["","","","","",""]
["","","","","",""]
["","","","","",""]
["","","","","",""]
["","","","","",""]
["","","","","",""]
["","","","","",""]
["","","","","",""]
["","","","","",""]
["","","","","",""]
["","","","","",""]
["","","","","",""]
[{"$f":"IF(AND(ISBLANK(J1929),ISBLANK(K1929),ISBLANK(L1929),ISBLANK(M1929),ISBLANK(N1929)),\"\",CONCATENATE(TRIM(J1929), \"_\",TRIM(K1929), \"_\",TRIM(L1929), \"_\",TRIM(M1929),\"_\",TRIM(N1929)))","v":""},{"$f":"IF(AND(ISBLANK($I1929),ISBLANK($J1929),ISBLANK($K1929),ISBLANK($L1929)),\"\",CONCATENATE(TRIM($I1929),\"_\",TRIM($J1929),\"_\",TRIM($K1929),\"_\",TRIM($L1929)))","v":""},{"$f":"IF(AND(ISBLANK($O1929),ISBLANK($I1929),ISBLANK($J1929),ISBLANK($K1929),ISBLANK($L1929)),\"\",IF(O1929=\"Yes\",CONCATENATE(TRIM($I1929),\"_\",TRIM($J1929),\"_\",TRIM($K1929),\"_\",TRIM($L1929)),\"\"))","v":""},{"$f":"IF(AND(ISBLANK(G1929),ISBLANK(H1929)),\"\",CONCATENATE(TRIM(G1929),\"_\",TRIM(H1929),\"_\",TRIM(B1929)))","v":""},{"$f":"IF(AND(ISBLANK(J1929),ISBLANK(K1929),ISBLANK(L1929)),\"\",CONCATENATE(TRIM(J1929),\" \",TRIM(K1929),\" \",TRIM(L1929)))","v":""},""]
["","","","","",{"$f":"IF(O1930=\"Yes\",1,IF(ISBLANK(O1930),\"\",0))","v":""}]
["","","","","",""]
["","","","","",""]
["","","","","",""]
["","","","","",""]
["","","","","",""]
["","","","","",""]
["","","","","",""]
["","","","","",""]
["","","","","",""]
["","","","","",""]
["","","","","",""]
["","","","","",""]
["","","","","",""]
["","","","","",""]
["","","","","",""]
["","","","","",""]
["","","","","",""]
["","","","","",""]
["","","","","",""]
["","","","","",""]
["","","","","",""]
["","","","","",""]
["","","","","",""]
["","","","","",""]
["","","","","",""]
["","","","","",""]
["","","","","",""]
["","","","","",""]
["","","","","",""]
["","","","","",""]
["","","","","",""]
["","","","","",""]
["","","","","",""]
["","","","","",""]
["","","","","",""]
["","","","","",""]
["","","","","",""]
["","","","","",""]
["","","","","",""]
["","","","","",""]
["","","","","",""]
["","","","","",""]
["","","","","",""]
["","","","","",""]
["","","","","",""]
["","","","","",""]
["","","","","",""]
["","","","","",""]
["","","","","",""]
["","","","","",""]
["","","","","",""]
["","","","","",""]
["","","","","",""]
["","","","","",""]
["","","","","",""]
["","","","","",""]
["","","","","",""]
["","","","","",""]
["","","","","",""]
["","","","","",""]
["","","","","",""]
["","","","","",""]
[{"$f":"IF(AND(ISBLANK(J1993),ISBLANK(K1993),ISBLANK(L1993),ISBLANK(M1993),ISBLANK(N1993)),\"\",CONCATENATE(TRIM(J1993), \"_\",TRIM(K1993), \"_\",TRIM(L1993), \"_\",TRIM(M1993),\"_\",TRIM(N1993)))","v":""},{"$f":"IF(AND(ISBLANK($I1993),ISBLANK($J1993),ISBLANK($K1993),ISBLANK($L1993)),\"\",CONCATENATE(TRIM($I1993),\"_\",TRIM($J1993),\"_\",TRIM($K1993),\"_\",TRIM($L1993)))","v":""},{"$f":"IF(AND(ISBLANK($O1993),ISBLANK($I1993),ISBLANK($J1993),ISBLANK($K1993),ISBLANK($L1993)),\"\",IF(O1993=\"Yes\",CONCATENATE(TRIM($I1993),\"_\",TRIM($J1993),\"_\",TRIM($K1993),\"_\",TRIM($L1993)),\"\"))","v":""},{"$f":"IF(AND(ISBLANK(G1993),ISBLANK(H1993)),\"\",CONCATENATE(TRIM(G1993),\"_\",TRIM(H1993),\"_\",TRIM(B1993)))","v":""},{"$f":"IF(AND(ISBLANK(J1993),ISBLANK(K1993),ISBLANK(L1993)),\"\",CONCATENATE(TRIM(J1993),\" \",TRIM(K1993),\" \",TRIM(L1993)))","v":""},""]
["","","","","",{"$f":"IF(O1994=\"Yes\",1,IF(ISBLANK(O1994),\"\",0))","v":""}]
["","","","","",""]
["","","","","",""]
["","","","","",""]
["","","","","",""]
["","","","","",""]
["","","","","",""]
["","","","","",""]
["","","","","",""]
["","","","","",""]
["","","","","",""]
["","","","","",""]
["","","","","",""]
["","","","","",""]
["","","","","",""]
["","","","","",""]
["","","","","",""]
["","","","","",""]
["","","","","",""]
["","","","","",""]
["","","","","",""]
["","","","","",""]
["","","","","",""]
["","","","","",""]
["","","","","",""]
["","","","","",""]
["","","","","",""]
["","","","","",""]
["","","","","",""]
["","","","","",""]
["","","","","",""]
["","","","","",""]
["","","","","",""]
["","","","","",""]
["","","","","",""]
["","","","","",""]
["","","","","",""]
["","","","","",""]
["","","","","",""]
["","","","","",""]
["","","","","",""]
["","","","","",""]
["","","","","",""]
["","","","","",""]
["","","","","",""]
["","","","","",""]
["","","","","",""]
["","","","","",""]
["","","","","",""]
["","","","","",""]
["","","","","",""]
["","","","","",""]
["","","","","",""]
["","","","","",""]
["","","","","",""]
["","","","","",""]
["","","","","",""]
["","","","","",""]
["","","","","",""]
["","","","","",""]
["","","","","",""]
["","","","","",""]
["","","","","",""]
[{"$f":"IF(AND(ISBLANK(J2057),ISBLANK(K2057),ISBLANK(L2057),ISBLANK(M2057),ISBLANK(N2057)),\"\",CONCATENATE(TRIM(J2057), \"_\",TRIM(K2057), \"_\",TRIM(L2057), \"_\",TRIM(M2057),\"_\",TRIM(N2057)))","v":""},{"$f":"IF(AND(ISBLANK($I2057),ISBLANK($J2057),ISBLANK($K2057),ISBLANK($L2057)),\"\",CONCATENATE(TRIM($I2057),\"_\",TRIM($J2057),\"_\",TRIM($K2057),\"_\",TRIM($L2057)))","v":""},{"$f":"IF(AND(ISBLANK($O2057),ISBLANK($I2057),ISBLANK($J2057),ISBLANK($K2057),ISBLANK($L2057)),\"\",IF(O2057=\"Yes\",CONCATENATE(TRIM($I2057),\"_\",TRIM($J2057),\"_\",TRIM($K2057),\"_\",TRIM($L2057)),\"\"))","v":""},{"$f":"IF(AND(ISBLANK(G2057),ISBLANK(H2057)),\"\",CONCATENATE(TRIM(G2057),\"_\",TRIM(H2057),\"_\",TRIM(B2057)))","v":""},{"$f":"IF(AND(ISBLANK(J2057),ISBLANK(K2057),ISBLANK(L2057)),\"\",CONCATENATE(TRIM(J2057),\" \",TRIM(K2057),\" \",TRIM(L2057)))","v":""},""]
["","","","","",{"$f":"IF(O2058=\"Yes\",1,IF(ISBLANK(O2058),\"\",0))","v":""}]
["","","","","",""]
["","","","","",""]
["","","","","",""]
["","","","","",""]
["","","","","",""]
["","","","","",""]
["","","","","",""]
["","","","","",""]
["","","","","",""]
["","","","","",""]
["","","","","",""]
["","","","","",""]
["","","","","",""]
["","","","","",""]
["","","","","",""]
["","","","","",""]
["","","","","",""]
["","","","","",""]
["","","","","",""]
["","","","","",""]
["","","","","",""]
["","","","","",""]
["","","","","",""]
["","","","","",""]
["","","","","",""]
["","","","","",""]
["","","","","",""]
["","","","","",""]
["","","","","",""]
["","","","","",""]
["","","","","",""]
["","","","","",""]
["","","","","",""]
["","","","","",""]
["","","","","",""]
["","","","","",""]
["","","","","",""]
["","","","","",""]
["","","","","",""]
["","","","","",""]
["","","","","",""]
["","","","","",""]
["","","","","",""]
["","","","","",""]
["","","","","",""]
["","","","","",""]
["","","","","",""]
["","","","","",""]
["","","","","",""]
["","","","","",""]
["","","","","",""]
["","","","","",""]
["","","","","",""]
["","","","","",""]
["","","","","",""]
["","","","","",""]
["","","","","",""]
["","","","","",""]
["","","","","",""]
["","","","","",""]
["","","","","",""]
["","","","","",""]
[{"$f":"IF(AND(ISBLANK(J2121),ISBLANK(K2121),ISBLANK(L2121),ISBLANK(M2121),ISBLANK(N2121)),\"\",CONCATENATE(TRIM(J2121), \"_\",TRIM(K2121), \"_\",TRIM(L2121), \"_\",TRIM(M2121),\"_\",TRIM(N2121)))","v":""},{"$f":"IF(AND(ISBLANK($I2121),ISBLANK($J2121),ISBLANK($K2121),ISBLANK($L2121)),\"\",CONCATENATE(TRIM($I2121),\"_\",TRIM($J2121),\"_\",TRIM($K2121),\"_\",TRIM($L2121)))","v":""},{"$f":"IF(AND(ISBLANK($O2121),ISBLANK($I2121),ISBLANK($J2121),ISBLANK($K2121),ISBLANK($L2121)),\"\",IF(O2121=\"Yes\",CONCATENATE(TRIM($I2121),\"_\",TRIM($J2121),\"_\",TRIM($K2121),\"_\",TRIM($L2121)),\"\"))","v":""},{"$f":"IF(AND(ISBLANK(G2121),ISBLANK(H2121)),\"\",CONCATENATE(TRIM(G2121),\"_\",TRIM(H2121),\"_\",TRIM(B2121)))","v":""},{"$f":"IF(AND(ISBLANK(J2121),ISBLANK(K2121),ISBLANK(L2121)),\"\",CONCATENATE(TRIM(J2121),\" \",TRIM(K2121),\" \",TRIM(L2121)))","v":""},""]
["","","","","",{"$f":"IF(O2122=\"Yes\",1,IF(ISBLANK(O2122),\"\",0))","v":""}]
["","","","","",""]
["","","","","",""]
["","","","","",""]
["","","","","",""]
["","","","","",""]
["","","","","",""]
["","","","","",""]
["","","","","",""]
["","","","","",""]
["","","","","",""]
["","","","","",""]
["","","","","",""]
["","","","","",""]
["","","","","",""]
["","","","","",""]
["","","","","",""]
["","","","","",""]
["","","","","",""]
["","","","","",""]
["","","","","",""]
["","","","","",""]
["","","","","",""]
["","","","","",""]
["","","","","",""]
["","","","","",""]
["","","","","",""]
["","","","","",""]
["","","","","",""]
["","","","","",""]
["","","","","",""]
["","","","","",""]
["","","","","",""]
["","","","","",""]
["","","","","",""]
["","","","","",""]
["","","","","",""]
["","","","","",""]
["","","","","",""]
["","","","","",""]
["","","","","",""]
["","","","","",""]
["","","","","",""]
["","","","","",""]
["","","","","",""]
["","","","","",""]
["","","","","",""]
["","","","","",""]
["","","","","",""]
["","","","","",""]
["","","","","",""]
["","","","","",""]
["","","","","",""]
["","","","","",""]
["","","","","",""]
["","","","","",""]
["","","","","",""]
["","","","","",""]
["","","","","",""]
["","","","","",""]
["","","","","",""]
["","","","","",""]
["","","","","",""]
[{"$f":"IF(AND(ISBLANK(J2185),ISBLANK(K2185),ISBLANK(L2185),ISBLANK(M2185),ISBLANK(N2185)),\"\",CONCATENATE(TRIM(J2185), \"_\",TRIM(K2185), \"_\",TRIM(L2185), \"_\",TRIM(M2185),\"_\",TRIM(N2185)))","v":""},{"$f":"IF(AND(ISBLANK($I2185),ISBLANK($J2185),ISBLANK($K2185),ISBLANK($L2185)),\"\",CONCATENATE(TRIM($I2185),\"_\",TRIM($J2185),\"_\",TRIM($K2185),\"_\",TRIM($L2185)))","v":""},{"$f":"IF(AND(ISBLANK($O2185),ISBLANK($I2185),ISBLANK($J2185),ISBLANK($K2185),ISBLANK($L2185)),\"\",IF(O2185=\"Yes\",CONCATENATE(TRIM($I2185),\"_\",TRIM($J2185),\"_\",TRIM($K2185),\"_\",TRIM($L2185)),\"\"))","v":""},{"$f":"IF(AND(ISBLANK(G2185),ISBLANK(H2185)),\"\",CONCATENATE(TRIM(G2185),\"_\",TRIM(H2185),\"_\",TRIM(B2185)))","v":""},{"$f":"IF(AND(ISBLANK(J2185),ISBLANK(K2185),ISBLANK(L2185)),\"\",CONCATENATE(TRIM(J2185),\" \",TRIM(K2185),\" \",TRIM(L2185)))","v":""},""]
["","","","","",{"$f":"IF(O2186=\"Yes\",1,IF(ISBLANK(O2186),\"\",0))","v":""}]
["","","","","",""]
["","","","","",""]
["","","","","",""]
["","","","","",""]
["","","","","",""]
["","","","","",""]
["","","","","",""]
["","","","","",""]
["","","","","",""]
["","","","","",""]
["","","","","",""]
["","","","","",""]
["","","","","",""]
["","","","","",""]
["","","","","",""]
["","","","","",""]
["","","","","",""]
["","","","","",""]
["","","","","",""]
["","","","","",""]
["","","","","",""]
["","","","","",""]
["","","","","",""]
["","","","","",""]
["","","","","",""]
["","","","","",""]
["","","","","",""]
["","","","","",""]
["","","","","",""]
["","","","","",""]
["","","","","",""]
["","","","","",""]
["","","","","",""]
["","","","","",""]
["","","","","",""]
["","","","","",""]
["","","","","",""]
["","","","","",""]
["","","","","",""]
["","","","","",""]
["","","","","",""]
["","","","","",""]
["","","","","",""]
["","","","","",""]
["","","","","",""]
["","","","","",""]
["","","","","",""]
["","","","","",""]
["","","","","",""]
["","","","","",""]
["","","","","",""]
["","","","","",""]
["","","","","",""]
["","","","","",""]
["","","","","",""]
["","","","","",""]
["","","","","",""]
["","","","","",""]
["","","","","",""]
["","","","","",""]
["","","","","",""]
["","","","","",""]
[{"$f":"IF(AND(ISBLANK(J2249),ISBLANK(K2249),ISBLANK(L2249),ISBLANK(M2249),ISBLANK(N2249)),\"\",CONCATENATE(TRIM(J2249), \"_\",TRIM(K2249), \"_\",TRIM(L2249), \"_\",TRIM(M2249),\"_\",TRIM(N2249)))","v":""},{"$f":"IF(AND(ISBLANK($I2249),ISBLANK($J2249),ISBLANK($K2249),ISBLANK($L2249)),\"\",CONCATENATE(TRIM($I2249),\"_\",TRIM($J2249),\"_\",TRIM($K2249),\"_\",TRIM($L2249)))","v":""},{"$f":"IF(AND(ISBLANK($O2249),ISBLANK($I2249),ISBLANK($J2249),ISBLANK($K2249),ISBLANK($L2249)),\"\",IF(O2249=\"Yes\",CONCATENATE(TRIM($I2249),\"_\",TRIM($J2249),\"_\",TRIM($K2249),\"_\",TRIM($L2249)),\"\"))","v":""},{"$f":"IF(AND(ISBLANK(G2249),ISBLANK(H2249)),\"\",CONCATENATE(TRIM(G2249),\"_\",TRIM(H2249),\"_\",TRIM(B2249)))","v":""},{"$f":"IF(AND(ISBLANK(J2249),ISBLANK(K2249),ISBLANK(L2249)),\"\",CONCATENATE(TRIM(J2249),\" \",TRIM(K2249),\" \",TRIM(L2249)))","v":""},""]
["","","","","",{"$f":"IF(O2250=\"Yes\",1,IF(ISBLANK(O2250),\"\",0))","v":""}]
["","","","","",""]
["","","","","",""]
["","","","","",""]
["","","","","",""]
["","","","","",""]
["","","","","",""]
["","","","","",""]
["","","","","",""]
["","","","","",""]
["","","","","",""]
["","","","","",""]
["","","","","",""]
["","","","","",""]
["","","","","",""]
["","","","","",""]
["","","","","",""]
["","","","","",""]
["","","","","",""]
["","","","","",""]
["","","","","",""]
["","","","","",""]
["","","","","",""]
["","","","","",""]
["","","","","",""]
["","","","","",""]
["","","","","",""]
["","","","","",""]
["","","","","",""]
["","","","","",""]
["","","","","",""]
["","","","","",""]
["","","","","",""]
["","","","","",""]
["","","","","",""]
["","","","","",""]
["","","","","",""]
["","","","","",""]
["","","","","",""]
["","","","","",""]
["","","","","",""]
["","","","","",""]
["","","","","",""]
["","","","","",""]
["","","","","",""]
["","","","","",""]
["","","","","",""]
["","","","","",""]
["","","","","",""]
["","","","","",""]
["","","","","",""]
["","","","","",""]
["","","","","",""]
["","","","","",""]
["","","","","",""]
["","","","","",""]
["","","","","",""]
["","","","","",""]
["","","","","",""]
["","","","","",""]
["","","","","",""]
["","","","","",""]
["","","","","",""]
[{"$f":"IF(AND(ISBLANK(J2313),ISBLANK(K2313),ISBLANK(L2313),ISBLANK(M2313),ISBLANK(N2313)),\"\",CONCATENATE(TRIM(J2313), \"_\",TRIM(K2313), \"_\",TRIM(L2313), \"_\",TRIM(M2313),\"_\",TRIM(N2313)))","v":""},{"$f":"IF(AND(ISBLANK($I2313),ISBLANK($J2313),ISBLANK($K2313),ISBLANK($L2313)),\"\",CONCATENATE(TRIM($I2313),\"_\",TRIM($J2313),\"_\",TRIM($K2313),\"_\",TRIM($L2313)))","v":""},{"$f":"IF(AND(ISBLANK($O2313),ISBLANK($I2313),ISBLANK($J2313),ISBLANK($K2313),ISBLANK($L2313)),\"\",IF(O2313=\"Yes\",CONCATENATE(TRIM($I2313),\"_\",TRIM($J2313),\"_\",TRIM($K2313),\"_\",TRIM($L2313)),\"\"))","v":""},{"$f":"IF(AND(ISBLANK(G2313),ISBLANK(H2313)),\"\",CONCATENATE(TRIM(G2313),\"_\",TRIM(H2313),\"_\",TRIM(B2313)))","v":""},{"$f":"IF(AND(ISBLANK(J2313),ISBLANK(K2313),ISBLANK(L2313)),\"\",CONCATENATE(TRIM(J2313),\" \",TRIM(K2313),\" \",TRIM(L2313)))","v":""},""]
["","","","","",{"$f":"IF(O2314=\"Yes\",1,IF(ISBLANK(O2314),\"\",0))","v":""}]
["","","","","",""]
["","","","","",""]
["","","","","",""]
["","","","","",""]
["","","","","",""]
["","","","","",""]
["","","","","",""]
["","","","","",""]
["","","","","",""]
["","","","","",""]
["","","","","",""]
["","","","","",""]
["","","","","",""]
["","","","","",""]
["","","","","",""]
["","","","","",""]
["","","","","",""]
["","","","","",""]
["","","","","",""]
["","","","","",""]
["","","","","",""]
["","","","","",""]
["","","","","",""]
["","","","","",""]
["","","","","",""]
["","","","","",""]
["","","","","",""]
["","","","","",""]
["","","","","",""]
["","","","","",""]
["","","","","",""]
["","","","","",""]
["","","","","",""]
["","","","","",""]
["","","","","",""]
["","","","","",""]
["","","","","",""]
["","","","","",""]
["","","","","",""]
["","","","","",""]
["","","","","",""]
["","","","","",""]
["","","","","",""]
["","","","","",""]
["","","","","",""]
["","","","","",""]
["","","","","",""]
["","","","","",""]
["","","","","",""]
["","","","","",""]
["","","","","",""]
["","","","","",""]
["","","","","",""]
["","","","","",""]
["","","","","",""]
["","","","","",""]
["","","","","",""]
["","","","","",""]
["","","","","",""]
["","","","","",""]
["","","","","",""]
["","","","","",""]
[{"$f":"IF(AND(ISBLANK(J2377),ISBLANK(K2377),ISBLANK(L2377),ISBLANK(M2377),ISBLANK(N2377)),\"\",CONCATENATE(TRIM(J2377), \"_\",TRIM(K2377), \"_\",TRIM(L2377), \"_\",TRIM(M2377),\"_\",TRIM(N2377)))","v":""},{"$f":"IF(AND(ISBLANK($I2377),ISBLANK($J2377),ISBLANK($K2377),ISBLANK($L2377)),\"\",CONCATENATE(TRIM($I2377),\"_\",TRIM($J2377),\"_\",TRIM($K2377),\"_\",TRIM($L2377)))","v":""},{"$f":"IF(AND(ISBLANK($O2377),ISBLANK($I2377),ISBLANK($J2377),ISBLANK($K2377),ISBLANK($L2377)),\"\",IF(O2377=\"Yes\",CONCATENATE(TRIM($I2377),\"_\",TRIM($J2377),\"_\",TRIM($K2377),\"_\",TRIM($L2377)),\"\"))","v":""},{"$f":"IF(AND(ISBLANK(G2377),ISBLANK(H2377)),\"\",CONCATENATE(TRIM(G2377),\"_\",TRIM(H2377),\"_\",TRIM(B2377)))","v":""},{"$f":"IF(AND(ISBLANK(J2377),ISBLANK(K2377),ISBLANK(L2377)),\"\",CONCATENATE(TRIM(J2377),\" \",TRIM(K2377),\" \",TRIM(L2377)))","v":""},""]
["","","","","",{"$f":"IF(O2378=\"Yes\",1,IF(ISBLANK(O2378),\"\",0))","v":""}]
["","","","","",""]
["","","","","",""]
["","","","","",""]
["","","","","",""]
["","","","","",""]
["","","","","",""]
["","","","","",""]
["","","","","",""]
["","","","","",""]
["","","","","",""]
["","","","","",""]
["","","","","",""]
["","","","","",""]
["","","","","",""]
["","","","","",""]
["","","","","",""]
["","","","","",""]
["","","","","",""]
["","","","","",""]
["","","","","",""]
["","","","","",""]
["","","","","",""]
["","","","","",""]
["","","","","",""]
["","","","","",""]
["","","","","",""]
["","","","","",""]
["","","","","",""]
["","","","","",""]
["","","","","",""]
["","","","","",""]
["","","","","",""]
["","","","","",""]
["","","","","",""]
["","","","","",""]
["","","","","",""]
["","","","","",""]
["","","","","",""]
["","","","","",""]
["","","","","",""]
["","","","","",""]
["","","","","",""]
["","","","","",""]
["","","","","",""]
["","","","","",""]
["","","","","",""]
["","","","","",""]
["","","","","",""]
["","","","","",""]
["","","","","",""]
["","","","","",""]
["","","","","",""]
["","","","","",""]
["","","","","",""]
["","","","","",""]
["","","","","",""]
["","","","","",""]
["","","","","",""]
["","","","","",""]
["","","","","",""]
["","","","","",""]
["","","","","",""]
[{"$f":"IF(AND(ISBLANK(J2441),ISBLANK(K2441),ISBLANK(L2441),ISBLANK(M2441),ISBLANK(N2441)),\"\",CONCATENATE(TRIM(J2441), \"_\",TRIM(K2441), \"_\",TRIM(L2441), \"_\",TRIM(M2441),\"_\",TRIM(N2441)))","v":""},{"$f":"IF(AND(ISBLANK($I2441),ISBLANK($J2441),ISBLANK($K2441),ISBLANK($L2441)),\"\",CONCATENATE(TRIM($I2441),\"_\",TRIM($J2441),\"_\",TRIM($K2441),\"_\",TRIM($L2441)))","v":""},{"$f":"IF(AND(ISBLANK($O2441),ISBLANK($I2441),ISBLANK($J2441),ISBLANK($K2441),ISBLANK($L2441)),\"\",IF(O2441=\"Yes\",CONCATENATE(TRIM($I2441),\"_\",TRIM($J2441),\"_\",TRIM($K2441),\"_\",TRIM($L2441)),\"\"))","v":""},{"$f":"IF(AND(ISBLANK(G2441),ISBLANK(H2441)),\"\",CONCATENATE(TRIM(G2441),\"_\",TRIM(H2441),\"_\",TRIM(B2441)))","v":""},{"$f":"IF(AND(ISBLANK(J2441),ISBLANK(K2441),ISBLANK(L2441)),\"\",CONCATENATE(TRIM(J2441),\" \",TRIM(K2441),\" \",TRIM(L2441)))","v":""},""]
["","","","","",{"$f":"IF(O2442=\"Yes\",1,IF(ISBLANK(O2442),\"\",0))","v":""}]
["","","","","",""]
["","","","","",""]
["","","","","",""]
["","","","","",""]
["","","","","",""]
["","","","","",""]
["","","","","",""]
["","","","","",""]
["","","","","",""]
["","","","","",""]
["","","","","",""]
["","","","","",""]
["","","","","",""]
["","","","","",""]
["","","","","",""]
["","","","","",""]
["","","","","",""]
["","","","","",""]
["","","","","",""]
["","","","","",""]
["","","","","",""]
["","","","","",""]
["","","","","",""]
["","","","","",""]
["","","","","",""]
["","","","","",""]
["","","","","",""]
["","","","","",""]
["","","","","",""]
["","","","","",""]
["","","","","",""]
["","","","","",""]
["","","","","",""]
["","","","","",""]
["","","","","",""]
["","","","","",""]
["","","","","",""]
["","","","","",""]
["","","","","",""]
["","","","","",""]
["","","","","",""]
["","","","","",""]
["","","","","",""]
["","","","","",""]
["","","","","",""]
["","","","","",""]
["","","","","",""]
["","","","","",""]
["","","","","",""]
["","","","","",""]
["","","","","",""]
["","","","","",""]
["","","","","",""]
["","","","","",""]
["","","","","",""]
["","","","","",""]
["","","","","",""]
["","","","","",""]
["","","","","",""]
["","","","","",""]
["","","","","",""]
["","","","","",""]
[{"$f":"IF(AND(ISBLANK(J2505),ISBLANK(K2505),ISBLANK(L2505),ISBLANK(M2505),ISBLANK(N2505)),\"\",CONCATENATE(TRIM(J2505), \"_\",TRIM(K2505), \"_\",TRIM(L2505), \"_\",TRIM(M2505),\"_\",TRIM(N2505)))","v":""},{"$f":"IF(AND(ISBLANK($I2505),ISBLANK($J2505),ISBLANK($K2505),ISBLANK($L2505)),\"\",CONCATENATE(TRIM($I2505),\"_\",TRIM($J2505),\"_\",TRIM($K2505),\"_\",TRIM($L2505)))","v":""},{"$f":"IF(AND(ISBLANK($O2505),ISBLANK($I2505),ISBLANK($J2505),ISBLANK($K2505),ISBLANK($L2505)),\"\",IF(O2505=\"Yes\",CONCATENATE(TRIM($I2505),\"_\",TRIM($J2505),\"_\",TRIM($K2505),\"_\",TRIM($L2505)),\"\"))","v":""},{"$f":"IF(AND(ISBLANK(G2505),ISBLANK(H2505)),\"\",CONCATENATE(TRIM(G2505),\"_\",TRIM(H2505),\"_\",TRIM(B2505)))","v":""},{"$f":"IF(AND(ISBLANK(J2505),ISBLANK(K2505),ISBLANK(L2505)),\"\",CONCATENATE(TRIM(J2505),\" \",TRIM(K2505),\" \",TRIM(L2505)))","v":""},""]
["","","","","",{"$f":"IF(O2506=\"Yes\",1,IF(ISBLANK(O2506),\"\",0))","v":""}]
["","","","","",""]
["","","","","",""]
["","","","","",""]
["","","","","",""]
["","","","","",""]
["","","","","",""]
["","","","","",""]
["","","","","",""]
["","","","","",""]
["","","","","",""]
["","","","","",""]
["","","","","",""]
["","","","","",""]
["","","","","",""]
["","","","","",""]
["","","","","",""]
["","","","","",""]
["","","","","",""]
["","","","","",""]
["","","","","",""]
["","","","","",""]
["","","","","",""]
["","","","","",""]
["","","","","",""]
["","","","","",""]
["","","","","",""]
["","","","","",""]
["","","","","",""]
["","","","","",""]
["","","","","",""]
["","","","","",""]
["","","","","",""]
["","","","","",""]
["","","","","",""]
["","","","","",""]
["","","","","",""]
["","","","","",""]
["","","","","",""]
["","","","","",""]
["","","","","",""]
["","","","","",""]
["","","","","",""]
["","","","","",""]
["","","","","",""]
["","","","","",""]
["","","","","",""]
["","","","","",""]
["","","","","",""]
["","","","","",""]
["","","","","",""]
["","","","","",""]
["","","","","",""]
["","","","","",""]
["","","","","",""]
["","","","","",""]
["","","","","",""]
["","","","","",""]
["","","","","",""]
["","","","","",""]
["","","","","",""]
["","","","","",""]
["","","","","",""]
[{"$f":"IF(AND(ISBLANK(J2569),ISBLANK(K2569),ISBLANK(L2569),ISBLANK(M2569),ISBLANK(N2569)),\"\",CONCATENATE(TRIM(J2569), \"_\",TRIM(K2569), \"_\",TRIM(L2569), \"_\",TRIM(M2569),\"_\",TRIM(N2569)))","v":""},{"$f":"IF(AND(ISBLANK($I2569),ISBLANK($J2569),ISBLANK($K2569),ISBLANK($L2569)),\"\",CONCATENATE(TRIM($I2569),\"_\",TRIM($J2569),\"_\",TRIM($K2569),\"_\",TRIM($L2569)))","v":""},{"$f":"IF(AND(ISBLANK($O2569),ISBLANK($I2569),ISBLANK($J2569),ISBLANK($K2569),ISBLANK($L2569)),\"\",IF(O2569=\"Yes\",CONCATENATE(TRIM($I2569),\"_\",TRIM($J2569),\"_\",TRIM($K2569),\"_\",TRIM($L2569)),\"\"))","v":""},{"$f":"IF(AND(ISBLANK(G2569),ISBLANK(H2569)),\"\",CONCATENATE(TRIM(G2569),\"_\",TRIM(H2569),\"_\",TRIM(B2569)))","v":""},{"$f":"IF(AND(ISBLANK(J2569),ISBLANK(K2569),ISBLANK(L2569)),\"\",CONCATENATE(TRIM(J2569),\" \",TRIM(K2569),\" \",TRIM(L2569)))","v":""},""]
["","","","","",{"$f":"IF(O2570=\"Yes\",1,IF(ISBLANK(O2570),\"\",0))","v":""}]
["","","","","",""]
["","","","","",""]
["","","","","",""]
["","","","","",""]
["","","","","",""]
["","","","","",""]
["","","","","",""]
["","","","","",""]
["","","","","",""]
["","","","","",""]
["","","","","",""]
["","","","","",""]
["","","","","",""]
["","","","","",""]
["","","","","",""]
["","","","","",""]
["","","","","",""]
["","","","","",""]
["","","","","",""]
["","","","","",""]
["","","","","",""]
["","","","","",""]
["","","","","",""]
["","","","","",""]
["","","","","",""]
["","","","","",""]
["","","","","",""]
["","","","","",""]
["","","","","",""]
["","","","","",""]
["","","","","",""]
["","","","","",""]
["","","","","",""]
["","","","","",""]
["","","","","",""]
["","","","","",""]
["","","","","",""]
["","","","","",""]
["","","","","",""]
["","","","","",""]
["","","","","",""]
["","","","","",""]
["","","","","",""]
["","","","","",""]
["","","","","",""]
["","","","","",""]
["","","","","",""]
["","","","","",""]
["","","","","",""]
["","","","","",""]
["","","","","",""]
["","","","","",""]
["","","","","",""]
["","","","","",""]
["","","","","",""]
["","","","","",""]
["","","","","",""]
["","","","","",""]
["","","","","",""]
["","","","","",""]
["","","","","",""]
["","","","","",""]
[{"$f":"IF(AND(ISBLANK(J2633),ISBLANK(K2633),ISBLANK(L2633),ISBLANK(M2633),ISBLANK(N2633)),\"\",CONCATENATE(TRIM(J2633), \"_\",TRIM(K2633), \"_\",TRIM(L2633), \"_\",TRIM(M2633),\"_\",TRIM(N2633)))","v":""},{"$f":"IF(AND(ISBLANK($I2633),ISBLANK($J2633),ISBLANK($K2633),ISBLANK($L2633)),\"\",CONCATENATE(TRIM($I2633),\"_\",TRIM($J2633),\"_\",TRIM($K2633),\"_\",TRIM($L2633)))","v":""},{"$f":"IF(AND(ISBLANK($O2633),ISBLANK($I2633),ISBLANK($J2633),ISBLANK($K2633),ISBLANK($L2633)),\"\",IF(O2633=\"Yes\",CONCATENATE(TRIM($I2633),\"_\",TRIM($J2633),\"_\",TRIM($K2633),\"_\",TRIM($L2633)),\"\"))","v":""},{"$f":"IF(AND(ISBLANK(G2633),ISBLANK(H2633)),\"\",CONCATENATE(TRIM(G2633),\"_\",TRIM(H2633),\"_\",TRIM(B2633)))","v":""},{"$f":"IF(AND(ISBLANK(J2633),ISBLANK(K2633),ISBLANK(L2633)),\"\",CONCATENATE(TRIM(J2633),\" \",TRIM(K2633),\" \",TRIM(L2633)))","v":""},""]
["","","","","",{"$f":"IF(O2634=\"Yes\",1,IF(ISBLANK(O2634),\"\",0))","v":""}]
["","","","","",""]
["","","","","",""]
["","","","","",""]
["","","","","",""]
["","","","","",""]
["","","","","",""]
["","","","","",""]
["","","","","",""]
["","","","","",""]
["","","","","",""]
["","","","","",""]
["","","","","",""]
["","","","","",""]
["","","","","",""]
["","","","","",""]
["","","","","",""]
["","","","","",""]
["","","","","",""]
["","","","","",""]
["","","","","",""]
["","","","","",""]
["","","","","",""]
["","","","","",""]
["","","","","",""]
["","","","","",""]
["","","","","",""]
["","","","","",""]
["","","","","",""]
["","","","","",""]
["","","","","",""]
["","","","","",""]
["","","","","",""]
["","","","","",""]
["","","","","",""]
["","","","","",""]
["","","","","",""]
["","","","","",""]
["","","","","",""]
["","","","","",""]
["","","","","",""]
["","","","","",""]
["","","","","",""]
["","","","","",""]
["","","","","",""]
["","","","","",""]
["","","","","",""]
["","","","","",""]
["","","","","",""]
["","","","","",""]
["","","","","",""]
["","","","","",""]
["","","","","",""]
["","","","","",""]
["","","","","",""]
["","","","","",""]
["","","","","",""]
["","","","","",""]
["","","","","",""]
["","","","","",""]
["","","","","",""]
["","","","","",""]
["","","","","",""]
[{"$f":"IF(AND(ISBLANK(J2697),ISBLANK(K2697),ISBLANK(L2697),ISBLANK(M2697),ISBLANK(N2697)),\"\",CONCATENATE(TRIM(J2697), \"_\",TRIM(K2697), \"_\",TRIM(L2697), \"_\",TRIM(M2697),\"_\",TRIM(N2697)))","v":""},{"$f":"IF(AND(ISBLANK($I2697),ISBLANK($J2697),ISBLANK($K2697),ISBLANK($L2697)),\"\",CONCATENATE(TRIM($I2697),\"_\",TRIM($J2697),\"_\",TRIM($K2697),\"_\",TRIM($L2697)))","v":""},{"$f":"IF(AND(ISBLANK($O2697),ISBLANK($I2697),ISBLANK($J2697),ISBLANK($K2697),ISBLANK($L2697)),\"\",IF(O2697=\"Yes\",CONCATENATE(TRIM($I2697),\"_\",TRIM($J2697),\"_\",TRIM($K2697),\"_\",TRIM($L2697)),\"\"))","v":""},{"$f":"IF(AND(ISBLANK(G2697),ISBLANK(H2697)),\"\",CONCATENATE(TRIM(G2697),\"_\",TRIM(H2697),\"_\",TRIM(B2697)))","v":""},{"$f":"IF(AND(ISBLANK(J2697),ISBLANK(K2697),ISBLANK(L2697)),\"\",CONCATENATE(TRIM(J2697),\" \",TRIM(K2697),\" \",TRIM(L2697)))","v":""},""]
["","","","","",{"$f":"IF(O2698=\"Yes\",1,IF(ISBLANK(O2698),\"\",0))","v":""}]
["","","","","",""]
["","","","","",""]
["","","","","",""]
["","","","","",""]
["","","","","",""]
["","","","","",""]
["","","","","",""]
["","","","","",""]
["","","","","",""]
["","","","","",""]
["","","","","",""]
["","","","","",""]
["","","","","",""]
["","","","","",""]
["","","","","",""]
["","","","","",""]
["","","","","",""]
["","","","","",""]
["","","","","",""]
["","","","","",""]
["","","","","",""]
["","","","","",""]
["","","","","",""]
["","","","","",""]
["","","","","",""]
["","","","","",""]
["","","","","",""]
["","","","","",""]
["","","","","",""]
["","","","","",""]
["","","","","",""]
["","","","","",""]
["","","","","",""]
["","","","","",""]
["","","","","",""]
["","","","","",""]
["","","","","",""]
["","","","","",""]
["","","","","",""]
["","","","","",""]
["","","","","",""]
["","","","","",""]
["","","","","",""]
["","","","","",""]
["","","","","",""]
["","","","","",""]
["","","","","",""]
["","","","","",""]
["","","","","",""]
["","","","","",""]
["","","","","",""]
["","","","","",""]
["","","","","",""]
["","","","","",""]
["","","","","",""]
["","","","","",""]
["","","","","",""]
["","","","","",""]
["","","","","",""]
["","","","","",""]
["","","","","",""]
["","","","","",""]
[{"$f":"IF(AND(ISBLANK(J2761),ISBLANK(K2761),ISBLANK(L2761),ISBLANK(M2761),ISBLANK(N2761)),\"\",CONCATENATE(TRIM(J2761), \"_\",TRIM(K2761), \"_\",TRIM(L2761), \"_\",TRIM(M2761),\"_\",TRIM(N2761)))","v":""},{"$f":"IF(AND(ISBLANK($I2761),ISBLANK($J2761),ISBLANK($K2761),ISBLANK($L2761)),\"\",CONCATENATE(TRIM($I2761),\"_\",TRIM($J2761),\"_\",TRIM($K2761),\"_\",TRIM($L2761)))","v":""},{"$f":"IF(AND(ISBLANK($O2761),ISBLANK($I2761),ISBLANK($J2761),ISBLANK($K2761),ISBLANK($L2761)),\"\",IF(O2761=\"Yes\",CONCATENATE(TRIM($I2761),\"_\",TRIM($J2761),\"_\",TRIM($K2761),\"_\",TRIM($L2761)),\"\"))","v":""},{"$f":"IF(AND(ISBLANK(G2761),ISBLANK(H2761)),\"\",CONCATENATE(TRIM(G2761),\"_\",TRIM(H2761),\"_\",TRIM(B2761)))","v":""},{"$f":"IF(AND(ISBLANK(J2761),ISBLANK(K2761),ISBLANK(L2761)),\"\",CONCATENATE(TRIM(J2761),\" \",TRIM(K2761),\" \",TRIM(L2761)))","v":""},""]
["","","","","",{"$f":"IF(O2762=\"Yes\",1,IF(ISBLANK(O2762),\"\",0))","v":""}]
["","","","","",""]
["","","","","",""]
["","","","","",""]
["","","","","",""]
["","","","","",""]
["","","","","",""]
["","","","","",""]
["","","","","",""]
["","","","","",""]
["","","","","",""]
["","","","","",""]
["","","","","",""]
["","","","","",""]
["","","","","",""]
["","","","","",""]
["","","","","",""]
["","","","","",""]
["","","","","",""]
["","","","","",""]
["","","","","",""]
["","","","","",""]
["","","","","",""]
["","","","","",""]
["","","","","",""]
["","","","","",""]
["","","","","",""]
["","","","","",""]
["","","","","",""]
["","","","","",""]
["","","","","",""]
["","","","","",""]
["","","","","",""]
["","","","","",""]
["","","","","",""]
["","","","","",""]
["","","","","",""]
["","","","","",""]
["","","","","",""]
["","","","","",""]
["","","","","",""]
["","","","","",""]
["","","","","",""]
["","","","","",""]
["","","","","",""]
["","","","","",""]
["","","","","",""]
["","","","","",""]
["","","","","",""]
["","","","","",""]
["","","","","",""]
["","","","","",""]
["","","","","",""]
["","","","","",""]
["","","","","",""]
["","","","","",""]
["","","","","",""]
["","","","","",""]
["","","","","",""]
["","","","","",""]
["","","","","",""]
["","","","","",""]
["","","","","",""]
[{"$f":"IF(AND(ISBLANK(J2825),ISBLANK(K2825),ISBLANK(L2825),ISBLANK(M2825),ISBLANK(N2825)),\"\",CONCATENATE(TRIM(J2825), \"_\",TRIM(K2825), \"_\",TRIM(L2825), \"_\",TRIM(M2825),\"_\",TRIM(N2825)))","v":""},{"$f":"IF(AND(ISBLANK($I2825),ISBLANK($J2825),ISBLANK($K2825),ISBLANK($L2825)),\"\",CONCATENATE(TRIM($I2825),\"_\",TRIM($J2825),\"_\",TRIM($K2825),\"_\",TRIM($L2825)))","v":""},{"$f":"IF(AND(ISBLANK($O2825),ISBLANK($I2825),ISBLANK($J2825),ISBLANK($K2825),ISBLANK($L2825)),\"\",IF(O2825=\"Yes\",CONCATENATE(TRIM($I2825),\"_\",TRIM($J2825),\"_\",TRIM($K2825),\"_\",TRIM($L2825)),\"\"))","v":""},{"$f":"IF(AND(ISBLANK(G2825),ISBLANK(H2825)),\"\",CONCATENATE(TRIM(G2825),\"_\",TRIM(H2825),\"_\",TRIM(B2825)))","v":""},{"$f":"IF(AND(ISBLANK(J2825),ISBLANK(K2825),ISBLANK(L2825)),\"\",CONCATENATE(TRIM(J2825),\" \",TRIM(K2825),\" \",TRIM(L2825)))","v":""},""]
["","","","","",{"$f":"IF(O2826=\"Yes\",1,IF(ISBLANK(O2826),\"\",0))","v":""}]
["","","","","",""]
["","","","","",""]
["","","","","",""]
["","","","","",""]
["","","","","",""]
["","","","","",""]
["","","","","",""]
["","","","","",""]
["","","","","",""]
["","","","","",""]
["","","","","",""]
["","","","","",""]
["","","","","",""]
["","","","","",""]
["","","","","",""]
["","","","","",""]
["","","","","",""]
["","","","","",""]
["","","","","",""]
["","","","","",""]
["","","","","",""]
["","","","","",""]
["","","","","",""]
["","","","","",""]
["","","","","",""]
["","","","","",""]
["","","","","",""]
["","","","","",""]
["","","","","",""]
["","","","","",""]
["","","","","",""]
["","","","","",""]
["","","","","",""]
["","","","","",""]
["","","","","",""]
["","","","","",""]
["","","","","",""]
["","","","","",""]
["","","","","",""]
["","","","","",""]
["","","","","",""]
["","","","","",""]
["","","","","",""]
["","","","","",""]
["","","","","",""]
["","","","","",""]
["","","","","",""]
["","","","","",""]
["","","","","",""]
["","","","","",""]
["","","","","",""]
["","","","","",""]
["","","","","",""]
["","","","","",""]
["","","","","",""]
["","","","","",""]
["","","","","",""]
["","","","","",""]
["","","","","",""]
["","","","","",""]
["","","","","",""]
["","","","","",""]
[{"$f":"IF(AND(ISBLANK(J2889),ISBLANK(K2889),ISBLANK(L2889),ISBLANK(M2889),ISBLANK(N2889)),\"\",CONCATENATE(TRIM(J2889), \"_\",TRIM(K2889), \"_\",TRIM(L2889), \"_\",TRIM(M2889),\"_\",TRIM(N2889)))","v":""},{"$f":"IF(AND(ISBLANK($I2889),ISBLANK($J2889),ISBLANK($K2889),ISBLANK($L2889)),\"\",CONCATENATE(TRIM($I2889),\"_\",TRIM($J2889),\"_\",TRIM($K2889),\"_\",TRIM($L2889)))","v":""},{"$f":"IF(AND(ISBLANK($O2889),ISBLANK($I2889),ISBLANK($J2889),ISBLANK($K2889),ISBLANK($L2889)),\"\",IF(O2889=\"Yes\",CONCATENATE(TRIM($I2889),\"_\",TRIM($J2889),\"_\",TRIM($K2889),\"_\",TRIM($L2889)),\"\"))","v":""},{"$f":"IF(AND(ISBLANK(G2889),ISBLANK(H2889)),\"\",CONCATENATE(TRIM(G2889),\"_\",TRIM(H2889),\"_\",TRIM(B2889)))","v":""},{"$f":"IF(AND(ISBLANK(J2889),ISBLANK(K2889),ISBLANK(L2889)),\"\",CONCATENATE(TRIM(J2889),\" \",TRIM(K2889),\" \",TRIM(L2889)))","v":""},""]
["","","","","",{"$f":"IF(O2890=\"Yes\",1,IF(ISBLANK(O2890),\"\",0))","v":""}]
["","","","","",""]
["","","","","",""]
["","","","","",""]
["","","","","",""]
["","","","","",""]
["","","","","",""]
["","","","","",""]
["","","","","",""]
["","","","","",""]
["","","","","",""]
["","","","","",""]
["","","","","",""]
["","","","","",""]
["","","","","",""]
["","","","","",""]
["","","","","",""]
["","","","","",""]
["","","","","",""]
["","","","","",""]
["","","","","",""]
["","","","","",""]
["","","","","",""]
["","","","","",""]
["","","","","",""]
["","","","","",""]
["","","","","",""]
["","","","","",""]
["","","","","",""]
["","","","","",""]
["","","","","",""]
["","","","","",""]
["","","","","",""]
["","","","","",""]
["","","","","",""]
["","","","","",""]
["","","","","",""]
["","","","","",""]
["","","","","",""]
["","","","","",""]
["","","","","",""]
["","","","","",""]
["","","","","",""]
["","","","","",""]
["","","","","",""]
["","","","","",""]
["","","","","",""]
["","","","","",""]
["","","","","",""]
["","","","","",""]
["","","","","",""]
["","","","","",""]
["","","","","",""]
["","","","","",""]
["","","","","",""]
["","","","","",""]
["","","","","",""]
["","","","","",""]
["","","","","",""]
["","","","","",""]
["","","","","",""]
["","","","","",""]
["","","","","",""]
[{"$f":"IF(AND(ISBLANK(J2953),ISBLANK(K2953),ISBLANK(L2953),ISBLANK(M2953),ISBLANK(N2953)),\"\",CONCATENATE(TRIM(J2953), \"_\",TRIM(K2953), \"_\",TRIM(L2953), \"_\",TRIM(M2953),\"_\",TRIM(N2953)))","v":""},{"$f":"IF(AND(ISBLANK($I2953),ISBLANK($J2953),ISBLANK($K2953),ISBLANK($L2953)),\"\",CONCATENATE(TRIM($I2953),\"_\",TRIM($J2953),\"_\",TRIM($K2953),\"_\",TRIM($L2953)))","v":""},{"$f":"IF(AND(ISBLANK($O2953),ISBLANK($I2953),ISBLANK($J2953),ISBLANK($K2953),ISBLANK($L2953)),\"\",IF(O2953=\"Yes\",CONCATENATE(TRIM($I2953),\"_\",TRIM($J2953),\"_\",TRIM($K2953),\"_\",TRIM($L2953)),\"\"))","v":""},{"$f":"IF(AND(ISBLANK(G2953),ISBLANK(H2953)),\"\",CONCATENATE(TRIM(G2953),\"_\",TRIM(H2953),\"_\",TRIM(B2953)))","v":""},{"$f":"IF(AND(ISBLANK(J2953),ISBLANK(K2953),ISBLANK(L2953)),\"\",CONCATENATE(TRIM(J2953),\" \",TRIM(K2953),\" \",TRIM(L2953)))","v":""},""]
["","","","","",{"$f":"IF(O2954=\"Yes\",1,IF(ISBLANK(O2954),\"\",0))","v":""}]
["","","","","",""]
["","","","","",""]
["","","","","",""]
["","","","","",""]
["","","","","",""]
["","","","","",""]
["","","","","",""]
["","","","","",""]
["","","","","",""]
["","","","","",""]
["","","","","",""]
["","","","","",""]
["","","","","",""]
["","","","","",""]
["","","","","",""]
["","","","","",""]
["","","","","",""]
["","","","","",""]
["","","","","",""]
["","","","","",""]
["","","","","",""]
["","","","","",""]
["","","","","",""]
["","","","","",""]
["","","","","",""]
["","","","","",""]
["","","","","",""]
["","","","","",""]
["","","","","",""]
["","","","","",""]
["","","","","",""]
["","","","","",""]
["","","","","",""]
["","","","","",""]
["","","","","",""]
["","","","","",""]
["","","","","",""]
["","","","","",""]
["","","","","",""]
["","","","","",""]
["","","","","",""]
["","","","","",""]
["","","","","",""]
["","","","","",""]
["","","","","",""]
["","","","","",""]
["","","","","",""]
["","","","","",""]
["","","","","",""]
["","","","","",""]
["","","","","",""]
["","","","","",""]
["","","","","",""]
["","","","","",""]
["","","","","",""]
["","","","","",""]
["","","","","",""]
["","","","","",""]
["","","","","",""]
["","","","","",""]
["","","","","",""]
["","","","","",""]
[{"$f":"IF(AND(ISBLANK(J3017),ISBLANK(K3017),ISBLANK(L3017),ISBLANK(M3017),ISBLANK(N3017)),\"\",CONCATENATE(TRIM(J3017), \"_\",TRIM(K3017), \"_\",TRIM(L3017), \"_\",TRIM(M3017),\"_\",TRIM(N3017)))","v":""},{"$f":"IF(AND(ISBLANK($I3017),ISBLANK($J3017),ISBLANK($K3017),ISBLANK($L3017)),\"\",CONCATENATE(TRIM($I3017),\"_\",TRIM($J3017),\"_\",TRIM($K3017),\"_\",TRIM($L3017)))","v":""},{"$f":"IF(AND(ISBLANK($O3017),ISBLANK($I3017),ISBLANK($J3017),ISBLANK($K3017),ISBLANK($L3017)),\"\",IF(O3017=\"Yes\",CONCATENATE(TRIM($I3017),\"_\",TRIM($J3017),\"_\",TRIM($K3017),\"_\",TRIM($L3017)),\"\"))","v":""},{"$f":"IF(AND(ISBLANK(G3017),ISBLANK(H3017)),\"\",CONCATENATE(TRIM(G3017),\"_\",TRIM(H3017),\"_\",TRIM(B3017)))","v":""},{"$f":"IF(AND(ISBLANK(J3017),ISBLANK(K3017),ISBLANK(L3017)),\"\",CONCATENATE(TRIM(J3017),\" \",TRIM(K3017),\" \",TRIM(L3017)))","v":""},""]
["","","","","",{"$f":"IF(O3018=\"Yes\",1,IF(ISBLANK(O3018),\"\",0))","v":""}]
["","","","","",""]
["","","","","",""]
["","","","","",""]
["","","","","",""]
["","","","","",""]
["","","","","",""]
["","","","","",""]
["","","","","",""]
["","","","","",""]
["","","","","",""]
["","","","","",""]
["","","","","",""]
["","","","","",""]
["","","","","",""]
["","","","","",""]
["","","","","",""]
["","","","","",""]
["","","","","",""]
["","","","","",""]
["","","","","",""]
["","","","","",""]
["","","","","",""]
["","","","","",""]
["","","","","",""]
["","","","","",""]
["","","","","",""]
["","","","","",""]
["","","","","",""]
["","","","","",""]
["","","","","",""]
["","","","","",""]
["","","","","",""]
["","","","","",""]
["","","","","",""]
["","","","","",""]
["","","","","",""]
["","","","","",""]
["","","","","",""]
["","","","","",""]
["","","","","",""]
["","","","","",""]
["","","","","",""]
["","","","","",""]
["","","","","",""]
["","","","","",""]
["","","","","",""]
["","","","","",""]
["","","","","",""]
["","","","","",""]
["","","","","",""]
["","","","","",""]
["","","","","",""]
["","","","","",""]
["","","","","",""]
["","","","","",""]
["","","","","",""]
["","","","","",""]
["","","","","",""]
["","","","","",""]
["","","","","",""]
["","","","","",""]
["","","","","",""]
[{"$f":"IF(AND(ISBLANK(J3081),ISBLANK(K3081),ISBLANK(L3081),ISBLANK(M3081),ISBLANK(N3081)),\"\",CONCATENATE(TRIM(J3081), \"_\",TRIM(K3081), \"_\",TRIM(L3081), \"_\",TRIM(M3081),\"_\",TRIM(N3081)))","v":""},{"$f":"IF(AND(ISBLANK($I3081),ISBLANK($J3081),ISBLANK($K3081),ISBLANK($L3081)),\"\",CONCATENATE(TRIM($I3081),\"_\",TRIM($J3081),\"_\",TRIM($K3081),\"_\",TRIM($L3081)))","v":""},{"$f":"IF(AND(ISBLANK($O3081),ISBLANK($I3081),ISBLANK($J3081),ISBLANK($K3081),ISBLANK($L3081)),\"\",IF(O3081=\"Yes\",CONCATENATE(TRIM($I3081),\"_\",TRIM($J3081),\"_\",TRIM($K3081),\"_\",TRIM($L3081)),\"\"))","v":""},{"$f":"IF(AND(ISBLANK(G3081),ISBLANK(H3081)),\"\",CONCATENATE(TRIM(G3081),\"_\",TRIM(H3081),\"_\",TRIM(B3081)))","v":""},{"$f":"IF(AND(ISBLANK(J3081),ISBLANK(K3081),ISBLANK(L3081)),\"\",CONCATENATE(TRIM(J3081),\" \",TRIM(K3081),\" \",TRIM(L3081)))","v":""},""]
["","","","","",{"$f":"IF(O3082=\"Yes\",1,IF(ISBLANK(O3082),\"\",0))","v":""}]
["","","","","",""]
["","","","","",""]
["","","","","",""]
["","","","","",""]
["","","","","",""]
["","","","","",""]
["","","","","",""]
["","","","","",""]
["","","","","",""]
["","","","","",""]
["","","","","",""]
["","","","","",""]
["","","","","",""]
["","","","","",""]
["","","","","",""]
["","","","","",""]
["","","","","",""]
["","","","","",""]
["","","","","",""]
["","","","","",""]
["","","","","",""]
["","","","","",""]
["","","","","",""]
["","","","","",""]
["","","","","",""]
["","","","","",""]
["","","","","",""]
["","","","","",""]
["","","","","",""]
["","","","","",""]
["","","","","",""]
["","","","","",""]
["","","","","",""]
["","","","","",""]
["","","","","",""]
["","","","","",""]
["","","","","",""]
["","","","","",""]
["","","","","",""]
["","","","","",""]
["","","","","",""]
["","","","","",""]
["","","","","",""]
["","","","","",""]
["","","","","",""]
["","","","","",""]
["","","","","",""]
["","","","","",""]
["","","","","",""]
["","","","","",""]
["","","","","",""]
["","","","","",""]
["","","","","",""]
["","","","","",""]
["","","","","",""]
["","","","","",""]
["","","","","",""]
["","","","","",""]
["","","","","",""]
["","","","","",""]
["","","","","",""]
["","","","","",""]
[{"$f":"IF(AND(ISBLANK(J3145),ISBLANK(K3145),ISBLANK(L3145),ISBLANK(M3145),ISBLANK(N3145)),\"\",CONCATENATE(TRIM(J3145), \"_\",TRIM(K3145), \"_\",TRIM(L3145), \"_\",TRIM(M3145),\"_\",TRIM(N3145)))","v":""},{"$f":"IF(AND(ISBLANK($I3145),ISBLANK($J3145),ISBLANK($K3145),ISBLANK($L3145)),\"\",CONCATENATE(TRIM($I3145),\"_\",TRIM($J3145),\"_\",TRIM($K3145),\"_\",TRIM($L3145)))","v":""},{"$f":"IF(AND(ISBLANK($O3145),ISBLANK($I3145),ISBLANK($J3145),ISBLANK($K3145),ISBLANK($L3145)),\"\",IF(O3145=\"Yes\",CONCATENATE(TRIM($I3145),\"_\",TRIM($J3145),\"_\",TRIM($K3145),\"_\",TRIM($L3145)),\"\"))","v":""},{"$f":"IF(AND(ISBLANK(G3145),ISBLANK(H3145)),\"\",CONCATENATE(TRIM(G3145),\"_\",TRIM(H3145),\"_\",TRIM(B3145)))","v":""},{"$f":"IF(AND(ISBLANK(J3145),ISBLANK(K3145),ISBLANK(L3145)),\"\",CONCATENATE(TRIM(J3145),\" \",TRIM(K3145),\" \",TRIM(L3145)))","v":""},""]
["","","","","",{"$f":"IF(O3146=\"Yes\",1,IF(ISBLANK(O3146),\"\",0))","v":""}]
["","","","","",""]
["","","","","",""]
["","","","","",""]
["","","","","",""]
["","","","","",""]
["","","","","",""]
["","","","","",""]
["","","","","",""]
["","","","","",""]
["","","","","",""]
["","","","","",""]
["","","","","",""]
["","","","","",""]
["","","","","",""]
["","","","","",""]
["","","","","",""]
["","","","","",""]
["","","","","",""]
["","","","","",""]
["","","","","",""]
["","","","","",""]
["","","","","",""]
["","","","","",""]
["","","","","",""]
["","","","","",""]
["","","","","",""]
["","","","","",""]
["","","","","",""]
["","","","","",""]
["","","","","",""]
["","","","","",""]
["","","","","",""]
["","","","","",""]
["","","","","",""]
["","","","","",""]
["","","","","",""]
["","","","","",""]
["","","","","",""]
["","","","","",""]
["","","","","",""]
["","","","","",""]
["","","","","",""]
["","","","","",""]
["","","","","",""]
["","","","","",""]
["","","","","",""]
["","","","","",""]
["","","","","",""]
["","","","","",""]
["","","","","",""]
["","","","","",""]
["","","","","",""]
["","","","","",""]
["","","","","",""]
["","","","","",""]
["","","","","",""]
["","","","","",""]
["","","","","",""]
["","","","","",""]
["","","","","",""]
["","","","","",""]
["","","","","",""]
[{"$f":"IF(AND(ISBLANK(J3209),ISBLANK(K3209),ISBLANK(L3209),ISBLANK(M3209),ISBLANK(N3209)),\"\",CONCATENATE(TRIM(J3209), \"_\",TRIM(K3209), \"_\",TRIM(L3209), \"_\",TRIM(M3209),\"_\",TRIM(N3209)))","v":""},{"$f":"IF(AND(ISBLANK($I3209),ISBLANK($J3209),ISBLANK($K3209),ISBLANK($L3209)),\"\",CONCATENATE(TRIM($I3209),\"_\",TRIM($J3209),\"_\",TRIM($K3209),\"_\",TRIM($L3209)))","v":""},{"$f":"IF(AND(ISBLANK($O3209),ISBLANK($I3209),ISBLANK($J3209),ISBLANK($K3209),ISBLANK($L3209)),\"\",IF(O3209=\"Yes\",CONCATENATE(TRIM($I3209),\"_\",TRIM($J3209),\"_\",TRIM($K3209),\"_\",TRIM($L3209)),\"\"))","v":""},{"$f":"IF(AND(ISBLANK(G3209),ISBLANK(H3209)),\"\",CONCATENATE(TRIM(G3209),\"_\",TRIM(H3209),\"_\",TRIM(B3209)))","v":""},{"$f":"IF(AND(ISBLANK(J3209),ISBLANK(K3209),ISBLANK(L3209)),\"\",CONCATENATE(TRIM(J3209),\" \",TRIM(K3209),\" \",TRIM(L3209)))","v":""},""]
["","","","","",{"$f":"IF(O3210=\"Yes\",1,IF(ISBLANK(O3210),\"\",0))","v":""}]
["","","","","",""]
["","","","","",""]
["","","","","",""]
["","","","","",""]
["","","","","",""]
["","","","","",""]
["","","","","",""]
["","","","","",""]
["","","","","",""]
["","","","","",""]
["","","","","",""]
["","","","","",""]
["","","","","",""]
["","","","","",""]
["","","","","",""]
["","","","","",""]
["","","","","",""]
["","","","","",""]
["","","","","",""]
["","","","","",""]
["","","","","",""]
["","","","","",""]
["","","","","",""]
["","","","","",""]
["","","","","",""]
["","","","","",""]
["","","","","",""]
["","","","","",""]
["","","","","",""]
["","","","","",""]
["","","","","",""]
["","","","","",""]
["","","","","",""]
["","","","","",""]
["","","","","",""]
["","","","","",""]
["","","","","",""]
["","","","","",""]
["","","","","",""]
["","","","","",""]
["","","","","",""]
["","","","","",""]
["","","","","",""]
["","","","","",""]
["","","","","",""]
["","","","","",""]
["","","","","",""]
["","","","","",""]
["","","","","",""]
["","","","","",""]
["","","","","",""]
["","","","","",""]
["","","","","",""]
["","","","","",""]
["","","","","",""]
["","","","","",""]
["","","","","",""]
["","","","","",""]
["","","","","",""]
["","","","","",""]
["","","","","",""]
["","","","","",""]
[{"$f":"IF(AND(ISBLANK(J3273),ISBLANK(K3273),ISBLANK(L3273),ISBLANK(M3273),ISBLANK(N3273)),\"\",CONCATENATE(TRIM(J3273), \"_\",TRIM(K3273), \"_\",TRIM(L3273), \"_\",TRIM(M3273),\"_\",TRIM(N3273)))","v":""},{"$f":"IF(AND(ISBLANK($I3273),ISBLANK($J3273),ISBLANK($K3273),ISBLANK($L3273)),\"\",CONCATENATE(TRIM($I3273),\"_\",TRIM($J3273),\"_\",TRIM($K3273),\"_\",TRIM($L3273)))","v":""},{"$f":"IF(AND(ISBLANK($O3273),ISBLANK($I3273),ISBLANK($J3273),ISBLANK($K3273),ISBLANK($L3273)),\"\",IF(O3273=\"Yes\",CONCATENATE(TRIM($I3273),\"_\",TRIM($J3273),\"_\",TRIM($K3273),\"_\",TRIM($L3273)),\"\"))","v":""},{"$f":"IF(AND(ISBLANK(G3273),ISBLANK(H3273)),\"\",CONCATENATE(TRIM(G3273),\"_\",TRIM(H3273),\"_\",TRIM(B3273)))","v":""},{"$f":"IF(AND(ISBLANK(J3273),ISBLANK(K3273),ISBLANK(L3273)),\"\",CONCATENATE(TRIM(J3273),\" \",TRIM(K3273),\" \",TRIM(L3273)))","v":""},""]
["","","","","",{"$f":"IF(O3274=\"Yes\",1,IF(ISBLANK(O3274),\"\",0))","v":""}]
["","","","","",""]
["","","","","",""]
["","","","","",""]
["","","","","",""]
["","","","","",""]
["","","","","",""]
["","","","","",""]
["","","","","",""]
["","","","","",""]
["","","","","",""]
["","","","","",""]
["","","","","",""]
["","","","","",""]
["","","","","",""]
["","","","","",""]
["","","","","",""]
["","","","","",""]
["","","","","",""]
["","","","","",""]
["","","","","",""]
["","","","","",""]
["","","","","",""]
["","","","","",""]
["","","","","",""]
["","","","","",""]
["","","","","",""]
["","","","","",""]
["","","","","",""]
["","","","","",""]
["","","","","",""]
["","","","","",""]
["","","","","",""]
["","","","","",""]
["","","","","",""]
["","","","","",""]
["","","","","",""]
["","","","","",""]
["","","","","",""]
["","","","","",""]
["","","","","",""]
["","","","","",""]
["","","","","",""]
["","","","","",""]
["","","","","",""]
["","","","","",""]
["","","","","",""]
["","","","","",""]
["","","","","",""]
["","","","","",""]
["","","","","",""]
["","","","","",""]
["","","","","",""]
["","","","","",""]
["","","","","",""]
["","","","","",""]
["","","","","",""]
["","","","","",""]
["","","","","",""]
["","","","","",""]
["","","","","",""]
["","","","","",""]
["","","","","",""]
[{"$f":"IF(AND(ISBLANK(J3337),ISBLANK(K3337),ISBLANK(L3337),ISBLANK(M3337),ISBLANK(N3337)),\"\",CONCATENATE(TRIM(J3337), \"_\",TRIM(K3337), \"_\",TRIM(L3337), \"_\",TRIM(M3337),\"_\",TRIM(N3337)))","v":""},{"$f":"IF(AND(ISBLANK($I3337),ISBLANK($J3337),ISBLANK($K3337),ISBLANK($L3337)),\"\",CONCATENATE(TRIM($I3337),\"_\",TRIM($J3337),\"_\",TRIM($K3337),\"_\",TRIM($L3337)))","v":""},{"$f":"IF(AND(ISBLANK($O3337),ISBLANK($I3337),ISBLANK($J3337),ISBLANK($K3337),ISBLANK($L3337)),\"\",IF(O3337=\"Yes\",CONCATENATE(TRIM($I3337),\"_\",TRIM($J3337),\"_\",TRIM($K3337),\"_\",TRIM($L3337)),\"\"))","v":""},{"$f":"IF(AND(ISBLANK(G3337),ISBLANK(H3337)),\"\",CONCATENATE(TRIM(G3337),\"_\",TRIM(H3337),\"_\",TRIM(B3337)))","v":""},{"$f":"IF(AND(ISBLANK(J3337),ISBLANK(K3337),ISBLANK(L3337)),\"\",CONCATENATE(TRIM(J3337),\" \",TRIM(K3337),\" \",TRIM(L3337)))","v":""},""]
["","","","","",{"$f":"IF(O3338=\"Yes\",1,IF(ISBLANK(O3338),\"\",0))","v":""}]
["","","","","",""]
["","","","","",""]
["","","","","",""]
["","","","","",""]
["","","","","",""]
["","","","","",""]
["","","","","",""]
["","","","","",""]
["","","","","",""]
["","","","","",""]
["","","","","",""]
["","","","","",""]
["","","","","",""]
["","","","","",""]
["","","","","",""]
["","","","","",""]
["","","","","",""]
["","","","","",""]
["","","","","",""]
["","","","","",""]
["","","","","",""]
["","","","","",""]
["","","","","",""]
["","","","","",""]
["","","","","",""]
["","","","","",""]
["","","","","",""]
["","","","","",""]
["","","","","",""]
["","","","","",""]
["","","","","",""]
["","","","","",""]
["","","","","",""]
["","","","","",""]
["","","","","",""]
["","","","","",""]
["","","","","",""]
["","","","","",""]
["","","","","",""]
["","","","","",""]
["","","","","",""]
["","","","","",""]
["","","","","",""]
["","","","","",""]
["","","","","",""]
["","","","","",""]
["","","","","",""]
["","","","","",""]
["","","","","",""]
["","","","","",""]
["","","","","",""]
["","","","","",""]
["","","","","",""]
["","","","","",""]
["","","","","",""]
["","","","","",""]
["","","","","",""]
["","","","","",""]
["","","","","",""]
["","","","","",""]
["","","","","",""]
["","","","","",""]
[{"$f":"IF(AND(ISBLANK(J3401),ISBLANK(K3401),ISBLANK(L3401),ISBLANK(M3401),ISBLANK(N3401)),\"\",CONCATENATE(TRIM(J3401), \"_\",TRIM(K3401), \"_\",TRIM(L3401), \"_\",TRIM(M3401),\"_\",TRIM(N3401)))","v":""},{"$f":"IF(AND(ISBLANK($I3401),ISBLANK($J3401),ISBLANK($K3401),ISBLANK($L3401)),\"\",CONCATENATE(TRIM($I3401),\"_\",TRIM($J3401),\"_\",TRIM($K3401),\"_\",TRIM($L3401)))","v":""},{"$f":"IF(AND(ISBLANK($O3401),ISBLANK($I3401),ISBLANK($J3401),ISBLANK($K3401),ISBLANK($L3401)),\"\",IF(O3401=\"Yes\",CONCATENATE(TRIM($I3401),\"_\",TRIM($J3401),\"_\",TRIM($K3401),\"_\",TRIM($L3401)),\"\"))","v":""},{"$f":"IF(AND(ISBLANK(G3401),ISBLANK(H3401)),\"\",CONCATENATE(TRIM(G3401),\"_\",TRIM(H3401),\"_\",TRIM(B3401)))","v":""},{"$f":"IF(AND(ISBLANK(J3401),ISBLANK(K3401),ISBLANK(L3401)),\"\",CONCATENATE(TRIM(J3401),\" \",TRIM(K3401),\" \",TRIM(L3401)))","v":""},""]
["","","","","",{"$f":"IF(O3402=\"Yes\",1,IF(ISBLANK(O3402),\"\",0))","v":""}]
["","","","","",""]
["","","","","",""]
["","","","","",""]
["","","","","",""]
["","","","","",""]
["","","","","",""]
["","","","","",""]
["","","","","",""]
["","","","","",""]
["","","","","",""]
["","","","","",""]
["","","","","",""]
["","","","","",""]
["","","","","",""]
["","","","","",""]
["","","","","",""]
["","","","","",""]
["","","","","",""]
["","","","","",""]
["","","","","",""]
["","","","","",""]
["","","","","",""]
["","","","","",""]
["","","","","",""]
["","","","","",""]
["","","","","",""]
["","","","","",""]
["","","","","",""]
["","","","","",""]
["","","","","",""]
["","","","","",""]
["","","","","",""]
["","","","","",""]
["","","","","",""]
["","","","","",""]
["","","","","",""]
["","","","","",""]
["","","","","",""]
["","","","","",""]
["","","","","",""]
["","","","","",""]
["","","","","",""]
["","","","","",""]
["","","","","",""]
["","","","","",""]
["","","","","",""]
["","","","","",""]
["","","","","",""]
["","","","","",""]
["","","","","",""]
["","","","","",""]
["","","","","",""]
["","","","","",""]
["","","","","",""]
["","","","","",""]
["","","","","",""]
["","","","","",""]
["","","","","",""]
["","","","","",""]
["","","","","",""]
["","","","","",""]
["","","","","",""]
[{"$f":"IF(AND(ISBLANK(J3465),ISBLANK(K3465),ISBLANK(L3465),ISBLANK(M3465),ISBLANK(N3465)),\"\",CONCATENATE(TRIM(J3465), \"_\",TRIM(K3465), \"_\",TRIM(L3465), \"_\",TRIM(M3465),\"_\",TRIM(N3465)))","v":""},{"$f":"IF(AND(ISBLANK($I3465),ISBLANK($J3465),ISBLANK($K3465),ISBLANK($L3465)),\"\",CONCATENATE(TRIM($I3465),\"_\",TRIM($J3465),\"_\",TRIM($K3465),\"_\",TRIM($L3465)))","v":""},{"$f":"IF(AND(ISBLANK($O3465),ISBLANK($I3465),ISBLANK($J3465),ISBLANK($K3465),ISBLANK($L3465)),\"\",IF(O3465=\"Yes\",CONCATENATE(TRIM($I3465),\"_\",TRIM($J3465),\"_\",TRIM($K3465),\"_\",TRIM($L3465)),\"\"))","v":""},{"$f":"IF(AND(ISBLANK(G3465),ISBLANK(H3465)),\"\",CONCATENATE(TRIM(G3465),\"_\",TRIM(H3465),\"_\",TRIM(B3465)))","v":""},{"$f":"IF(AND(ISBLANK(J3465),ISBLANK(K3465),ISBLANK(L3465)),\"\",CONCATENATE(TRIM(J3465),\" \",TRIM(K3465),\" \",TRIM(L3465)))","v":""},""]
["","","","","",{"$f":"IF(O3466=\"Yes\",1,IF(ISBLANK(O3466),\"\",0))","v":""}]
["","","","","",""]
["","","","","",""]
["","","","","",""]
["","","","","",""]
["","","","","",""]
["","","","","",""]
["","","","","",""]
["","","","","",""]
["","","","","",""]
["","","","","",""]
["","","","","",""]
["","","","","",""]
["","","","","",""]
["","","","","",""]
["","","","","",""]
["","","","","",""]
["","","","","",""]
["","","","","",""]
["","","","","",""]
["","","","","",""]
["","","","","",""]
["","","","","",""]
["","","","","",""]
["","","","","",""]
["","","","","",""]
["","","","","",""]
["","","","","",""]
["","","","","",""]
["","","","","",""]
["","","","","",""]
["","","","","",""]
["","","","","",""]
["","","","","",""]
["","","","","",""]
["","","","","",""]
["","","","","",""]
["","","","","",""]
["","","","","",""]
["","","","","",""]
["","","","","",""]
["","","","","",""]
["","","","","",""]
["","","","","",""]
["","","","","",""]
["","","","","",""]
["","","","","",""]
["","","","","",""]
["","","","","",""]
["","","","","",""]
["","","","","",""]
["","","","","",""]
["","","","","",""]
["","","","","",""]
["","","","","",""]
["","","","","",""]
["","","","","",""]
["","","","","",""]
["","","","","",""]
["","","","","",""]
["","","","","",""]
["","","","","",""]
["","","","","",""]
[{"$f":"IF(AND(ISBLANK(J3529),ISBLANK(K3529),ISBLANK(L3529),ISBLANK(M3529),ISBLANK(N3529)),\"\",CONCATENATE(TRIM(J3529), \"_\",TRIM(K3529), \"_\",TRIM(L3529), \"_\",TRIM(M3529),\"_\",TRIM(N3529)))","v":""},{"$f":"IF(AND(ISBLANK($I3529),ISBLANK($J3529),ISBLANK($K3529),ISBLANK($L3529)),\"\",CONCATENATE(TRIM($I3529),\"_\",TRIM($J3529),\"_\",TRIM($K3529),\"_\",TRIM($L3529)))","v":""},{"$f":"IF(AND(ISBLANK($O3529),ISBLANK($I3529),ISBLANK($J3529),ISBLANK($K3529),ISBLANK($L3529)),\"\",IF(O3529=\"Yes\",CONCATENATE(TRIM($I3529),\"_\",TRIM($J3529),\"_\",TRIM($K3529),\"_\",TRIM($L3529)),\"\"))","v":""},{"$f":"IF(AND(ISBLANK(G3529),ISBLANK(H3529)),\"\",CONCATENATE(TRIM(G3529),\"_\",TRIM(H3529),\"_\",TRIM(B3529)))","v":""},{"$f":"IF(AND(ISBLANK(J3529),ISBLANK(K3529),ISBLANK(L3529)),\"\",CONCATENATE(TRIM(J3529),\" \",TRIM(K3529),\" \",TRIM(L3529)))","v":""},""]
["","","","","",{"$f":"IF(O3530=\"Yes\",1,IF(ISBLANK(O3530),\"\",0))","v":""}]
["","","","","",""]
["","","","","",""]
["","","","","",""]
["","","","","",""]
["","","","","",""]
["","","","","",""]
["","","","","",""]
["","","","","",""]
["","","","","",""]
["","","","","",""]
["","","","","",""]
["","","","","",""]
["","","","","",""]
["","","","","",""]
["","","","","",""]
["","","","","",""]
["","","","","",""]
["","","","","",""]
["","","","","",""]
["","","","","",""]
["","","","","",""]
["","","","","",""]
["","","","","",""]
["","","","","",""]
["","","","","",""]
["","","","","",""]
["","","","","",""]
["","","","","",""]
["","","","","",""]
["","","","","",""]
["","","","","",""]
["","","","","",""]
["","","","","",""]
["","","","","",""]
["","","","","",""]
["","","","","",""]
["","","","","",""]
["","","","","",""]
["","","","","",""]
["","","","","",""]
["","","","","",""]
["","","","","",""]
["","","","","",""]
["","","","","",""]
["","","","","",""]
["","","","","",""]
["","","","","",""]
["","","","","",""]
["","","","","",""]
["","","","","",""]
["","","","","",""]
["","","","","",""]
["","","","","",""]
["","","","","",""]
["","","","","",""]
["","","","","",""]
["","","","","",""]
["","","","","",""]
["","","","","",""]
["","","","","",""]
["","","","","",""]
["","","","","",""]
[{"$f":"IF(AND(ISBLANK(J3593),ISBLANK(K3593),ISBLANK(L3593),ISBLANK(M3593),ISBLANK(N3593)),\"\",CONCATENATE(TRIM(J3593), \"_\",TRIM(K3593), \"_\",TRIM(L3593), \"_\",TRIM(M3593),\"_\",TRIM(N3593)))","v":""},{"$f":"IF(AND(ISBLANK($I3593),ISBLANK($J3593),ISBLANK($K3593),ISBLANK($L3593)),\"\",CONCATENATE(TRIM($I3593),\"_\",TRIM($J3593),\"_\",TRIM($K3593),\"_\",TRIM($L3593)))","v":""},{"$f":"IF(AND(ISBLANK($O3593),ISBLANK($I3593),ISBLANK($J3593),ISBLANK($K3593),ISBLANK($L3593)),\"\",IF(O3593=\"Yes\",CONCATENATE(TRIM($I3593),\"_\",TRIM($J3593),\"_\",TRIM($K3593),\"_\",TRIM($L3593)),\"\"))","v":""},{"$f":"IF(AND(ISBLANK(G3593),ISBLANK(H3593)),\"\",CONCATENATE(TRIM(G3593),\"_\",TRIM(H3593),\"_\",TRIM(B3593)))","v":""},{"$f":"IF(AND(ISBLANK(J3593),ISBLANK(K3593),ISBLANK(L3593)),\"\",CONCATENATE(TRIM(J3593),\" \",TRIM(K3593),\" \",TRIM(L3593)))","v":""},""]
["","","","","",{"$f":"IF(O3594=\"Yes\",1,IF(ISBLANK(O3594),\"\",0))","v":""}]
["","","","","",""]
["","","","","",""]
["","","","","",""]
["","","","","",""]
["","","","","",""]
["","","","","",""]
["","","","","",""]
["","","","","",""]
["","","","","",""]
["","","","","",""]
["","","","","",""]
["","","","","",""]
["","","","","",""]
["","","","","",""]
["","","","","",""]
["","","","","",""]
["","","","","",""]
["","","","","",""]
["","","","","",""]
["","","","","",""]
["","","","","",""]
["","","","","",""]
["","","","","",""]
["","","","","",""]
["","","","","",""]
["","","","","",""]
["","","","","",""]
["","","","","",""]
["","","","","",""]
["","","","","",""]
["","","","","",""]
["","","","","",""]
["","","","","",""]
["","","","","",""]
["","","","","",""]
["","","","","",""]
["","","","","",""]
["","","","","",""]
["","","","","",""]
["","","","","",""]
["","","","","",""]
["","","","","",""]
["","","","","",""]
["","","","","",""]
["","","","","",""]
["","","","","",""]
["","","","","",""]
["","","","","",""]
["","","","","",""]
["","","","","",""]
["","","","","",""]
["","","","","",""]
["","","","","",""]
["","","","","",""]
["","","","","",""]
["","","","","",""]
["","","","","",""]
["","","","","",""]
["","","","","",""]
["","","","","",""]
["","","","","",""]
["","","","","",""]
[{"$f":"IF(AND(ISBLANK(J3657),ISBLANK(K3657),ISBLANK(L3657),ISBLANK(M3657),ISBLANK(N3657)),\"\",CONCATENATE(TRIM(J3657), \"_\",TRIM(K3657), \"_\",TRIM(L3657), \"_\",TRIM(M3657),\"_\",TRIM(N3657)))","v":""},{"$f":"IF(AND(ISBLANK($I3657),ISBLANK($J3657),ISBLANK($K3657),ISBLANK($L3657)),\"\",CONCATENATE(TRIM($I3657),\"_\",TRIM($J3657),\"_\",TRIM($K3657),\"_\",TRIM($L3657)))","v":""},{"$f":"IF(AND(ISBLANK($O3657),ISBLANK($I3657),ISBLANK($J3657),ISBLANK($K3657),ISBLANK($L3657)),\"\",IF(O3657=\"Yes\",CONCATENATE(TRIM($I3657),\"_\",TRIM($J3657),\"_\",TRIM($K3657),\"_\",TRIM($L3657)),\"\"))","v":""},{"$f":"IF(AND(ISBLANK(G3657),ISBLANK(H3657)),\"\",CONCATENATE(TRIM(G3657),\"_\",TRIM(H3657),\"_\",TRIM(B3657)))","v":""},{"$f":"IF(AND(ISBLANK(J3657),ISBLANK(K3657),ISBLANK(L3657)),\"\",CONCATENATE(TRIM(J3657),\" \",TRIM(K3657),\" \",TRIM(L3657)))","v":""},""]
["","","","","",{"$f":"IF(O3658=\"Yes\",1,IF(ISBLANK(O3658),\"\",0))","v":""}]
["","","","","",""]
["","","","","",""]
["","","","","",""]
["","","","","",""]
["","","","","",""]
["","","","","",""]
["","","","","",""]
["","","","","",""]
["","","","","",""]
["","","","","",""]
["","","","","",""]
["","","","","",""]
["","","","","",""]
["","","","","",""]
["","","","","",""]
["","","","","",""]
["","","","","",""]
["","","","","",""]
["","","","","",""]
["","","","","",""]
["","","","","",""]
["","","","","",""]
["","","","","",""]
["","","","","",""]
["","","","","",""]
["","","","","",""]
["","","","","",""]
["","","","","",""]
["","","","","",""]
["","","","","",""]
["","","","","",""]
["","","","","",""]
["","","","","",""]
["","","","","",""]
["","","","","",""]
["","","","","",""]
["","","","","",""]
["","","","","",""]
["","","","","",""]
["","","","","",""]
["","","","","",""]
["","","","","",""]
["","","","","",""]
["","","","","",""]
["","","","","",""]
["","","","","",""]
["","","","","",""]
["","","","","",""]
["","","","","",""]
["","","","","",""]
["","","","","",""]
["","","","","",""]
["","","","","",""]
["","","","","",""]
["","","","","",""]
["","","","","",""]
["","","","","",""]
["","","","","",""]
["","","","","",""]
["","","","","",""]
["","","","","",""]
["","","","","",""]
[{"$f":"IF(AND(ISBLANK(J3721),ISBLANK(K3721),ISBLANK(L3721),ISBLANK(M3721),ISBLANK(N3721)),\"\",CONCATENATE(TRIM(J3721), \"_\",TRIM(K3721), \"_\",TRIM(L3721), \"_\",TRIM(M3721),\"_\",TRIM(N3721)))","v":""},{"$f":"IF(AND(ISBLANK($I3721),ISBLANK($J3721),ISBLANK($K3721),ISBLANK($L3721)),\"\",CONCATENATE(TRIM($I3721),\"_\",TRIM($J3721),\"_\",TRIM($K3721),\"_\",TRIM($L3721)))","v":""},{"$f":"IF(AND(ISBLANK($O3721),ISBLANK($I3721),ISBLANK($J3721),ISBLANK($K3721),ISBLANK($L3721)),\"\",IF(O3721=\"Yes\",CONCATENATE(TRIM($I3721),\"_\",TRIM($J3721),\"_\",TRIM($K3721),\"_\",TRIM($L3721)),\"\"))","v":""},{"$f":"IF(AND(ISBLANK(G3721),ISBLANK(H3721)),\"\",CONCATENATE(TRIM(G3721),\"_\",TRIM(H3721),\"_\",TRIM(B3721)))","v":""},{"$f":"IF(AND(ISBLANK(J3721),ISBLANK(K3721),ISBLANK(L3721)),\"\",CONCATENATE(TRIM(J3721),\" \",TRIM(K3721),\" \",TRIM(L3721)))","v":""},""]
["","","","","",{"$f":"IF(O3722=\"Yes\",1,IF(ISBLANK(O3722),\"\",0))","v":""}]
["","","","","",""]
["","","","","",""]
["","","","","",""]
["","","","","",""]
["","","","","",""]
["","","","","",""]
["","","","","",""]
["","","","","",""]
["","","","","",""]
["","","","","",""]
["","","","","",""]
["","","","","",""]
["","","","","",""]
["","","","","",""]
["","","","","",""]
["","","","","",""]
["","","","","",""]
["","","","","",""]
["","","","","",""]
["","","","","",""]
["","","","","",""]
["","","","","",""]
["","","","","",""]
["","","","","",""]
["","","","","",""]
["","","","","",""]
["","","","","",""]
["","","","","",""]
["","","","","",""]
["","","","","",""]
["","","","","",""]
["","","","","",""]
["","","","","",""]
["","","","","",""]
["","","","","",""]
["","","","","",""]
["","","","","",""]
["","","","","",""]
["","","","","",""]
["","","","","",""]
["","","","","",""]
["","","","","",""]
["","","","","",""]
["","","","","",""]
["","","","","",""]
["","","","","",""]
["","","","","",""]
["","","","","",""]
["","","","","",""]
["","","","","",""]
["","","","","",""]
["","","","","",""]
["","","","","",""]
["","","","","",""]
["","","","","",""]
["","","","","",""]
["","","","","",""]
["","","","","",""]
["","","","","",""]
["","","","","",""]
["","","","","",""]
["","","","","",""]
[{"$f":"IF(AND(ISBLANK(J3785),ISBLANK(K3785),ISBLANK(L3785),ISBLANK(M3785),ISBLANK(N3785)),\"\",CONCATENATE(TRIM(J3785), \"_\",TRIM(K3785), \"_\",TRIM(L3785), \"_\",TRIM(M3785),\"_\",TRIM(N3785)))","v":""},{"$f":"IF(AND(ISBLANK($I3785),ISBLANK($J3785),ISBLANK($K3785),ISBLANK($L3785)),\"\",CONCATENATE(TRIM($I3785),\"_\",TRIM($J3785),\"_\",TRIM($K3785),\"_\",TRIM($L3785)))","v":""},{"$f":"IF(AND(ISBLANK($O3785),ISBLANK($I3785),ISBLANK($J3785),ISBLANK($K3785),ISBLANK($L3785)),\"\",IF(O3785=\"Yes\",CONCATENATE(TRIM($I3785),\"_\",TRIM($J3785),\"_\",TRIM($K3785),\"_\",TRIM($L3785)),\"\"))","v":""},{"$f":"IF(AND(ISBLANK(G3785),ISBLANK(H3785)),\"\",CONCATENATE(TRIM(G3785),\"_\",TRIM(H3785),\"_\",TRIM(B3785)))","v":""},{"$f":"IF(AND(ISBLANK(J3785),ISBLANK(K3785),ISBLANK(L3785)),\"\",CONCATENATE(TRIM(J3785),\" \",TRIM(K3785),\" \",TRIM(L3785)))","v":""},""]
["","","","","",{"$f":"IF(O3786=\"Yes\",1,IF(ISBLANK(O3786),\"\",0))","v":""}]
["","","","","",""]
["","","","","",""]
["","","","","",""]
["","","","","",""]
["","","","","",""]
["","","","","",""]
["","","","","",""]
["","","","","",""]
["","","","","",""]
["","","","","",""]
["","","","","",""]
["","","","","",""]
["","","","","",""]
["","","","","",""]
["","","","","",""]
["","","","","",""]
["","","","","",""]
["","","","","",""]
["","","","","",""]
["","","","","",""]
["","","","","",""]
["","","","","",""]
["","","","","",""]
["","","","","",""]
["","","","","",""]
["","","","","",""]
["","","","","",""]
["","","","","",""]
["","","","","",""]
["","","","","",""]
["","","","","",""]
["","","","","",""]
["","","","","",""]
["","","","","",""]
["","","","","",""]
["","","","","",""]
["","","","","",""]
["","","","","",""]
["","","","","",""]
["","","","","",""]
["","","","","",""]
["","","","","",""]
["","","","","",""]
["","","","","",""]
["","","","","",""]
["","","","","",""]
["","","","","",""]
["","","","","",""]
["","","","","",""]
["","","","","",""]
["","","","","",""]
["","","","","",""]
["","","","","",""]
["","","","","",""]
["","","","","",""]
["","","","","",""]
["","","","","",""]
["","","","","",""]
["","","","","",""]
["","","","","",""]
["","","","","",""]
["","","","","",""]
[{"$f":"IF(AND(ISBLANK(J3849),ISBLANK(K3849),ISBLANK(L3849),ISBLANK(M3849),ISBLANK(N3849)),\"\",CONCATENATE(TRIM(J3849), \"_\",TRIM(K3849), \"_\",TRIM(L3849), \"_\",TRIM(M3849),\"_\",TRIM(N3849)))","v":""},{"$f":"IF(AND(ISBLANK($I3849),ISBLANK($J3849),ISBLANK($K3849),ISBLANK($L3849)),\"\",CONCATENATE(TRIM($I3849),\"_\",TRIM($J3849),\"_\",TRIM($K3849),\"_\",TRIM($L3849)))","v":""},{"$f":"IF(AND(ISBLANK($O3849),ISBLANK($I3849),ISBLANK($J3849),ISBLANK($K3849),ISBLANK($L3849)),\"\",IF(O3849=\"Yes\",CONCATENATE(TRIM($I3849),\"_\",TRIM($J3849),\"_\",TRIM($K3849),\"_\",TRIM($L3849)),\"\"))","v":""},{"$f":"IF(AND(ISBLANK(G3849),ISBLANK(H3849)),\"\",CONCATENATE(TRIM(G3849),\"_\",TRIM(H3849),\"_\",TRIM(B3849)))","v":""},{"$f":"IF(AND(ISBLANK(J3849),ISBLANK(K3849),ISBLANK(L3849)),\"\",CONCATENATE(TRIM(J3849),\" \",TRIM(K3849),\" \",TRIM(L3849)))","v":""},""]
["","","","","",{"$f":"IF(O3850=\"Yes\",1,IF(ISBLANK(O3850),\"\",0))","v":""}]
["","","","","",""]
["","","","","",""]
["","","","","",""]
["","","","","",""]
["","","","","",""]
["","","","","",""]
["","","","","",""]
["","","","","",""]
["","","","","",""]
["","","","","",""]
["","","","","",""]
["","","","","",""]
["","","","","",""]
["","","","","",""]
["","","","","",""]
["","","","","",""]
["","","","","",""]
["","","","","",""]
["","","","","",""]
["","","","","",""]
["","","","","",""]
["","","","","",""]
["","","","","",""]
["","","","","",""]
["","","","","",""]
["","","","","",""]
["","","","","",""]
["","","","","",""]
["","","","","",""]
["","","","","",""]
["","","","","",""]
["","","","","",""]
["","","","","",""]
["","","","","",""]
["","","","","",""]
["","","","","",""]
["","","","","",""]
["","","","","",""]
["","","","","",""]
["","","","","",""]
["","","","","",""]
["","","","","",""]
["","","","","",""]
["","","","","",""]
["","","","","",""]
["","","","","",""]
["","","","","",""]
["","","","","",""]
["","","","","",""]
["","","","","",""]
["","","","","",""]
["","","","","",""]
["","","","","",""]
["","","","","",""]
["","","","","",""]
["","","","","",""]
["","","","","",""]
["","","","","",""]
["","","","","",""]
["","","","","",""]
["","","","","",""]
["","","","","",""]
[{"$f":"IF(AND(ISBLANK(J3913),ISBLANK(K3913),ISBLANK(L3913),ISBLANK(M3913),ISBLANK(N3913)),\"\",CONCATENATE(TRIM(J3913), \"_\",TRIM(K3913), \"_\",TRIM(L3913), \"_\",TRIM(M3913),\"_\",TRIM(N3913)))","v":""},{"$f":"IF(AND(ISBLANK($I3913),ISBLANK($J3913),ISBLANK($K3913),ISBLANK($L3913)),\"\",CONCATENATE(TRIM($I3913),\"_\",TRIM($J3913),\"_\",TRIM($K3913),\"_\",TRIM($L3913)))","v":""},{"$f":"IF(AND(ISBLANK($O3913),ISBLANK($I3913),ISBLANK($J3913),ISBLANK($K3913),ISBLANK($L3913)),\"\",IF(O3913=\"Yes\",CONCATENATE(TRIM($I3913),\"_\",TRIM($J3913),\"_\",TRIM($K3913),\"_\",TRIM($L3913)),\"\"))","v":""},{"$f":"IF(AND(ISBLANK(G3913),ISBLANK(H3913)),\"\",CONCATENATE(TRIM(G3913),\"_\",TRIM(H3913),\"_\",TRIM(B3913)))","v":""},{"$f":"IF(AND(ISBLANK(J3913),ISBLANK(K3913),ISBLANK(L3913)),\"\",CONCATENATE(TRIM(J3913),\" \",TRIM(K3913),\" \",TRIM(L3913)))","v":""},""]
["","","","","",{"$f":"IF(O3914=\"Yes\",1,IF(ISBLANK(O3914),\"\",0))","v":""}]
["","","","","",""]
["","","","","",""]
["","","","","",""]
["","","","","",""]
["","","","","",""]
["","","","","",""]
["","","","","",""]
["","","","","",""]
["","","","","",""]
["","","","","",""]
["","","","","",""]
["","","","","",""]
["","","","","",""]
["","","","","",""]
["","","","","",""]
["","","","","",""]
["","","","","",""]
["","","","","",""]
["","","","","",""]
["","","","","",""]
["","","","","",""]
["","","","","",""]
["","","","","",""]
["","","","","",""]
["","","","","",""]
["","","","","",""]
["","","","","",""]
["","","","","",""]
["","","","","",""]
["","","","","",""]
["","","","","",""]
["","","","","",""]
["","","","","",""]
["","","","","",""]
["","","","","",""]
["","","","","",""]
["","","","","",""]
["","","","","",""]
["","","","","",""]
["","","","","",""]
["","","","","",""]
["","","","","",""]
["","","","","",""]
["","","","","",""]
["","","","","",""]
["","","","","",""]
["","","","","",""]
["","","","","",""]
["","","","","",""]
["","","","","",""]
["","","","","",""]
["","","","","",""]
["","","","","",""]
["","","","","",""]
["","","","","",""]
["","","","","",""]
["","","","","",""]
["","","","","",""]
["","","","","",""]
["","","","","",""]
["","","","","",""]
["","","","","",""]
[{"$f":"IF(AND(ISBLANK(J3977),ISBLANK(K3977),ISBLANK(L3977),ISBLANK(M3977),ISBLANK(N3977)),\"\",CONCATENATE(TRIM(J3977), \"_\",TRIM(K3977), \"_\",TRIM(L3977), \"_\",TRIM(M3977),\"_\",TRIM(N3977)))","v":""},{"$f":"IF(AND(ISBLANK($I3977),ISBLANK($J3977),ISBLANK($K3977),ISBLANK($L3977)),\"\",CONCATENATE(TRIM($I3977),\"_\",TRIM($J3977),\"_\",TRIM($K3977),\"_\",TRIM($L3977)))","v":""},{"$f":"IF(AND(ISBLANK($O3977),ISBLANK($I3977),ISBLANK($J3977),ISBLANK($K3977),ISBLANK($L3977)),\"\",IF(O3977=\"Yes\",CONCATENATE(TRIM($I3977),\"_\",TRIM($J3977),\"_\",TRIM($K3977),\"_\",TRIM($L3977)),\"\"))","v":""},{"$f":"IF(AND(ISBLANK(G3977),ISBLANK(H3977)),\"\",CONCATENATE(TRIM(G3977),\"_\",TRIM(H3977),\"_\",TRIM(B3977)))","v":""},{"$f":"IF(AND(ISBLANK(J3977),ISBLANK(K3977),ISBLANK(L3977)),\"\",CONCATENATE(TRIM(J3977),\" \",TRIM(K3977),\" \",TRIM(L3977)))","v":""},""]
["","","","","",{"$f":"IF(O3978=\"Yes\",1,IF(ISBLANK(O3978),\"\",0))","v":""}]
["","","","","",""]
["","","","","",""]
["","","","","",""]
["","","","","",""]
["","","","","",""]
["","","","","",""]
["","","","","",""]
["","","","","",""]
["","","","","",""]
["","","","","",""]
["","","","","",""]
["","","","","",""]
["","","","","",""]
["","","","","",""]
["","","","","",""]
["","","","","",""]
["","","","","",""]
["","","","","",""]
["","","","","",""]
["","","","","",""]
["","","","","",""]
["","","","","",""]
["","","","","",""]
["","","","","",""]
["","","","","",""]
["","","","","",""]
["","","","","",""]
["","","","","",""]
["","","","","",""]
["","","","","",""]
["","","","","",""]
["","","","","",""]
["","","","","",""]
["","","","","",""]
["","","","","",""]
["","","","","",""]
["","","","","",""]
["","","","","",""]
["","","","","",""]
["","","","","",""]
["","","","","",""]
["","","","","",""]
["","","","","",""]
["","","","","",""]
["","","","","",""]
["","","","","",""]
["","","","","",""]
["","","","","",""]
["","","","","",""]
["","","","","",""]
["","","","","",""]
["","","","","",""]
["","","","","",""]
["","","","","",""]
["","","","","",""]
["","","","","",""]
["","","","","",""]
["","","","","",""]
["","","","","",""]
["","","","","",""]
["","","","","",""]
["","","","","",""]
[{"$f":"IF(AND(ISBLANK(J4041),ISBLANK(K4041),ISBLANK(L4041),ISBLANK(M4041),ISBLANK(N4041)),\"\",CONCATENATE(TRIM(J4041), \"_\",TRIM(K4041), \"_\",TRIM(L4041), \"_\",TRIM(M4041),\"_\",TRIM(N4041)))","v":""},{"$f":"IF(AND(ISBLANK($I4041),ISBLANK($J4041),ISBLANK($K4041),ISBLANK($L4041)),\"\",CONCATENATE(TRIM($I4041),\"_\",TRIM($J4041),\"_\",TRIM($K4041),\"_\",TRIM($L4041)))","v":""},{"$f":"IF(AND(ISBLANK($O4041),ISBLANK($I4041),ISBLANK($J4041),ISBLANK($K4041),ISBLANK($L4041)),\"\",IF(O4041=\"Yes\",CONCATENATE(TRIM($I4041),\"_\",TRIM($J4041),\"_\",TRIM($K4041),\"_\",TRIM($L4041)),\"\"))","v":""},{"$f":"IF(AND(ISBLANK(G4041),ISBLANK(H4041)),\"\",CONCATENATE(TRIM(G4041),\"_\",TRIM(H4041),\"_\",TRIM(B4041)))","v":""},{"$f":"IF(AND(ISBLANK(J4041),ISBLANK(K4041),ISBLANK(L4041)),\"\",CONCATENATE(TRIM(J4041),\" \",TRIM(K4041),\" \",TRIM(L4041)))","v":""},""]
["","","","","",{"$f":"IF(O4042=\"Yes\",1,IF(ISBLANK(O4042),\"\",0))","v":""}]
["","","","","",""]
["","","","","",""]
["","","","","",""]
["","","","","",""]
["","","","","",""]
["","","","","",""]
["","","","","",""]
["","","","","",""]
["","","","","",""]
["","","","","",""]
["","","","","",""]
["","","","","",""]
["","","","","",""]
["","","","","",""]
["","","","","",""]
["","","","","",""]
["","","","","",""]
["","","","","",""]
["","","","","",""]
["","","","","",""]
["","","","","",""]
["","","","","",""]
["","","","","",""]
["","","","","",""]
["","","","","",""]
["","","","","",""]
["","","","","",""]
["","","","","",""]
["","","","","",""]
["","","","","",""]
["","","","","",""]
["","","","","",""]
["","","","","",""]
["","","","","",""]
["","","","","",""]
["","","","","",""]
["","","","","",""]
["","","","","",""]
["","","","","",""]
["","","","","",""]
["","","","","",""]
["","","","","",""]
["","","","","",""]
["","","","","",""]
["","","","","",""]
["","","","","",""]
["","","","","",""]
["","","","","",""]
["","","","","",""]
["","","","","",""]
["","","","","",""]
["","","","","",""]
["","","","","",""]
["","","","","",""]
["","","","","",""]
["","","","","",""]
["","","","","",""]
["","","","","",""]
["","","","","",""]
["","","","","",""]
["","","","","",""]
["","","","","",""]
[{"$f":"IF(AND(ISBLANK(J4105),ISBLANK(K4105),ISBLANK(L4105),ISBLANK(M4105),ISBLANK(N4105)),\"\",CONCATENATE(TRIM(J4105), \"_\",TRIM(K4105), \"_\",TRIM(L4105), \"_\",TRIM(M4105),\"_\",TRIM(N4105)))","v":""},{"$f":"IF(AND(ISBLANK($I4105),ISBLANK($J4105),ISBLANK($K4105),ISBLANK($L4105)),\"\",CONCATENATE(TRIM($I4105),\"_\",TRIM($J4105),\"_\",TRIM($K4105),\"_\",TRIM($L4105)))","v":""},{"$f":"IF(AND(ISBLANK($O4105),ISBLANK($I4105),ISBLANK($J4105),ISBLANK($K4105),ISBLANK($L4105)),\"\",IF(O4105=\"Yes\",CONCATENATE(TRIM($I4105),\"_\",TRIM($J4105),\"_\",TRIM($K4105),\"_\",TRIM($L4105)),\"\"))","v":""},{"$f":"IF(AND(ISBLANK(G4105),ISBLANK(H4105)),\"\",CONCATENATE(TRIM(G4105),\"_\",TRIM(H4105),\"_\",TRIM(B4105)))","v":""},{"$f":"IF(AND(ISBLANK(J4105),ISBLANK(K4105),ISBLANK(L4105)),\"\",CONCATENATE(TRIM(J4105),\" \",TRIM(K4105),\" \",TRIM(L4105)))","v":""},""]
["","","","","",{"$f":"IF(O4106=\"Yes\",1,IF(ISBLANK(O4106),\"\",0))","v":""}]
["","","","","",""]
["","","","","",""]
["","","","","",""]
["","","","","",""]
["","","","","",""]
["","","","","",""]
["","","","","",""]
["","","","","",""]
["","","","","",""]
["","","","","",""]
["","","","","",""]
["","","","","",""]
["","","","","",""]
["","","","","",""]
["","","","","",""]
["","","","","",""]
["","","","","",""]
["","","","","",""]
["","","","","",""]
["","","","","",""]
["","","","","",""]
["","","","","",""]
["","","","","",""]
["","","","","",""]
["","","","","",""]
["","","","","",""]
["","","","","",""]
["","","","","",""]
["","","","","",""]
["","","","","",""]
["","","","","",""]
["","","","","",""]
["","","","","",""]
["","","","","",""]
["","","","","",""]
["","","","","",""]
["","","","","",""]
["","","","","",""]
["","","","","",""]
["","","","","",""]
["","","","","",""]
["","","","","",""]
["","","","","",""]
["","","","","",""]
["","","","","",""]
["","","","","",""]
["","","","","",""]
["","","","","",""]
["","","","","",""]
["","","","","",""]
["","","","","",""]
["","","","","",""]
["","","","","",""]
["","","","","",""]
["","","","","",""]
["","","","","",""]
["","","","","",""]
["","","","","",""]
["","","","","",""]
["","","","","",""]
["","","","","",""]
["","","","","",""]
[{"$f":"IF(AND(ISBLANK(J4169),ISBLANK(K4169),ISBLANK(L4169),ISBLANK(M4169),ISBLANK(N4169)),\"\",CONCATENATE(TRIM(J4169), \"_\",TRIM(K4169), \"_\",TRIM(L4169), \"_\",TRIM(M4169),\"_\",TRIM(N4169)))","v":""},{"$f":"IF(AND(ISBLANK($I4169),ISBLANK($J4169),ISBLANK($K4169),ISBLANK($L4169)),\"\",CONCATENATE(TRIM($I4169),\"_\",TRIM($J4169),\"_\",TRIM($K4169),\"_\",TRIM($L4169)))","v":""},{"$f":"IF(AND(ISBLANK($O4169),ISBLANK($I4169),ISBLANK($J4169),ISBLANK($K4169),ISBLANK($L4169)),\"\",IF(O4169=\"Yes\",CONCATENATE(TRIM($I4169),\"_\",TRIM($J4169),\"_\",TRIM($K4169),\"_\",TRIM($L4169)),\"\"))","v":""},{"$f":"IF(AND(ISBLANK(G4169),ISBLANK(H4169)),\"\",CONCATENATE(TRIM(G4169),\"_\",TRIM(H4169),\"_\",TRIM(B4169)))","v":""},{"$f":"IF(AND(ISBLANK(J4169),ISBLANK(K4169),ISBLANK(L4169)),\"\",CONCATENATE(TRIM(J4169),\" \",TRIM(K4169),\" \",TRIM(L4169)))","v":""},""]
["","","","","",{"$f":"IF(O4170=\"Yes\",1,IF(ISBLANK(O4170),\"\",0))","v":""}]
["","","","","",""]
["","","","","",""]
["","","","","",""]
["","","","","",""]
["","","","","",""]
["","","","","",""]
["","","","","",""]
["","","","","",""]
["","","","","",""]
["","","","","",""]
["","","","","",""]
["","","","","",""]
["","","","","",""]
["","","","","",""]
["","","","","",""]
["","","","","",""]
["","","","","",""]
["","","","","",""]
["","","","","",""]
["","","","","",""]
["","","","","",""]
["","","","","",""]
["","","","","",""]
["","","","","",""]
["","","","","",""]
["","","","","",""]
["","","","","",""]
["","","","","",""]
["","","","","",""]
["","","","","",""]
["","","","","",""]
["","","","","",""]
["","","","","",""]
["","","","","",""]
["","","","","",""]
["","","","","",""]
["","","","","",""]
["","","","","",""]
["","","","","",""]
["","","","","",""]
["","","","","",""]
["","","","","",""]
["","","","","",""]
["","","","","",""]
["","","","","",""]
["","","","","",""]
["","","","","",""]
["","","","","",""]
["","","","","",""]
["","","","","",""]
["","","","","",""]
["","","","","",""]
["","","","","",""]
["","","","","",""]
["","","","","",""]
["","","","","",""]
["","","","","",""]
["","","","","",""]
["","","","","",""]
["","","","","",""]
["","","","","",""]
["","","","","",""]
[{"$f":"IF(AND(ISBLANK(J4233),ISBLANK(K4233),ISBLANK(L4233),ISBLANK(M4233),ISBLANK(N4233)),\"\",CONCATENATE(TRIM(J4233), \"_\",TRIM(K4233), \"_\",TRIM(L4233), \"_\",TRIM(M4233),\"_\",TRIM(N4233)))","v":""},{"$f":"IF(AND(ISBLANK($I4233),ISBLANK($J4233),ISBLANK($K4233),ISBLANK($L4233)),\"\",CONCATENATE(TRIM($I4233),\"_\",TRIM($J4233),\"_\",TRIM($K4233),\"_\",TRIM($L4233)))","v":""},{"$f":"IF(AND(ISBLANK($O4233),ISBLANK($I4233),ISBLANK($J4233),ISBLANK($K4233),ISBLANK($L4233)),\"\",IF(O4233=\"Yes\",CONCATENATE(TRIM($I4233),\"_\",TRIM($J4233),\"_\",TRIM($K4233),\"_\",TRIM($L4233)),\"\"))","v":""},{"$f":"IF(AND(ISBLANK(G4233),ISBLANK(H4233)),\"\",CONCATENATE(TRIM(G4233),\"_\",TRIM(H4233),\"_\",TRIM(B4233)))","v":""},{"$f":"IF(AND(ISBLANK(J4233),ISBLANK(K4233),ISBLANK(L4233)),\"\",CONCATENATE(TRIM(J4233),\" \",TRIM(K4233),\" \",TRIM(L4233)))","v":""},""]
["","","","","",{"$f":"IF(O4234=\"Yes\",1,IF(ISBLANK(O4234),\"\",0))","v":""}]
["","","","","",""]
["","","","","",""]
["","","","","",""]
["","","","","",""]
["","","","","",""]
["","","","","",""]
["","","","","",""]
["","","","","",""]
["","","","","",""]
["","","","","",""]
["","","","","",""]
["","","","","",""]
["","","","","",""]
["","","","","",""]
["","","","","",""]
["","","","","",""]
["","","","","",""]
["","","","","",""]
["","","","","",""]
["","","","","",""]
["","","","","",""]
["","","","","",""]
["","","","","",""]
["","","","","",""]
["","","","","",""]
["","","","","",""]
["","","","","",""]
["","","","","",""]
["","","","","",""]
["","","","","",""]
["","","","","",""]
["","","","","",""]
["","","","","",""]
["","","","","",""]
["","","","","",""]
["","","","","",""]
["","","","","",""]
["","","","","",""]
["","","","","",""]
["","","","","",""]
["","","","","",""]
["","","","","",""]
["","","","","",""]
["","","","","",""]
["","","","","",""]
["","","","","",""]
["","","","","",""]
["","","","","",""]
["","","","","",""]
["","","","","",""]
["","","","","",""]
["","","","","",""]
["","","","","",""]
["","","","","",""]
["","","","","",""]
["","","","","",""]
["","","","","",""]
["","","","","",""]
["","","","","",""]
["","","","","",""]
["","","","","",""]
["","","","","",""]
[{"$f":"IF(AND(ISBLANK(J4297),ISBLANK(K4297),ISBLANK(L4297),ISBLANK(M4297),ISBLANK(N4297)),\"\",CONCATENATE(TRIM(J4297), \"_\",TRIM(K4297), \"_\",TRIM(L4297), \"_\",TRIM(M4297),\"_\",TRIM(N4297)))","v":""},{"$f":"IF(AND(ISBLANK($I4297),ISBLANK($J4297),ISBLANK($K4297),ISBLANK($L4297)),\"\",CONCATENATE(TRIM($I4297),\"_\",TRIM($J4297),\"_\",TRIM($K4297),\"_\",TRIM($L4297)))","v":""},{"$f":"IF(AND(ISBLANK($O4297),ISBLANK($I4297),ISBLANK($J4297),ISBLANK($K4297),ISBLANK($L4297)),\"\",IF(O4297=\"Yes\",CONCATENATE(TRIM($I4297),\"_\",TRIM($J4297),\"_\",TRIM($K4297),\"_\",TRIM($L4297)),\"\"))","v":""},{"$f":"IF(AND(ISBLANK(G4297),ISBLANK(H4297)),\"\",CONCATENATE(TRIM(G4297),\"_\",TRIM(H4297),\"_\",TRIM(B4297)))","v":""},{"$f":"IF(AND(ISBLANK(J4297),ISBLANK(K4297),ISBLANK(L4297)),\"\",CONCATENATE(TRIM(J4297),\" \",TRIM(K4297),\" \",TRIM(L4297)))","v":""},""]
["","","","","",{"$f":"IF(O4298=\"Yes\",1,IF(ISBLANK(O4298),\"\",0))","v":""}]
["","","","","",""]
["","","","","",""]
["","","","","",""]
["","","","","",""]
["","","","","",""]
["","","","","",""]
["","","","","",""]
["","","","","",""]
["","","","","",""]
["","","","","",""]
["","","","","",""]
["","","","","",""]
["","","","","",""]
["","","","","",""]
["","","","","",""]
["","","","","",""]
["","","","","",""]
["","","","","",""]
["","","","","",""]
["","","","","",""]
["","","","","",""]
["","","","","",""]
["","","","","",""]
["","","","","",""]
["","","","","",""]
["","","","","",""]
["","","","","",""]
["","","","","",""]
["","","","","",""]
["","","","","",""]
["","","","","",""]
["","","","","",""]
["","","","","",""]
["","","","","",""]
["","","","","",""]
["","","","","",""]
["","","","","",""]
["","","","","",""]
["","","","","",""]
["","","","","",""]
["","","","","",""]
["","","","","",""]
["","","","","",""]
["","","","","",""]
["","","","","",""]
["","","","","",""]
["","","","","",""]
["","","","","",""]
["","","","","",""]
["","","","","",""]
["","","","","",""]
["","","","","",""]
["","","","","",""]
["","","","","",""]
["","","","","",""]
["","","","","",""]
["","","","","",""]
["","","","","",""]
["","","","","",""]
["","","","","",""]
["","","","","",""]
["","","","","",""]
[{"$f":"IF(AND(ISBLANK(J4361),ISBLANK(K4361),ISBLANK(L4361),ISBLANK(M4361),ISBLANK(N4361)),\"\",CONCATENATE(TRIM(J4361), \"_\",TRIM(K4361), \"_\",TRIM(L4361), \"_\",TRIM(M4361),\"_\",TRIM(N4361)))","v":""},{"$f":"IF(AND(ISBLANK($I4361),ISBLANK($J4361),ISBLANK($K4361),ISBLANK($L4361)),\"\",CONCATENATE(TRIM($I4361),\"_\",TRIM($J4361),\"_\",TRIM($K4361),\"_\",TRIM($L4361)))","v":""},{"$f":"IF(AND(ISBLANK($O4361),ISBLANK($I4361),ISBLANK($J4361),ISBLANK($K4361),ISBLANK($L4361)),\"\",IF(O4361=\"Yes\",CONCATENATE(TRIM($I4361),\"_\",TRIM($J4361),\"_\",TRIM($K4361),\"_\",TRIM($L4361)),\"\"))","v":""},{"$f":"IF(AND(ISBLANK(G4361),ISBLANK(H4361)),\"\",CONCATENATE(TRIM(G4361),\"_\",TRIM(H4361),\"_\",TRIM(B4361)))","v":""},{"$f":"IF(AND(ISBLANK(J4361),ISBLANK(K4361),ISBLANK(L4361)),\"\",CONCATENATE(TRIM(J4361),\" \",TRIM(K4361),\" \",TRIM(L4361)))","v":""},""]
["","","","","",{"$f":"IF(O4362=\"Yes\",1,IF(ISBLANK(O4362),\"\",0))","v":""}]
["","","","","",""]
["","","","","",""]
["","","","","",""]
["","","","","",""]
["","","","","",""]
["","","","","",""]
["","","","","",""]
["","","","","",""]
["","","","","",""]
["","","","","",""]
["","","","","",""]
["","","","","",""]
["","","","","",""]
["","","","","",""]
["","","","","",""]
["","","","","",""]
["","","","","",""]
["","","","","",""]
["","","","","",""]
["","","","","",""]
["","","","","",""]
["","","","","",""]
["","","","","",""]
["","","","","",""]
["","","","","",""]
["","","","","",""]
["","","","","",""]
["","","","","",""]
["","","","","",""]
["","","","","",""]
["","","","","",""]
["","","","","",""]
["","","","","",""]
["","","","","",""]
["","","","","",""]
["","","","","",""]
["","","","","",""]
["","","","","",""]
["","","","","",""]
["","","","","",""]
["","","","","",""]
["","","","","",""]
["","","","","",""]
["","","","","",""]
["","","","","",""]
["","","","","",""]
["","","","","",""]
["","","","","",""]
["","","","","",""]
["","","","","",""]
["","","","","",""]
["","","","","",""]
["","","","","",""]
["","","","","",""]
["","","","","",""]
["","","","","",""]
["","","","","",""]
["","","","","",""]
["","","","","",""]
["","","","","",""]
["","","","","",""]
["","","","","",""]
[{"$f":"IF(AND(ISBLANK(J4425),ISBLANK(K4425),ISBLANK(L4425),ISBLANK(M4425),ISBLANK(N4425)),\"\",CONCATENATE(TRIM(J4425), \"_\",TRIM(K4425), \"_\",TRIM(L4425), \"_\",TRIM(M4425),\"_\",TRIM(N4425)))","v":""},{"$f":"IF(AND(ISBLANK($I4425),ISBLANK($J4425),ISBLANK($K4425),ISBLANK($L4425)),\"\",CONCATENATE(TRIM($I4425),\"_\",TRIM($J4425),\"_\",TRIM($K4425),\"_\",TRIM($L4425)))","v":""},{"$f":"IF(AND(ISBLANK($O4425),ISBLANK($I4425),ISBLANK($J4425),ISBLANK($K4425),ISBLANK($L4425)),\"\",IF(O4425=\"Yes\",CONCATENATE(TRIM($I4425),\"_\",TRIM($J4425),\"_\",TRIM($K4425),\"_\",TRIM($L4425)),\"\"))","v":""},{"$f":"IF(AND(ISBLANK(G4425),ISBLANK(H4425)),\"\",CONCATENATE(TRIM(G4425),\"_\",TRIM(H4425),\"_\",TRIM(B4425)))","v":""},{"$f":"IF(AND(ISBLANK(J4425),ISBLANK(K4425),ISBLANK(L4425)),\"\",CONCATENATE(TRIM(J4425),\" \",TRIM(K4425),\" \",TRIM(L4425)))","v":""},""]
["","","","","",{"$f":"IF(O4426=\"Yes\",1,IF(ISBLANK(O4426),\"\",0))","v":""}]
["","","","","",""]
["","","","","",""]
["","","","","",""]
["","","","","",""]
["","","","","",""]
["","","","","",""]
["","","","","",""]
["","","","","",""]
["","","","","",""]
["","","","","",""]
["","","","","",""]
["","","","","",""]
["","","","","",""]
["","","","","",""]
["","","","","",""]
["","","","","",""]
["","","","","",""]
["","","","","",""]
["","","","","",""]
["","","","","",""]
["","","","","",""]
["","","","","",""]
["","","","","",""]
["","","","","",""]
["","","","","",""]
["","","","","",""]
["","","","","",""]
["","","","","",""]
["","","","","",""]
["","","","","",""]
["","","","","",""]
["","","","","",""]
["","","","","",""]
["","","","","",""]
["","","","","",""]
["","","","","",""]
["","","","","",""]
["","","","","",""]
["","","","","",""]
["","","","","",""]
["","","","","",""]
["","","","","",""]
["","","","","",""]
["","","","","",""]
["","","","","",""]
["","","","","",""]
["","","","","",""]
["","","","","",""]
["","","","","",""]
["","","","","",""]
["","","","","",""]
["","","","","",""]
["","","","","",""]
["","","","","",""]
["","","","","",""]
["","","","","",""]
["","","","","",""]
["","","","","",""]
["","","","","",""]
["","","","","",""]
["","","","","",""]
["","","","","",""]
[{"$f":"IF(AND(ISBLANK(J4489),ISBLANK(K4489),ISBLANK(L4489),ISBLANK(M4489),ISBLANK(N4489)),\"\",CONCATENATE(TRIM(J4489), \"_\",TRIM(K4489), \"_\",TRIM(L4489), \"_\",TRIM(M4489),\"_\",TRIM(N4489)))","v":""},{"$f":"IF(AND(ISBLANK($I4489),ISBLANK($J4489),ISBLANK($K4489),ISBLANK($L4489)),\"\",CONCATENATE(TRIM($I4489),\"_\",TRIM($J4489),\"_\",TRIM($K4489),\"_\",TRIM($L4489)))","v":""},{"$f":"IF(AND(ISBLANK($O4489),ISBLANK($I4489),ISBLANK($J4489),ISBLANK($K4489),ISBLANK($L4489)),\"\",IF(O4489=\"Yes\",CONCATENATE(TRIM($I4489),\"_\",TRIM($J4489),\"_\",TRIM($K4489),\"_\",TRIM($L4489)),\"\"))","v":""},{"$f":"IF(AND(ISBLANK(G4489),ISBLANK(H4489)),\"\",CONCATENATE(TRIM(G4489),\"_\",TRIM(H4489),\"_\",TRIM(B4489)))","v":""},{"$f":"IF(AND(ISBLANK(J4489),ISBLANK(K4489),ISBLANK(L4489)),\"\",CONCATENATE(TRIM(J4489),\" \",TRIM(K4489),\" \",TRIM(L4489)))","v":""},""]
["","","","","",{"$f":"IF(O4490=\"Yes\",1,IF(ISBLANK(O4490),\"\",0))","v":""}]
["","","","","",""]
["","","","","",""]
["","","","","",""]
["","","","","",""]
["","","","","",""]
["","","","","",""]
["","","","","",""]
["","","","","",""]
["","","","","",""]
["","","","","",""]
["","","","","",""]
["","","","","",""]
["","","","","",""]
["","","","","",""]
["","","","","",""]
["","","","","",""]
["","","","","",""]
["","","","","",""]
["","","","","",""]
["","","","","",""]
["","","","","",""]
["","","","","",""]
["","","","","",""]
["","","","","",""]
["","","","","",""]
["","","","","",""]
["","","","","",""]
["","","","","",""]
["","","","","",""]
["","","","","",""]
["","","","","",""]
["","","","","",""]
["","","","","",""]
["","","","","",""]
["","","","","",""]
["","","","","",""]
["","","","","",""]
["","","","","",""]
["","","","","",""]
["","","","","",""]
["","","","","",""]
["","","","","",""]
["","","","","",""]
["","","","","",""]
["","","","","",""]
["","","","","",""]
["","","","","",""]
["","","","","",""]
["","","","","",""]
["","","","","",""]
["","","","","",""]
["","","","","",""]
["","","","","",""]
["","","","","",""]
["","","","","",""]
["","","","","",""]
["","","","","",""]
["","","","","",""]
["","","","","",""]
["","","","","",""]
["","","","","",""]
["","","","","",""]
[{"$f":"IF(AND(ISBLANK(J4553),ISBLANK(K4553),ISBLANK(L4553),ISBLANK(M4553),ISBLANK(N4553)),\"\",CONCATENATE(TRIM(J4553), \"_\",TRIM(K4553), \"_\",TRIM(L4553), \"_\",TRIM(M4553),\"_\",TRIM(N4553)))","v":""},{"$f":"IF(AND(ISBLANK($I4553),ISBLANK($J4553),ISBLANK($K4553),ISBLANK($L4553)),\"\",CONCATENATE(TRIM($I4553),\"_\",TRIM($J4553),\"_\",TRIM($K4553),\"_\",TRIM($L4553)))","v":""},{"$f":"IF(AND(ISBLANK($O4553),ISBLANK($I4553),ISBLANK($J4553),ISBLANK($K4553),ISBLANK($L4553)),\"\",IF(O4553=\"Yes\",CONCATENATE(TRIM($I4553),\"_\",TRIM($J4553),\"_\",TRIM($K4553),\"_\",TRIM($L4553)),\"\"))","v":""},{"$f":"IF(AND(ISBLANK(G4553),ISBLANK(H4553)),\"\",CONCATENATE(TRIM(G4553),\"_\",TRIM(H4553),\"_\",TRIM(B4553)))","v":""},{"$f":"IF(AND(ISBLANK(J4553),ISBLANK(K4553),ISBLANK(L4553)),\"\",CONCATENATE(TRIM(J4553),\" \",TRIM(K4553),\" \",TRIM(L4553)))","v":""},""]
["","","","","",{"$f":"IF(O4554=\"Yes\",1,IF(ISBLANK(O4554),\"\",0))","v":""}]
["","","","","",""]
["","","","","",""]
["","","","","",""]
["","","","","",""]
["","","","","",""]
["","","","","",""]
["","","","","",""]
["","","","","",""]
["","","","","",""]
["","","","","",""]
["","","","","",""]
["","","","","",""]
["","","","","",""]
["","","","","",""]
["","","","","",""]
["","","","","",""]
["","","","","",""]
["","","","","",""]
["","","","","",""]
["","","","","",""]
["","","","","",""]
["","","","","",""]
["","","","","",""]
["","","","","",""]
["","","","","",""]
["","","","","",""]
["","","","","",""]
["","","","","",""]
["","","","","",""]
["","","","","",""]
["","","","","",""]
["","","","","",""]
["","","","","",""]
["","","","","",""]
["","","","","",""]
["","","","","",""]
["","","","","",""]
["","","","","",""]
["","","","","",""]
["","","","","",""]
["","","","","",""]
["","","","","",""]
["","","","","",""]
["","","","","",""]
["","","","","",""]
["","","","","",""]
["","","","","",""]
["","","","","",""]
["","","","","",""]
["","","","","",""]
["","","","","",""]
["","","","","",""]
["","","","","",""]
["","","","","",""]
["","","","","",""]
["","","","","",""]
["","","","","",""]
["","","","","",""]
["","","","","",""]
["","","","","",""]
["","","","","",""]
["","","","","",""]
[{"$f":"IF(AND(ISBLANK(J4617),ISBLANK(K4617),ISBLANK(L4617),ISBLANK(M4617),ISBLANK(N4617)),\"\",CONCATENATE(TRIM(J4617), \"_\",TRIM(K4617), \"_\",TRIM(L4617), \"_\",TRIM(M4617),\"_\",TRIM(N4617)))","v":""},{"$f":"IF(AND(ISBLANK($I4617),ISBLANK($J4617),ISBLANK($K4617),ISBLANK($L4617)),\"\",CONCATENATE(TRIM($I4617),\"_\",TRIM($J4617),\"_\",TRIM($K4617),\"_\",TRIM($L4617)))","v":""},{"$f":"IF(AND(ISBLANK($O4617),ISBLANK($I4617),ISBLANK($J4617),ISBLANK($K4617),ISBLANK($L4617)),\"\",IF(O4617=\"Yes\",CONCATENATE(TRIM($I4617),\"_\",TRIM($J4617),\"_\",TRIM($K4617),\"_\",TRIM($L4617)),\"\"))","v":""},{"$f":"IF(AND(ISBLANK(G4617),ISBLANK(H4617)),\"\",CONCATENATE(TRIM(G4617),\"_\",TRIM(H4617),\"_\",TRIM(B4617)))","v":""},{"$f":"IF(AND(ISBLANK(J4617),ISBLANK(K4617),ISBLANK(L4617)),\"\",CONCATENATE(TRIM(J4617),\" \",TRIM(K4617),\" \",TRIM(L4617)))","v":""},""]
["","","","","",{"$f":"IF(O4618=\"Yes\",1,IF(ISBLANK(O4618),\"\",0))","v":""}]
["","","","","",""]
["","","","","",""]
["","","","","",""]
["","","","","",""]
["","","","","",""]
["","","","","",""]
["","","","","",""]
["","","","","",""]
["","","","","",""]
["","","","","",""]
["","","","","",""]
["","","","","",""]
["","","","","",""]
["","","","","",""]
["","","","","",""]
["","","","","",""]
["","","","","",""]
["","","","","",""]
["","","","","",""]
["","","","","",""]
["","","","","",""]
["","","","","",""]
["","","","","",""]
["","","","","",""]
["","","","","",""]
["","","","","",""]
["","","","","",""]
["","","","","",""]
["","","","","",""]
["","","","","",""]
["","","","","",""]
["","","","","",""]
["","","","","",""]
["","","","","",""]
["","","","","",""]
["","","","","",""]
["","","","","",""]
["","","","","",""]
["","","","","",""]
["","","","","",""]
["","","","","",""]
["","","","","",""]
["","","","","",""]
["","","","","",""]
["","","","","",""]
["","","","","",""]
["","","","","",""]
["","","","","",""]
["","","","","",""]
["","","","","",""]
["","","","","",""]
["","","","","",""]
["","","","","",""]
["","","","","",""]
["","","","","",""]
["","","","","",""]
["","","","","",""]
["","","","","",""]
["","","","","",""]
["","","","","",""]
["","","","","",""]
["","","","","",""]
[{"$f":"IF(AND(ISBLANK(J4681),ISBLANK(K4681),ISBLANK(L4681),ISBLANK(M4681),ISBLANK(N4681)),\"\",CONCATENATE(TRIM(J4681), \"_\",TRIM(K4681), \"_\",TRIM(L4681), \"_\",TRIM(M4681),\"_\",TRIM(N4681)))","v":""},{"$f":"IF(AND(ISBLANK($I4681),ISBLANK($J4681),ISBLANK($K4681),ISBLANK($L4681)),\"\",CONCATENATE(TRIM($I4681),\"_\",TRIM($J4681),\"_\",TRIM($K4681),\"_\",TRIM($L4681)))","v":""},{"$f":"IF(AND(ISBLANK($O4681),ISBLANK($I4681),ISBLANK($J4681),ISBLANK($K4681),ISBLANK($L4681)),\"\",IF(O4681=\"Yes\",CONCATENATE(TRIM($I4681),\"_\",TRIM($J4681),\"_\",TRIM($K4681),\"_\",TRIM($L4681)),\"\"))","v":""},{"$f":"IF(AND(ISBLANK(G4681),ISBLANK(H4681)),\"\",CONCATENATE(TRIM(G4681),\"_\",TRIM(H4681),\"_\",TRIM(B4681)))","v":""},{"$f":"IF(AND(ISBLANK(J4681),ISBLANK(K4681),ISBLANK(L4681)),\"\",CONCATENATE(TRIM(J4681),\" \",TRIM(K4681),\" \",TRIM(L4681)))","v":""},""]
["","","","","",{"$f":"IF(O4682=\"Yes\",1,IF(ISBLANK(O4682),\"\",0))","v":""}]
["","","","","",""]
["","","","","",""]
["","","","","",""]
["","","","","",""]
["","","","","",""]
["","","","","",""]
["","","","","",""]
["","","","","",""]
["","","","","",""]
["","","","","",""]
["","","","","",""]
["","","","","",""]
["","","","","",""]
["","","","","",""]
["","","","","",""]
["","","","","",""]
["","","","","",""]
["","","","","",""]
["","","","","",""]
["","","","","",""]
["","","","","",""]
["","","","","",""]
["","","","","",""]
["","","","","",""]
["","","","","",""]
["","","","","",""]
["","","","","",""]
["","","","","",""]
["","","","","",""]
["","","","","",""]
["","","","","",""]
["","","","","",""]
["","","","","",""]
["","","","","",""]
["","","","","",""]
["","","","","",""]
["","","","","",""]
["","","","","",""]
["","","","","",""]
["","","","","",""]
["","","","","",""]
["","","","","",""]
["","","","","",""]
["","","","","",""]
["","","","","",""]
["","","","","",""]
["","","","","",""]
["","","","","",""]
["","","","","",""]
["","","","","",""]
["","","","","",""]
["","","","","",""]
["","","","","",""]
["","","","","",""]
["","","","","",""]
["","","","","",""]
["","","","","",""]
["","","","","",""]
["","","","","",""]
["","","","","",""]
["","","","","",""]
["","","","","",""]
[{"$f":"IF(AND(ISBLANK(J4745),ISBLANK(K4745),ISBLANK(L4745),ISBLANK(M4745),ISBLANK(N4745)),\"\",CONCATENATE(TRIM(J4745), \"_\",TRIM(K4745), \"_\",TRIM(L4745), \"_\",TRIM(M4745),\"_\",TRIM(N4745)))","v":""},{"$f":"IF(AND(ISBLANK($I4745),ISBLANK($J4745),ISBLANK($K4745),ISBLANK($L4745)),\"\",CONCATENATE(TRIM($I4745),\"_\",TRIM($J4745),\"_\",TRIM($K4745),\"_\",TRIM($L4745)))","v":""},{"$f":"IF(AND(ISBLANK($O4745),ISBLANK($I4745),ISBLANK($J4745),ISBLANK($K4745),ISBLANK($L4745)),\"\",IF(O4745=\"Yes\",CONCATENATE(TRIM($I4745),\"_\",TRIM($J4745),\"_\",TRIM($K4745),\"_\",TRIM($L4745)),\"\"))","v":""},{"$f":"IF(AND(ISBLANK(G4745),ISBLANK(H4745)),\"\",CONCATENATE(TRIM(G4745),\"_\",TRIM(H4745),\"_\",TRIM(B4745)))","v":""},{"$f":"IF(AND(ISBLANK(J4745),ISBLANK(K4745),ISBLANK(L4745)),\"\",CONCATENATE(TRIM(J4745),\" \",TRIM(K4745),\" \",TRIM(L4745)))","v":""},""]
["","","","","",{"$f":"IF(O4746=\"Yes\",1,IF(ISBLANK(O4746),\"\",0))","v":""}]
["","","","","",""]
["","","","","",""]
["","","","","",""]
["","","","","",""]
["","","","","",""]
["","","","","",""]
["","","","","",""]
["","","","","",""]
["","","","","",""]
["","","","","",""]
["","","","","",""]
["","","","","",""]
["","","","","",""]
["","","","","",""]
["","","","","",""]
["","","","","",""]
["","","","","",""]
["","","","","",""]
["","","","","",""]
["","","","","",""]
["","","","","",""]
["","","","","",""]
["","","","","",""]
["","","","","",""]
["","","","","",""]
["","","","","",""]
["","","","","",""]
["","","","","",""]
["","","","","",""]
["","","","","",""]
["","","","","",""]
["","","","","",""]
["","","","","",""]
["","","","","",""]
["","","","","",""]
["","","","","",""]
["","","","","",""]
["","","","","",""]
["","","","","",""]
["","","","","",""]
["","","","","",""]
["","","","","",""]
["","","","","",""]
["","","","","",""]
["","","","","",""]
["","","","","",""]
["","","","","",""]
["","","","","",""]
["","","","","",""]
["","","","","",""]
["","","","","",""]
["","","","","",""]
["","","","","",""]
["","","","","",""]
["","","","","",""]
["","","","","",""]
["","","","","",""]
["","","","","",""]
["","","","","",""]
["","","","","",""]
["","","","","",""]
["","","","","",""]
[{"$f":"IF(AND(ISBLANK(J4809),ISBLANK(K4809),ISBLANK(L4809),ISBLANK(M4809),ISBLANK(N4809)),\"\",CONCATENATE(TRIM(J4809), \"_\",TRIM(K4809), \"_\",TRIM(L4809), \"_\",TRIM(M4809),\"_\",TRIM(N4809)))","v":""},{"$f":"IF(AND(ISBLANK($I4809),ISBLANK($J4809),ISBLANK($K4809),ISBLANK($L4809)),\"\",CONCATENATE(TRIM($I4809),\"_\",TRIM($J4809),\"_\",TRIM($K4809),\"_\",TRIM($L4809)))","v":""},{"$f":"IF(AND(ISBLANK($O4809),ISBLANK($I4809),ISBLANK($J4809),ISBLANK($K4809),ISBLANK($L4809)),\"\",IF(O4809=\"Yes\",CONCATENATE(TRIM($I4809),\"_\",TRIM($J4809),\"_\",TRIM($K4809),\"_\",TRIM($L4809)),\"\"))","v":""},{"$f":"IF(AND(ISBLANK(G4809),ISBLANK(H4809)),\"\",CONCATENATE(TRIM(G4809),\"_\",TRIM(H4809),\"_\",TRIM(B4809)))","v":""},{"$f":"IF(AND(ISBLANK(J4809),ISBLANK(K4809),ISBLANK(L4809)),\"\",CONCATENATE(TRIM(J4809),\" \",TRIM(K4809),\" \",TRIM(L4809)))","v":""},""]
["","","","","",{"$f":"IF(O4810=\"Yes\",1,IF(ISBLANK(O4810),\"\",0))","v":""}]
["","","","","",""]
["","","","","",""]
["","","","","",""]
["","","","","",""]
["","","","","",""]
["","","","","",""]
["","","","","",""]
["","","","","",""]
["","","","","",""]
["","","","","",""]
["","","","","",""]
["","","","","",""]
["","","","","",""]
["","","","","",""]
["","","","","",""]
["","","","","",""]
["","","","","",""]
["","","","","",""]
["","","","","",""]
["","","","","",""]
["","","","","",""]
["","","","","",""]
["","","","","",""]
["","","","","",""]
["","","","","",""]
["","","","","",""]
["","","","","",""]
["","","","","",""]
["","","","","",""]
["","","","","",""]
["","","","","",""]
["","","","","",""]
["","","","","",""]
["","","","","",""]
["","","","","",""]
["","","","","",""]
["","","","","",""]
["","","","","",""]
["","","","","",""]
["","","","","",""]
["","","","","",""]
["","","","","",""]
["","","","","",""]
["","","","","",""]
["","","","","",""]
["","","","","",""]
["","","","","",""]
["","","","","",""]
["","","","","",""]
["","","","","",""]
["","","","","",""]
["","","","","",""]
["","","","","",""]
["","","","","",""]
["","","","","",""]
["","","","","",""]
["","","","","",""]
["","","","","",""]
["","","","","",""]
["","","","","",""]
["","","","","",""]
["","","","","",""]
[{"$f":"IF(AND(ISBLANK(J4873),ISBLANK(K4873),ISBLANK(L4873),ISBLANK(M4873),ISBLANK(N4873)),\"\",CONCATENATE(TRIM(J4873), \"_\",TRIM(K4873), \"_\",TRIM(L4873), \"_\",TRIM(M4873),\"_\",TRIM(N4873)))","v":""},{"$f":"IF(AND(ISBLANK($I4873),ISBLANK($J4873),ISBLANK($K4873),ISBLANK($L4873)),\"\",CONCATENATE(TRIM($I4873),\"_\",TRIM($J4873),\"_\",TRIM($K4873),\"_\",TRIM($L4873)))","v":""},{"$f":"IF(AND(ISBLANK($O4873),ISBLANK($I4873),ISBLANK($J4873),ISBLANK($K4873),ISBLANK($L4873)),\"\",IF(O4873=\"Yes\",CONCATENATE(TRIM($I4873),\"_\",TRIM($J4873),\"_\",TRIM($K4873),\"_\",TRIM($L4873)),\"\"))","v":""},{"$f":"IF(AND(ISBLANK(G4873),ISBLANK(H4873)),\"\",CONCATENATE(TRIM(G4873),\"_\",TRIM(H4873),\"_\",TRIM(B4873)))","v":""},{"$f":"IF(AND(ISBLANK(J4873),ISBLANK(K4873),ISBLANK(L4873)),\"\",CONCATENATE(TRIM(J4873),\" \",TRIM(K4873),\" \",TRIM(L4873)))","v":""},""]
["","","","","",{"$f":"IF(O4874=\"Yes\",1,IF(ISBLANK(O4874),\"\",0))","v":""}]
["","","","","",""]
["","","","","",""]
["","","","","",""]
["","","","","",""]
["","","","","",""]
["","","","","",""]
["","","","","",""]
["","","","","",""]
["","","","","",""]
["","","","","",""]
["","","","","",""]
["","","","","",""]
["","","","","",""]
["","","","","",""]
["","","","","",""]
["","","","","",""]
["","","","","",""]
["","","","","",""]
["","","","","",""]
["","","","","",""]
["","","","","",""]
["","","","","",""]
["","","","","",""]
["","","","","",""]
["","","","","",""]
["","","","","",""]
["","","","","",""]
["","","","","",""]
["","","","","",""]
["","","","","",""]
["","","","","",""]
["","","","","",""]
["","","","","",""]
["","","","","",""]
["","","","","",""]
["","","","","",""]
["","","","","",""]
["","","","","",""]
["","","","","",""]
["","","","","",""]
["","","","","",""]
["","","","","",""]
["","","","","",""]
["","","","","",""]
["","","","","",""]
["","","","","",""]
["","","","","",""]
["","","","","",""]
["","","","","",""]
["","","","","",""]
["","","","","",""]
["","","","","",""]
["","","","","",""]
["","","","","",""]
["","","","","",""]
["","","","","",""]
["","","","","",""]
["","","","","",""]
["","","","","",""]
["","","","","",""]
["","","","","",""]
["","","","","",""]
[{"$f":"IF(AND(ISBLANK(J4937),ISBLANK(K4937),ISBLANK(L4937),ISBLANK(M4937),ISBLANK(N4937)),\"\",CONCATENATE(TRIM(J4937), \"_\",TRIM(K4937), \"_\",TRIM(L4937), \"_\",TRIM(M4937),\"_\",TRIM(N4937)))","v":""},{"$f":"IF(AND(ISBLANK($I4937),ISBLANK($J4937),ISBLANK($K4937),ISBLANK($L4937)),\"\",CONCATENATE(TRIM($I4937),\"_\",TRIM($J4937),\"_\",TRIM($K4937),\"_\",TRIM($L4937)))","v":""},{"$f":"IF(AND(ISBLANK($O4937),ISBLANK($I4937),ISBLANK($J4937),ISBLANK($K4937),ISBLANK($L4937)),\"\",IF(O4937=\"Yes\",CONCATENATE(TRIM($I4937),\"_\",TRIM($J4937),\"_\",TRIM($K4937),\"_\",TRIM($L4937)),\"\"))","v":""},{"$f":"IF(AND(ISBLANK(G4937),ISBLANK(H4937)),\"\",CONCATENATE(TRIM(G4937),\"_\",TRIM(H4937),\"_\",TRIM(B4937)))","v":""},{"$f":"IF(AND(ISBLANK(J4937),ISBLANK(K4937),ISBLANK(L4937)),\"\",CONCATENATE(TRIM(J4937),\" \",TRIM(K4937),\" \",TRIM(L4937)))","v":""},""]
["","","","","",{"$f":"IF(O4938=\"Yes\",1,IF(ISBLANK(O4938),\"\",0))","v":""}]
["","","","","",""]
["","","","","",""]
["","","","","",""]
["","","","","",""]
["","","","","",""]
["","","","","",""]
["","","","","",""]
["","","","","",""]
["","","","","",""]
["","","","","",""]
["","","","","",""]
["","","","","",""]
["","","","","",""]
["","","","","",""]
["","","","","",""]
["","","","","",""]
["","","","","",""]
["","","","","",""]
["","","","","",""]
["","","","","",""]
["","","","","",""]
["","","","","",""]
["","","","","",""]
["","","","","",""]
["","","","","",""]
["","","","","",""]
["","","","","",""]
["","","","","",""]
["","","","","",""]
["","","","","",""]
["","","","","",""]
["","","","","",""]
["","","","","",""]
["","","","","",""]
["","","","","",""]
["","","","","",""]
["","","","","",""]
["","","","","",""]
["","","","","",""]
["","","","","",""]
["","","","","",""]
["","","","","",""]
["","","","","",""]
["","","","","",""]
["","","","","",""]
["","","","","",""]
["","","","","",""]
["","","","","",""]
["","","","","",""]
["","","","","",""]
["","","","","",""]
["","","","","",""]
["","","","","",""]
["","","","","",""]
["","","","","",""]
["","","","","",""]
["","","","","",""]
["","","","","",""]
["","","","","",""]
["","","","","",""]
["","","","","",""]
["","","","","",""]
[{"$f":"IF(AND(ISBLANK(J5001),ISBLANK(K5001),ISBLANK(L5001),ISBLANK(M5001),ISBLANK(N5001)),\"\",CONCATENATE(TRIM(J5001), \"_\",TRIM(K5001), \"_\",TRIM(L5001), \"_\",TRIM(M5001),\"_\",TRIM(N5001)))","v":""},{"$f":"IF(AND(ISBLANK($I5001),ISBLANK($J5001),ISBLANK($K5001),ISBLANK($L5001)),\"\",CONCATENATE(TRIM($I5001),\"_\",TRIM($J5001),\"_\",TRIM($K5001),\"_\",TRIM($L5001)))","v":""},null,{"$f":"IF(AND(ISBLANK(G5001),ISBLANK(H5001)),\"\",CONCATENATE(TRIM(G5001),\"_\",TRIM(H5001),\"_\",TRIM(B5001)))","v":""},{"$f":"IF(AND(ISBLANK(J5001),ISBLANK(K5001),ISBLANK(L5001)),\"\",CONCATENATE(TRIM(J5001),\" \",TRIM(K5001),\" \",TRIM(L5001)))","v":""},""]
["","",null,"","",{"$f":"IF(O5002=\"Yes\",1,IF(ISBLANK(O5002),\"\",0))","v":""}]
["","",null,"","",{"$f":"IF(O5003=\"Yes\",1,IF(ISBLANK(O5003),\"\",0))","v":""}]
["","",null,"","",{"$f":"IF(O5004=\"Yes\",1,IF(ISBLANK(O5004),\"\",0))","v":""}]
["","",null,"","",{"$f":"IF(O5005=\"Yes\",1,IF(ISBLANK(O5005),\"\",0))","v":""}]
["","",null,"","",{"$f":"IF(O5006=\"Yes\",1,IF(ISBLANK(O5006),\"\",0))","v":""}]